View In:
ArcGIS JavaScript
ArcGIS Online Map Viewer
ArcGIS Earth
ArcMap
View Footprint In:
ArcGIS Online Map Viewer
Service Description: The lidar dataset was collected to be utilized for the creation of a digital elevation model. Other uses expected.This data represents Bullitt, Jefferson, and Oldham County, KY 2018. Cell size 5 feet.
Name: ElevationServices/Ky_DEM_LOJIC_2018_5FT
Description: The lidar dataset was collected to be utilized for the creation of a digital elevation model. Other uses expected.This data represents Bullitt, Jefferson, and Oldham County, KY 2018. Cell size 5 feet.
Single Fused Map Cache: false
Extent:
XMin: 4864456.545150314
YMin: 3817005.8347003623
XMax: 5055136.545150314
YMax: 4078685.8347003623
Spatial Reference: 102763
(3089)
LatestVCSWkid(0)
Initial Extent:
XMin: 4864456.545150314
YMin: 3817005.8347003623
XMax: 5055136.545150314
YMax: 4078685.8347003623
Spatial Reference: 102763
(3089)
LatestVCSWkid(0)
Full Extent:
XMin: 4864456.545150314
YMin: 3817005.8347003623
XMax: 5055136.545150314
YMax: 4078685.8347003623
Spatial Reference: 102763
(3089)
LatestVCSWkid(0)
Pixel Size X: 5.0
Pixel Size Y: 5.0
Band Count: 1
Pixel Type: F32
RasterFunction Infos: {"rasterFunctionInfos": [{
"name": "None",
"description": "",
"help": ""
}]}
Mensuration Capabilities: Basic
Has Histograms: true
Has Colormap: false
Has Multi Dimensions : false
Rendering Rule:
Min Scale: 0
Max Scale: 0
Copyright Text: LOJIC
Service Data Type: esriImageServiceDataTypeGeneric
Min Values: 363.13177490234375
Max Values: 987.2374877929688
Mean Values: 601.1876660388186
Standard Deviation Values: 122.60891335487686
Object ID Field:
Fields:
None
Default Mosaic Method: Center
Allowed Mosaic Methods:
SortField:
SortValue: null
Mosaic Operator: First
Default Compression Quality: 75
Default Resampling Method: Bilinear
Max Record Count: null
Max Image Height: 4100
Max Image Width: 15000
Max Download Image Count: null
Max Mosaic Image Count: null
Allow Raster Function: true
Allow Copy: null
Allow Analysis: null
Allow Compute TiePoints: false
Supports Statistics: false
Supports Advanced Queries: false
Use StandardizedQueries: true
Raster Type Infos:
Name: Raster Dataset
Description: Supports all ArcGIS Raster Datasets
Help:
Has Raster Attribute Table: false
Edit Fields Info: null
Ownership Based AccessControl For Rasters: null
Child Resources:
Info
Histograms
Key Properties
Legend
Raster Function Infos
Supported Operations:
Export Image
Identify
Measure
Compute Histograms
Compute Statistics Histograms
Get Samples
Compute Class Statistics
Query Boundary
Compute Pixel Location
Compute Angles
Validate
Project