{
 "currentVersion": 10.91,
 "serviceDescription": "The lidar dataset was collected to be utilized for the creation of a digital elevation model. Other uses expected.This data represents Bullitt, Jefferson, and Oldham County, KY 2018. Cell size 5 feet.",
 "name": "ElevationServices/Ky_DEM_LOJIC_2018_5FT",
 "description": "The lidar dataset was collected to be utilized for the creation of a digital elevation model. Other uses expected.This data represents Bullitt, Jefferson, and Oldham County, KY 2018. Cell size 5 feet.",
 "extent": {
  "xmin": 4864456.545150314,
  "ymin": 3817005.8347003623,
  "xmax": 5055136.545150314,
  "ymax": 4078685.8347003623,
  "spatialReference": {
   "wkid": 102763,
   "latestWkid": 3089
  }
 },
 "initialExtent": {
  "xmin": 4864456.545150314,
  "ymin": 3817005.8347003623,
  "xmax": 5055136.545150314,
  "ymax": 4078685.8347003623,
  "spatialReference": {
   "wkid": 102763,
   "latestWkid": 3089
  }
 },
 "fullExtent": {
  "xmin": 4864456.545150314,
  "ymin": 3817005.8347003623,
  "xmax": 5055136.545150314,
  "ymax": 4078685.8347003623,
  "spatialReference": {
   "wkid": 102763,
   "latestWkid": 3089
  }
 },
 "pixelSizeX": 5,
 "pixelSizeY": 5,
 "bandCount": 1,
 "pixelType": "F32",
 "minPixelSize": 0,
 "maxPixelSize": 0,
 "copyrightText": "LOJIC",
 "serviceDataType": "esriImageServiceDataTypeGeneric",
 "minValues": [
  363.13177490234375
 ],
 "maxValues": [
  987.2374877929688
 ],
 "meanValues": [
  601.1876660388186
 ],
 "stdvValues": [
  122.60891335487686
 ],
 "objectIdField": "",
 "fields": [],
 "capabilities": "Mensuration,Image,Metadata",
 "defaultMosaicMethod": "Center",
 "allowedMosaicMethods": "",
 "sortField": "",
 "sortValue": null,
 "sortAscending": true,
 "mosaicOperator": "First",
 "defaultCompressionQuality": 75,
 "defaultResamplingMethod": "Bilinear",
 "maxImageHeight": 4100,
 "maxImageWidth": 15000,
 "allowRasterFunction": true,
 "rasterFunctionInfos": [
  {
   "name": "None",
   "description": "",
   "help": ""
  }
 ],
 "rasterTypeInfos": [
  {
   "name": "Raster Dataset",
   "description": "Supports all ArcGIS Raster Datasets",
   "help": ""
  }
 ],
 "mensurationCapabilities": "Basic",
 "hasHistograms": true,
 "hasColormap": false,
 "hasRasterAttributeTable": false,
 "minScale": 0,
 "maxScale": 0,
 "exportTilesAllowed": false,
 "hasMultidimensions": false,
 "supportsStatistics": false,
 "supportsAdvancedQueries": false,
 "editFieldsInfo": null,
 "ownershipBasedAccessControlForRasters": null,
 "allowComputeTiePoints": false,
 "useStandardizedQueries": true,
 "advancedQueryCapabilities": {
  "useStandardizedQueries": true,
  "supportsStatistics": false,
  "supportsOrderBy": false,
  "supportsDistinct": false,
  "supportsPagination": false
 },
 "spatialReference": {
  "wkid": 102763,
  "latestWkid": 3089
 }
}
