View In:
ArcGIS JavaScript
ArcGIS Online Map Viewer
ArcGIS Earth
ArcMap
View Footprint In:
ArcGIS Online Map Viewer
Service Description: TestImageServices/Ky_DEM_KYAPED_2FT_Phase3
Name: TestImageServices/Ky_DEM_KYAPED_2FT_Phase3
Description:
Single Fused Map Cache: false
Extent:
XMin: 3915000.0
YMin: 3510000.0
XMax: 6020000.0
YMax: 4300000.0
Spatial Reference: 102763
(3089)
VCSWkid(105703)
LatestVCSWkid(6360)
Initial Extent:
XMin: 3915000.0
YMin: 3510000.0
XMax: 6020000.0
YMax: 4300000.0
Spatial Reference: 102763
(3089)
VCSWkid(105703)
LatestVCSWkid(6360)
Full Extent:
XMin: 3915000.0
YMin: 3510000.0
XMax: 6020000.0
YMax: 4300000.0
Spatial Reference: 102763
(3089)
VCSWkid(105703)
LatestVCSWkid(6360)
Pixel Size X: 2.0
Pixel Size Y: 2.0
Band Count: 1
Pixel Type: F32
RasterFunction Infos: {"rasterFunctionInfos": [{
"name": "None",
"description": "",
"help": ""
}]}
Mensuration Capabilities: Basic
Has Histograms: true
Has Colormap: false
Has Multi Dimensions : false
Rendering Rule:
Min Scale: 0
Max Scale: 0
Copyright Text:
Service Data Type: esriImageServiceDataTypeGeneric
Min Values: 121.5201187133789
Max Values: 3139.659423828125
Mean Values: 878.1383269209131
Standard Deviation Values: 314.85684220374503
Object ID Field:
Fields:
None
Default Mosaic Method: Center
Allowed Mosaic Methods:
SortField:
SortValue: null
Mosaic Operator: First
Default Compression Quality: 75
Default Resampling Method: Bilinear
Max Record Count: null
Max Image Height: 4100
Max Image Width: 15000
Max Download Image Count: null
Max Mosaic Image Count: null
Allow Raster Function: true
Allow Copy: true
Allow Analysis: true
Allow Compute TiePoints: false
Supports Statistics: false
Supports Advanced Queries: false
Use StandardizedQueries: true
Raster Type Infos:
Name: Raster Dataset
Description: Supports all ArcGIS Raster Datasets
Help:
Has Raster Attribute Table: false
Edit Fields Info: null
Ownership Based AccessControl For Rasters: null
Child Resources:
Info
Histograms
Statistics
Key Properties
Legend
Raster Function Infos
Supported Operations:
Export Image
Identify
Measure
Compute Histograms
Compute Statistics Histograms
Get Samples
Compute Class Statistics
Query Boundary
Compute Pixel Location
Compute Angles
Validate
Project