{
 "currentVersion": 10.91,
 "serviceDescription": "TestImageServices/Ky_DEM_KYAPED_2FT_Phase3",
 "name": "TestImageServices/Ky_DEM_KYAPED_2FT_Phase3",
 "description": "",
 "extent": {
  "xmin": 3915000,
  "ymin": 3510000,
  "xmax": 6020000,
  "ymax": 4300000,
  "spatialReference": {
   "wkid": 102763,
   "latestWkid": 3089,
   "vcsWkid": 105703,
   "latestVcsWkid": 6360
  }
 },
 "initialExtent": {
  "xmin": 3915000,
  "ymin": 3510000,
  "xmax": 6020000,
  "ymax": 4300000,
  "spatialReference": {
   "wkid": 102763,
   "latestWkid": 3089,
   "vcsWkid": 105703,
   "latestVcsWkid": 6360
  }
 },
 "fullExtent": {
  "xmin": 3915000,
  "ymin": 3510000,
  "xmax": 6020000,
  "ymax": 4300000,
  "spatialReference": {
   "wkid": 102763,
   "latestWkid": 3089,
   "vcsWkid": 105703,
   "latestVcsWkid": 6360
  }
 },
 "heightModelInfo": {
  "heightModel": "gravity_related_height",
  "vertCRS": "NAVD88_height_(ftUS)",
  "heightUnit": "us-foot"
 },
 "hasMultidimensions": false,
 "pixelSizeX": 2,
 "pixelSizeY": 2,
 "datasetFormat": "FGDBR",
 "uncompressedSize": 1662950000000,
 "blockWidth": 128,
 "blockHeight": 128,
 "compressionType": "LZ77",
 "bandNames": [
  "Band_1"
 ],
 "allowCopy": true,
 "allowAnalysis": true,
 "bandCount": 1,
 "pixelType": "F32",
 "minPixelSize": 0,
 "maxPixelSize": 0,
 "copyrightText": "",
 "serviceDataType": "esriImageServiceDataTypeGeneric",
 "serviceSourceType": "esriImageServiceSourceTypeDataset",
 "minValues": [
  121.5201187133789
 ],
 "maxValues": [
  3139.659423828125
 ],
 "meanValues": [
  878.1383269209131
 ],
 "stdvValues": [
  314.85684220374503
 ],
 "objectIdField": "",
 "fields": [],
 "capabilities": "Image,Metadata,Mensuration",
 "defaultMosaicMethod": "Center",
 "allowedMosaicMethods": "",
 "sortField": "",
 "sortValue": null,
 "sortAscending": true,
 "mosaicOperator": "First",
 "defaultCompressionQuality": 75,
 "defaultResamplingMethod": "Bilinear",
 "maxImageHeight": 4100,
 "maxImageWidth": 15000,
 "allowRasterFunction": true,
 "rasterFunctionInfos": [
  {
   "name": "None",
   "description": "",
   "help": ""
  }
 ],
 "rasterTypeInfos": [
  {
   "name": "Raster Dataset",
   "description": "Supports all ArcGIS Raster Datasets",
   "help": ""
  }
 ],
 "mensurationCapabilities": "Basic",
 "hasHistograms": true,
 "hasColormap": false,
 "hasRasterAttributeTable": false,
 "minScale": 0,
 "maxScale": 0,
 "exportTilesAllowed": false,
 "supportsStatistics": false,
 "supportsAdvancedQueries": false,
 "editFieldsInfo": null,
 "ownershipBasedAccessControlForRasters": null,
 "allowComputeTiePoints": false,
 "useStandardizedQueries": true,
 "advancedQueryCapabilities": {
  "useStandardizedQueries": true,
  "supportsStatistics": false,
  "supportsOrderBy": false,
  "supportsDistinct": false,
  "supportsPagination": false
 },
 "spatialReference": {
  "wkid": 102763,
  "latestWkid": 3089,
  "vcsWkid": 105703,
  "latestVcsWkid": 6360
 }
}
