View In:
ArcGIS JavaScript
ArcGIS Online Map Viewer
ArcGIS Earth
ArcMap
View Footprint In:
ArcGIS Online Map Viewer
Service Description: Kentucky Annual NLCD land cover, 1987. U.S. Geological Survey (USGS), Annual NLCD Collection 1 Science Products: U.S. Geological Survey data
Name: TestImageServices/Ky_Annual_NLCD_1987_30M
Description: Kentucky Annual NLCD land cover, 1987. U.S. Geological Survey (USGS), Annual NLCD Collection 1 Science Products: U.S. Geological Survey data
Single Fused Map Cache: false
Extent:
XMin: 3796724.506434758
YMin: 3135406.4631648352
XMax: 6070637.281434758
YMax: 4445049.513164835
Spatial Reference: 102763
(3089)
LatestVCSWkid(0)
Initial Extent:
XMin: 3796724.506434758
YMin: 3135406.4631648352
XMax: 6070637.281434758
YMax: 4445049.513164835
Spatial Reference: 102763
(3089)
LatestVCSWkid(0)
Full Extent:
XMin: 3796724.506434758
YMin: 3135406.4631648352
XMax: 6070637.281434758
YMax: 4445049.513164835
Spatial Reference: 102763
(3089)
LatestVCSWkid(0)
Pixel Size X: 98.42499999999997
Pixel Size Y: 98.42499999999998
Band Count: 1
Pixel Type: U8
RasterFunction Infos: {"rasterFunctionInfos": [{
"name": "None",
"description": "",
"help": ""
}]}
Mensuration Capabilities: Basic
Has Histograms: true
Has Colormap: true
Has Multi Dimensions : false
Rendering Rule:
Min Scale: 0
Max Scale: 0
Copyright Text:
Service Data Type: esriImageServiceDataTypeThematic
Min Values: 11
Max Values: 95
Mean Values: 54.63135033321947
Standard Deviation Values: 22.152243773981365
Object ID Field:
Fields:
None
Default Mosaic Method: Center
Allowed Mosaic Methods:
SortField:
SortValue: null
Mosaic Operator: First
Default Compression Quality: 75
Default Resampling Method: Nearest
Max Record Count: null
Max Image Height: 4100
Max Image Width: 15000
Max Download Image Count: null
Max Mosaic Image Count: null
Allow Raster Function: true
Allow Copy: true
Allow Analysis: true
Allow Compute TiePoints: false
Supports Statistics: false
Supports Advanced Queries: false
Use StandardizedQueries: true
Raster Type Infos:
Name: Raster Dataset
Description: Supports all ArcGIS Raster Datasets
Help:
Has Raster Attribute Table: true
Edit Fields Info: null
Ownership Based AccessControl For Rasters: null
Child Resources:
Info
Raster Attribute Table
Histograms
Statistics
Key Properties
Color Map
Legend
Raster Function Infos
Supported Operations:
Export Image
Identify
Measure
Compute Histograms
Compute Statistics Histograms
Get Samples
Compute Class Statistics
Query Boundary
Compute Pixel Location
Compute Angles
Validate
Project