{
 "currentVersion": 10.91,
 "serviceDescription": "Kentucky Annual NLCD land cover, 1987. U.S. Geological Survey (USGS), Annual NLCD Collection 1 Science Products: U.S. Geological Survey data",
 "name": "TestImageServices/Ky_Annual_NLCD_1987_30M",
 "description": "Kentucky Annual NLCD land cover, 1987. U.S. Geological Survey (USGS), Annual NLCD Collection 1 Science Products: U.S. Geological Survey data",
 "extent": {
  "xmin": 3796724.506434758,
  "ymin": 3135406.4631648352,
  "xmax": 6070637.281434758,
  "ymax": 4445049.513164835,
  "spatialReference": {
   "wkid": 102763,
   "latestWkid": 3089
  }
 },
 "initialExtent": {
  "xmin": 3796724.506434758,
  "ymin": 3135406.4631648352,
  "xmax": 6070637.281434758,
  "ymax": 4445049.513164835,
  "spatialReference": {
   "wkid": 102763,
   "latestWkid": 3089
  }
 },
 "fullExtent": {
  "xmin": 3796724.506434758,
  "ymin": 3135406.4631648352,
  "xmax": 6070637.281434758,
  "ymax": 4445049.513164835,
  "spatialReference": {
   "wkid": 102763,
   "latestWkid": 3089
  }
 },
 "hasMultidimensions": false,
 "pixelSizeX": 98.42499999999997,
 "pixelSizeY": 98.42499999999998,
 "datasetFormat": "FGDBR",
 "uncompressedSize": 307408518,
 "blockWidth": 128,
 "blockHeight": 128,
 "compressionType": "LZ77",
 "bandNames": [
  "Band_1"
 ],
 "allowCopy": true,
 "allowAnalysis": true,
 "bandCount": 1,
 "pixelType": "U8",
 "minPixelSize": 0,
 "maxPixelSize": 0,
 "copyrightText": "",
 "serviceDataType": "esriImageServiceDataTypeThematic",
 "serviceSourceType": "esriImageServiceSourceTypeDataset",
 "minValues": [
  11
 ],
 "maxValues": [
  95
 ],
 "meanValues": [
  54.63135033321947
 ],
 "stdvValues": [
  22.152243773981365
 ],
 "objectIdField": "",
 "fields": [],
 "capabilities": "Image,Metadata,Mensuration",
 "defaultMosaicMethod": "Center",
 "allowedMosaicMethods": "",
 "sortField": "",
 "sortValue": null,
 "sortAscending": true,
 "mosaicOperator": "First",
 "maxDownloadSizeLimit": 2097196,
 "defaultCompressionQuality": 75,
 "defaultResamplingMethod": "Nearest",
 "maxImageHeight": 4100,
 "maxImageWidth": 15000,
 "allowRasterFunction": true,
 "rasterFunctionInfos": [
  {
   "name": "None",
   "description": "",
   "help": ""
  }
 ],
 "rasterTypeInfos": [
  {
   "name": "Raster Dataset",
   "description": "Supports all ArcGIS Raster Datasets",
   "help": ""
  }
 ],
 "mensurationCapabilities": "Basic",
 "hasHistograms": true,
 "hasColormap": true,
 "hasRasterAttributeTable": true,
 "minScale": 0,
 "maxScale": 0,
 "exportTilesAllowed": false,
 "supportsStatistics": false,
 "supportsAdvancedQueries": false,
 "editFieldsInfo": null,
 "ownershipBasedAccessControlForRasters": null,
 "allowComputeTiePoints": false,
 "useStandardizedQueries": true,
 "advancedQueryCapabilities": {
  "useStandardizedQueries": true,
  "supportsStatistics": false,
  "supportsOrderBy": false,
  "supportsDistinct": false,
  "supportsPagination": false
 },
 "spatialReference": {
  "wkid": 102763,
  "latestWkid": 3089
 }
}
