View In:
ArcGIS JavaScript
ArcGIS Online Map Viewer
ArcGIS Earth
ArcMap
View Footprint In:
ArcGIS Online Map Viewer
Service Description: The LOJIC 4 inch aerial photography was collected for Jefferson, Bullitt, and Oldham Counties during Spring of 2016. LOJIC contributed this imagery to the Kentucky Aerial Photography and Elevation Data (KYAPED) Program.
Name: ImageServices/Ky_LOJIC_2016_4IN
Description: The LOJIC 4 inch aerial photography was collected for Jefferson, Bullitt, and Oldham Counties during Spring of 2016. LOJIC contributed this imagery to the Kentucky Aerial Photography and Elevation Data (KYAPED) Program.
Single Fused Map Cache: false
Extent:
XMin: 4864461.0273410715
YMin: 3817004.9052433213
XMax: 5055133.667341067
YMax: 4078685.5452433154
Spatial Reference: 102763
(3089)
LatestVCSWkid(0)
Initial Extent:
XMin: 4864461.0273410715
YMin: 3817004.9052433213
XMax: 5055133.667341067
YMax: 4078685.5452433154
Spatial Reference: 102763
(3089)
LatestVCSWkid(0)
Full Extent:
XMin: 4864461.0273410715
YMin: 3817004.9052433213
XMax: 5055133.667341067
YMax: 4078685.5452433154
Spatial Reference: 102763
(3089)
LatestVCSWkid(0)
Pixel Size X: 0.3199999999999932
Pixel Size Y: 0.31999999999999273
Band Count: 3
Pixel Type: U8
RasterFunction Infos: {"rasterFunctionInfos": [{
"name": "None",
"description": "",
"help": ""
}]}
Mensuration Capabilities: None
Has Histograms: true
Has Colormap: false
Has Multi Dimensions : false
Rendering Rule:
Min Scale: 0
Max Scale: 0
Copyright Text: LOJIC
Service Data Type: esriImageServiceDataTypeRGB
Min Values: 12, 21, 6
Max Values: 255, 255, 255
Mean Values: 130.41090756590862, 120.2992889685278, 89.36638136449417
Standard Deviation Values: 41.73608055752363, 42.390546258337906, 49.44920072232952
Object ID Field: OBJECTID
Fields:
-
OBJECTID
(
type: esriFieldTypeOID, alias: OBJECTID
)
-
Shape
(
type: esriFieldTypeGeometry, alias: Shape
)
-
Name
(
type: esriFieldTypeString, alias: Name, length: 200
)
-
MinPS
(
type: esriFieldTypeDouble, alias: MinPS
)
-
MaxPS
(
type: esriFieldTypeDouble, alias: MaxPS
)
-
LowPS
(
type: esriFieldTypeDouble, alias: LowPS
)
-
HighPS
(
type: esriFieldTypeDouble, alias: HighPS
)
-
Category
(
type: esriFieldTypeInteger, alias: Category
, Coded Values:
[0: Unknown]
, [1: Primary]
, [2: Overview]
, ...5 more...
)
-
Tag
(
type: esriFieldTypeString, alias: Tag, length: 100
)
-
GroupName
(
type: esriFieldTypeString, alias: GroupName, length: 100
)
-
ProductName
(
type: esriFieldTypeString, alias: ProductName, length: 100
)
-
CenterX
(
type: esriFieldTypeDouble, alias: CenterX
)
-
CenterY
(
type: esriFieldTypeDouble, alias: CenterY
)
-
ZOrder
(
type: esriFieldTypeInteger, alias: ZOrder
)
-
Shape_Length
(
type: esriFieldTypeDouble, alias: Shape_Length
)
-
Shape_Area
(
type: esriFieldTypeDouble, alias: Shape_Area
)
Default Mosaic Method: Northwest
Allowed Mosaic Methods: NorthWest,Center,LockRaster,ByAttribute,Nadir,Viewpoint,Seamline,None
SortField:
SortValue: null
Mosaic Operator: First
Default Compression Quality: 75
Default Resampling Method: Bilinear
Max Record Count: 1000
Max Image Height: 10000
Max Image Width: 10000
Max Download Image Count: 60
Max Mosaic Image Count: 20
Allow Raster Function: true
Allow Copy: null
Allow Analysis: null
Allow Compute TiePoints: false
Supports Statistics: true
Supports Advanced Queries: true
Use StandardizedQueries: true
Raster Type Infos:
Name: Raster Dataset
Description: Supports all ArcGIS Raster Datasets
Help:
Has Raster Attribute Table: false
Edit Fields Info: null
Ownership Based AccessControl For Rasters: null
Child Resources:
Info
Histograms
Key Properties
Legend
Raster Function Infos
Supported Operations:
Export Image
Query
Identify
Compute Histograms
Compute Statistics Histograms
Get Samples
Compute Class Statistics
Query Boundary
Compute Pixel Location
Compute Angles
Validate
Project