{
 "currentVersion": 10.91,
 "serviceDescription": "The LOJIC 4 inch aerial photography was collected for Jefferson, Bullitt, and Oldham Counties during Spring of 2016. LOJIC contributed this imagery to the Kentucky Aerial Photography and Elevation Data (KYAPED) Program.",
 "name": "ImageServices/Ky_LOJIC_2016_4IN",
 "description": "The LOJIC 4 inch aerial photography was collected for Jefferson, Bullitt, and Oldham Counties during Spring of 2016. LOJIC contributed this imagery to the Kentucky Aerial Photography and Elevation Data (KYAPED) Program.",
 "extent": {
  "xmin": 4864461.0273410715,
  "ymin": 3817004.9052433213,
  "xmax": 5055133.667341067,
  "ymax": 4078685.5452433154,
  "spatialReference": {
   "wkid": 102763,
   "latestWkid": 3089
  }
 },
 "initialExtent": {
  "xmin": 4864461.0273410715,
  "ymin": 3817004.9052433213,
  "xmax": 5055133.667341067,
  "ymax": 4078685.5452433154,
  "spatialReference": {
   "wkid": 102763,
   "latestWkid": 3089
  }
 },
 "fullExtent": {
  "xmin": 4864461.0273410715,
  "ymin": 3817004.9052433213,
  "xmax": 5055133.667341067,
  "ymax": 4078685.5452433154,
  "spatialReference": {
   "wkid": 102763,
   "latestWkid": 3089
  }
 },
 "pixelSizeX": 0.3199999999999932,
 "pixelSizeY": 0.31999999999999273,
 "bandCount": 3,
 "pixelType": "U8",
 "minPixelSize": 0,
 "maxPixelSize": 0,
 "copyrightText": "LOJIC",
 "serviceDataType": "esriImageServiceDataTypeRGB",
 "minValues": [
  12,
  21,
  6
 ],
 "maxValues": [
  255,
  255,
  255
 ],
 "meanValues": [
  130.41090756590862,
  120.2992889685278,
  89.36638136449417
 ],
 "stdvValues": [
  41.73608055752363,
  42.390546258337906,
  49.44920072232952
 ],
 "objectIdField": "OBJECTID",
 "fields": [
  {
   "name": "OBJECTID",
   "type": "esriFieldTypeOID",
   "alias": "OBJECTID",
   "domain": null
  },
  {
   "name": "Shape",
   "type": "esriFieldTypeGeometry",
   "alias": "Shape",
   "domain": null
  },
  {
   "name": "Name",
   "type": "esriFieldTypeString",
   "alias": "Name",
   "domain": null,
   "length": 200
  },
  {
   "name": "MinPS",
   "type": "esriFieldTypeDouble",
   "alias": "MinPS",
   "domain": null
  },
  {
   "name": "MaxPS",
   "type": "esriFieldTypeDouble",
   "alias": "MaxPS",
   "domain": null
  },
  {
   "name": "LowPS",
   "type": "esriFieldTypeDouble",
   "alias": "LowPS",
   "domain": null
  },
  {
   "name": "HighPS",
   "type": "esriFieldTypeDouble",
   "alias": "HighPS",
   "domain": null
  },
  {
   "name": "Category",
   "type": "esriFieldTypeInteger",
   "alias": "Category",
   "domain": {
    "type": "codedValue",
    "name": "MosaicCatalogItemCategoryDomain",
    "description": "Catalog item categories.",
    "codedValues": [
     {
      "name": "Unknown",
      "code": 0
     },
     {
      "name": "Primary",
      "code": 1
     },
     {
      "name": "Overview",
      "code": 2
     },
     {
      "name": "Unprocessed Overview",
      "code": 3
     },
     {
      "name": "Partial Overview",
      "code": 4
     },
     {
      "name": "Uploaded",
      "code": 253
     },
     {
      "name": "Incomplete",
      "code": 254
     },
     {
      "name": "Custom",
      "code": 255
     }
    ],
    "mergePolicy": "esriMPTDefaultValue",
    "splitPolicy": "esriSPTDefaultValue"
   }
  },
  {
   "name": "Tag",
   "type": "esriFieldTypeString",
   "alias": "Tag",
   "domain": null,
   "length": 100
  },
  {
   "name": "GroupName",
   "type": "esriFieldTypeString",
   "alias": "GroupName",
   "domain": null,
   "length": 100
  },
  {
   "name": "ProductName",
   "type": "esriFieldTypeString",
   "alias": "ProductName",
   "domain": null,
   "length": 100
  },
  {
   "name": "CenterX",
   "type": "esriFieldTypeDouble",
   "alias": "CenterX",
   "domain": null
  },
  {
   "name": "CenterY",
   "type": "esriFieldTypeDouble",
   "alias": "CenterY",
   "domain": null
  },
  {
   "name": "ZOrder",
   "type": "esriFieldTypeInteger",
   "alias": "ZOrder",
   "domain": null
  },
  {
   "name": "Shape_Length",
   "type": "esriFieldTypeDouble",
   "alias": "Shape_Length",
   "domain": null
  },
  {
   "name": "Shape_Area",
   "type": "esriFieldTypeDouble",
   "alias": "Shape_Area",
   "domain": null
  }
 ],
 "capabilities": "Catalog,Image,Metadata",
 "defaultMosaicMethod": "Northwest",
 "allowedMosaicMethods": "NorthWest,Center,LockRaster,ByAttribute,Nadir,Viewpoint,Seamline,None",
 "sortField": "",
 "sortValue": null,
 "sortAscending": true,
 "mosaicOperator": "First",
 "maxDownloadSizeLimit": 2048,
 "defaultCompressionQuality": 75,
 "defaultResamplingMethod": "Bilinear",
 "maxImageHeight": 10000,
 "maxImageWidth": 10000,
 "maxRecordCount": 1000,
 "maxDownloadImageCount": 60,
 "maxMosaicImageCount": 20,
 "allowRasterFunction": true,
 "rasterFunctionInfos": [
  {
   "name": "None",
   "description": "",
   "help": ""
  }
 ],
 "rasterTypeInfos": [
  {
   "name": "Raster Dataset",
   "description": "Supports all ArcGIS Raster Datasets",
   "help": ""
  }
 ],
 "mensurationCapabilities": "None",
 "hasHistograms": true,
 "hasColormap": false,
 "hasRasterAttributeTable": false,
 "minScale": 0,
 "maxScale": 0,
 "exportTilesAllowed": false,
 "hasMultidimensions": false,
 "supportsStatistics": true,
 "supportsAdvancedQueries": true,
 "editFieldsInfo": null,
 "ownershipBasedAccessControlForRasters": null,
 "allowComputeTiePoints": false,
 "useStandardizedQueries": true,
 "advancedQueryCapabilities": {
  "useStandardizedQueries": true,
  "supportsStatistics": true,
  "supportsOrderBy": true,
  "supportsDistinct": true,
  "supportsPagination": true
 },
 "spatialReference": {
  "wkid": 102763,
  "latestWkid": 3089
 }
}
