View In:
ArcGIS JavaScript
ArcGIS Online Map Viewer
ArcGIS Earth
ArcMap
View Footprint In:
ArcGIS Online Map Viewer
Service Description: 7.5' Geologic Quadrangle map images for Kentucky. Scanned at 250dpi, 24-bit color. Most georeferenced to Kentucky State Plane Single Zone, NAD 83.
Name: ImageServices/Ky_Geologic_Quadrangle_Maps
Description: 7.5' Geologic Quadrangle map images for Kentucky. Scanned at 250dpi, 24-bit color. Most georeferenced to Kentucky State Plane Single Zone, NAD 83.
Single Fused Map Cache: false
Extent:
XMin: 3797606.6666670586
YMin: 3344533.3333317456
XMax: 6018733.333333725
YMax: 4307873.333331747
Spatial Reference: 102763
(3089)
LatestVCSWkid(0)
Initial Extent:
XMin: 3797606.6666670586
YMin: 3344533.3333317456
XMax: 6018733.333333725
YMax: 4307873.333331747
Spatial Reference: 102763
(3089)
LatestVCSWkid(0)
Full Extent:
XMin: 3797606.6666670586
YMin: 3344533.3333317456
XMax: 6018733.333333725
YMax: 4307873.333331747
Spatial Reference: 102763
(3089)
LatestVCSWkid(0)
Pixel Size X: 6.666666666666666
Pixel Size Y: 6.666666666666677
Band Count: 1
Pixel Type: U8
RasterFunction Infos: {"rasterFunctionInfos": [{
"name": "None",
"description": "",
"help": ""
}]}
Mensuration Capabilities: Basic
Has Histograms: false
Has Colormap: true
Has Multi Dimensions : false
Rendering Rule:
Min Scale: 0
Max Scale: 0
Copyright Text: Kentucky Geological Survey, U.S. Geological Survey
Service Data Type: esriImageServiceDataTypeGeneric
Min Values: N/A
Max Values: N/A
Mean Values: N/A
Standard Deviation Values: N/A
Object ID Field:
Fields:
None
Default Mosaic Method: Center
Allowed Mosaic Methods:
SortField:
SortValue: null
Mosaic Operator: First
Default Compression Quality: 75
Default Resampling Method: Bilinear
Max Record Count: null
Max Image Height: 4100
Max Image Width: 15000
Max Download Image Count: null
Max Mosaic Image Count: null
Allow Raster Function: true
Allow Copy: null
Allow Analysis: null
Allow Compute TiePoints: false
Supports Statistics: false
Supports Advanced Queries: false
Use StandardizedQueries: true
Raster Type Infos:
Name: Raster Dataset
Description: Supports all ArcGIS Raster Datasets
Help:
Has Raster Attribute Table: false
Edit Fields Info: null
Ownership Based AccessControl For Rasters: null
Child Resources:
Info
Key Properties
Color Map
Legend
Raster Function Infos
Supported Operations:
Export Image
Identify
Measure
Compute Histograms
Compute Statistics Histograms
Get Samples
Compute Class Statistics
Query Boundary
Compute Pixel Location
Compute Angles
Validate
Project