{ "currentVersion": 10.91, "serviceDescription": "
7.5' Geologic Quadrangle map images for Kentucky. Scanned at 250dpi, 24-bit color. Most georeferenced to Kentucky State Plane Single Zone, NAD 83.<\/span><\/p><\/div><\/div>",
"name": "ImageServices/Ky_Geologic_Quadrangle_Maps",
"description": " 7.5' Geologic Quadrangle map images for Kentucky. Scanned at 250dpi, 24-bit color. Most georeferenced to Kentucky State Plane Single Zone, NAD 83.<\/span><\/p><\/div><\/div>",
"extent": {
"xmin": 3797606.6666670586,
"ymin": 3344533.3333317456,
"xmax": 6018733.333333725,
"ymax": 4307873.333331747,
"spatialReference": {
"wkid": 102763,
"latestWkid": 3089
}
},
"initialExtent": {
"xmin": 3797606.6666670586,
"ymin": 3344533.3333317456,
"xmax": 6018733.333333725,
"ymax": 4307873.333331747,
"spatialReference": {
"wkid": 102763,
"latestWkid": 3089
}
},
"fullExtent": {
"xmin": 3797606.6666670586,
"ymin": 3344533.3333317456,
"xmax": 6018733.333333725,
"ymax": 4307873.333331747,
"spatialReference": {
"wkid": 102763,
"latestWkid": 3089
}
},
"pixelSizeX": 6.666666666666666,
"pixelSizeY": 6.666666666666677,
"bandCount": 1,
"pixelType": "U8",
"minPixelSize": 0,
"maxPixelSize": 0,
"copyrightText": "Kentucky Geological Survey, U.S. Geological Survey",
"serviceDataType": "esriImageServiceDataTypeGeneric",
"minValues": [],
"maxValues": [],
"meanValues": [],
"stdvValues": [],
"objectIdField": "",
"fields": [],
"capabilities": "Mensuration,Image,Metadata",
"defaultMosaicMethod": "Center",
"allowedMosaicMethods": "",
"sortField": "",
"sortValue": null,
"sortAscending": true,
"mosaicOperator": "First",
"defaultCompressionQuality": 75,
"defaultResamplingMethod": "Bilinear",
"maxImageHeight": 4100,
"maxImageWidth": 15000,
"allowRasterFunction": true,
"rasterFunctionInfos": [
{
"name": "None",
"description": "",
"help": ""
}
],
"rasterTypeInfos": [
{
"name": "Raster Dataset",
"description": "Supports all ArcGIS Raster Datasets",
"help": ""
}
],
"mensurationCapabilities": "Basic",
"hasHistograms": false,
"hasColormap": true,
"hasRasterAttributeTable": false,
"minScale": 0,
"maxScale": 0,
"exportTilesAllowed": false,
"hasMultidimensions": false,
"supportsStatistics": false,
"supportsAdvancedQueries": false,
"editFieldsInfo": null,
"ownershipBasedAccessControlForRasters": null,
"allowComputeTiePoints": false,
"useStandardizedQueries": true,
"advancedQueryCapabilities": {
"useStandardizedQueries": true,
"supportsStatistics": false,
"supportsOrderBy": false,
"supportsDistinct": false,
"supportsPagination": false
},
"spatialReference": {
"wkid": 102763,
"latestWkid": 3089
}
}