View In:
ArcGIS JavaScript
ArcGIS Online Map Viewer
ArcGIS Earth
ArcMap
View Footprint In:
ArcGIS Online Map Viewer
Service Description: Highly accurate Light Detection and Ranging (LiDAR) elevation data for Jefferson, Oldham, and Bullitt counties. Data is in NAD_1983_StatePlane_Kentucky_North_FIPS_1600_Feet.. LiDAR for this dataset was classified and quality controlled by EagleView. Digital Elevation Models and Hydrographic breaklines were generated by GroundPoint LLC and subsequently quality controlled by EagleView.
Name: ElevationServices/Ky_DEM_LOJIC_2021_5FT
Description: Highly accurate Light Detection and Ranging (LiDAR) elevation data for Jefferson, Oldham, and Bullitt counties. Data is in NAD_1983_StatePlane_Kentucky_North_FIPS_1600_Feet.. LiDAR for this dataset was classified and quality controlled by EagleView. Digital Elevation Models and Hydrographic breaklines were generated by GroundPoint LLC and subsequently quality controlled by EagleView.
Single Fused Map Cache: false
Extent:
XMin: 4859355.0
YMin: 3813825.0
XMax: 5064365.0
YMax: 4081150.0
Spatial Reference: 102763
(3089)
LatestVCSWkid(0)
Initial Extent:
XMin: 4859355.0
YMin: 3813825.0
XMax: 5064365.0
YMax: 4081150.0
Spatial Reference: 102763
(3089)
LatestVCSWkid(0)
Full Extent:
XMin: 4859355.0
YMin: 3813825.0
XMax: 5064365.0
YMax: 4081150.0
Spatial Reference: 102763
(3089)
LatestVCSWkid(0)
Pixel Size X: 5.0
Pixel Size Y: 5.0
Band Count: 1
Pixel Type: F32
RasterFunction Infos: {"rasterFunctionInfos": [{
"name": "None",
"description": "",
"help": ""
}]}
Mensuration Capabilities: Basic
Has Histograms: true
Has Colormap: false
Has Multi Dimensions : false
Rendering Rule:
Min Scale: 0
Max Scale: 0
Copyright Text: LOJIC, DGI
Service Data Type: esriImageServiceDataTypeGeneric
Min Values: 0
Max Values: 987.107666015625
Mean Values: 602.759414643833
Standard Deviation Values: 124.96537514184097
Object ID Field:
Fields:
None
Default Mosaic Method: Center
Allowed Mosaic Methods:
SortField:
SortValue: null
Mosaic Operator: First
Default Compression Quality: 75
Default Resampling Method: Bilinear
Max Record Count: null
Max Image Height: 4100
Max Image Width: 15000
Max Download Image Count: null
Max Mosaic Image Count: null
Allow Raster Function: true
Allow Copy: null
Allow Analysis: null
Allow Compute TiePoints: false
Supports Statistics: false
Supports Advanced Queries: false
Use StandardizedQueries: true
Raster Type Infos:
Name: Raster Dataset
Description: Supports all ArcGIS Raster Datasets
Help:
Has Raster Attribute Table: false
Edit Fields Info: null
Ownership Based AccessControl For Rasters: null
Child Resources:
Info
Histograms
Key Properties
Legend
Raster Function Infos
Supported Operations:
Export Image
Identify
Measure
Compute Histograms
Compute Statistics Histograms
Get Samples
Compute Class Statistics
Query Boundary
Compute Pixel Location
Compute Angles
Validate
Project