{ "currentVersion": 10.91, "serviceDescription": "
Highly accurate Light Detection and Ranging (LiDAR) elevation data for Jefferson, Oldham, and Bullitt counties. Data is in NAD_1983_StatePlane_Kentucky_North_FIPS_1600_Feet.. LiDAR for this dataset was classified and quality controlled by EagleView. Digital Elevation Models and Hydrographic breaklines were generated by GroundPoint LLC and subsequently quality controlled by EagleView.<\/span><\/p><\/div><\/div><\/div>",
"name": "ElevationServices/Ky_DEM_LOJIC_2021_5FT",
"description": " Highly accurate Light Detection and Ranging (LiDAR) elevation data for Jefferson, Oldham, and Bullitt counties. Data is in NAD_1983_StatePlane_Kentucky_North_FIPS_1600_Feet.. LiDAR for this dataset was classified and quality controlled by EagleView. Digital Elevation Models and Hydrographic breaklines were generated by GroundPoint LLC and subsequently quality controlled by EagleView.<\/span><\/p><\/div><\/div><\/div>",
"extent": {
"xmin": 4859355,
"ymin": 3813825,
"xmax": 5064365,
"ymax": 4081150,
"spatialReference": {
"wkid": 102763,
"latestWkid": 3089
}
},
"initialExtent": {
"xmin": 4859355,
"ymin": 3813825,
"xmax": 5064365,
"ymax": 4081150,
"spatialReference": {
"wkid": 102763,
"latestWkid": 3089
}
},
"fullExtent": {
"xmin": 4859355,
"ymin": 3813825,
"xmax": 5064365,
"ymax": 4081150,
"spatialReference": {
"wkid": 102763,
"latestWkid": 3089
}
},
"pixelSizeX": 5,
"pixelSizeY": 5,
"bandCount": 1,
"pixelType": "F32",
"minPixelSize": 0,
"maxPixelSize": 0,
"copyrightText": "LOJIC, DGI",
"serviceDataType": "esriImageServiceDataTypeGeneric",
"minValues": [
0
],
"maxValues": [
987.107666015625
],
"meanValues": [
602.759414643833
],
"stdvValues": [
124.96537514184097
],
"objectIdField": "",
"fields": [],
"capabilities": "Mensuration,Image,Metadata",
"defaultMosaicMethod": "Center",
"allowedMosaicMethods": "",
"sortField": "",
"sortValue": null,
"sortAscending": true,
"mosaicOperator": "First",
"defaultCompressionQuality": 75,
"defaultResamplingMethod": "Bilinear",
"maxImageHeight": 4100,
"maxImageWidth": 15000,
"allowRasterFunction": true,
"rasterFunctionInfos": [
{
"name": "None",
"description": "",
"help": ""
}
],
"rasterTypeInfos": [
{
"name": "Raster Dataset",
"description": "Supports all ArcGIS Raster Datasets",
"help": ""
}
],
"mensurationCapabilities": "Basic",
"hasHistograms": true,
"hasColormap": false,
"hasRasterAttributeTable": false,
"minScale": 0,
"maxScale": 0,
"exportTilesAllowed": false,
"hasMultidimensions": false,
"supportsStatistics": false,
"supportsAdvancedQueries": false,
"editFieldsInfo": null,
"ownershipBasedAccessControlForRasters": null,
"allowComputeTiePoints": false,
"useStandardizedQueries": true,
"advancedQueryCapabilities": {
"useStandardizedQueries": true,
"supportsStatistics": false,
"supportsOrderBy": false,
"supportsDistinct": false,
"supportsPagination": false
},
"spatialReference": {
"wkid": 102763,
"latestWkid": 3089
}
}