View In:
ArcGIS JavaScript
ArcGIS Online Map Viewer
ArcGIS Earth
ArcMap
View Footprint In:
ArcGIS Online Map Viewer
Service Description: This LIDAR operation was designed to provide a high density set of masspoints within the defined areas. The data sets are suitable for the development of contours for use in hydraulic/hydrologic model development, and for assessing environmental impacts.Typical uses for the data set include: FEMA Flood Plain Map Modernization. DFIRM map updates. Watersheds and other hydro studies per FEMA specifications. County Mapping projects which include several uses, in addition to Flood mitigation assessment. Mapping projects that include accuracy verification, reporting and metadata.
Name: ElevationServices/Ky_DEM_LOJIC_2016_6FT
Description: This LIDAR operation was designed to provide a high density set of masspoints within the defined areas. The data sets are suitable for the development of contours for use in hydraulic/hydrologic model development, and for assessing environmental impacts.Typical uses for the data set include: FEMA Flood Plain Map Modernization. DFIRM map updates. Watersheds and other hydro studies per FEMA specifications. County Mapping projects which include several uses, in addition to Flood mitigation assessment. Mapping projects that include accuracy verification, reporting and metadata.
Single Fused Map Cache: false
Extent:
XMin: 4852886.492904974
YMin: 3808782.380224887
XMax: 5065874.492904974
YMax: 4086684.380224887
Spatial Reference: 102763
(3089)
LatestVCSWkid(0)
Initial Extent:
XMin: 4852886.492904974
YMin: 3808782.380224887
XMax: 5065874.492904974
YMax: 4086684.380224887
Spatial Reference: 102763
(3089)
LatestVCSWkid(0)
Full Extent:
XMin: 4852886.492904974
YMin: 3808782.380224887
XMax: 5065874.492904974
YMax: 4086684.380224887
Spatial Reference: 102763
(3089)
LatestVCSWkid(0)
Pixel Size X: 6.0
Pixel Size Y: 6.0
Band Count: 1
Pixel Type: F32
RasterFunction Infos: {"rasterFunctionInfos": [{
"name": "None",
"description": "",
"help": ""
}]}
Mensuration Capabilities: Basic
Has Histograms: true
Has Colormap: false
Has Multi Dimensions : false
Rendering Rule:
Min Scale: 0
Max Scale: 0
Copyright Text: LOJIC
Service Data Type: esriImageServiceDataTypeGeneric
Min Values: 360.3203430175781
Max Values: 987.2613525390625
Mean Values: 600.9265924988747
Standard Deviation Values: 122.89827408434755
Object ID Field:
Fields:
None
Default Mosaic Method: Center
Allowed Mosaic Methods:
SortField:
SortValue: null
Mosaic Operator: First
Default Compression Quality: 75
Default Resampling Method: Bilinear
Max Record Count: null
Max Image Height: 4100
Max Image Width: 15000
Max Download Image Count: null
Max Mosaic Image Count: null
Allow Raster Function: true
Allow Copy: null
Allow Analysis: null
Allow Compute TiePoints: false
Supports Statistics: false
Supports Advanced Queries: false
Use StandardizedQueries: true
Raster Type Infos:
Name: Raster Dataset
Description: Supports all ArcGIS Raster Datasets
Help:
Has Raster Attribute Table: false
Edit Fields Info: null
Ownership Based AccessControl For Rasters: null
Child Resources:
Info
Histograms
Key Properties
Legend
Raster Function Infos
Supported Operations:
Export Image
Identify
Measure
Compute Histograms
Compute Statistics Histograms
Get Samples
Compute Class Statistics
Query Boundary
Compute Pixel Location
Compute Angles
Validate
Project