{
 "currentVersion": 10.91,
 "serviceDescription": "This LIDAR operation was designed to provide a high density set of masspoints within the defined areas. The data sets are suitable for the development of contours for use in hydraulic/hydrologic model development, and for assessing environmental impacts.Typical uses for the data set include: FEMA Flood Plain Map Modernization. DFIRM map updates. Watersheds and other hydro studies per FEMA specifications. County Mapping projects which include several uses, in addition to Flood mitigation assessment. Mapping projects that include accuracy verification, reporting and metadata.",
 "name": "ElevationServices/Ky_DEM_LOJIC_2016_6FT",
 "description": "This LIDAR operation was designed to provide a high density set of masspoints within the defined areas. The data sets are suitable for the development of contours for use in hydraulic/hydrologic model development, and for assessing environmental impacts.Typical uses for the data set include: FEMA Flood Plain Map Modernization. DFIRM map updates. Watersheds and other hydro studies per FEMA specifications. County Mapping projects which include several uses, in addition to Flood mitigation assessment. Mapping projects that include accuracy verification, reporting and metadata.",
 "extent": {
  "xmin": 4852886.492904974,
  "ymin": 3808782.380224887,
  "xmax": 5065874.492904974,
  "ymax": 4086684.380224887,
  "spatialReference": {
   "wkid": 102763,
   "latestWkid": 3089
  }
 },
 "initialExtent": {
  "xmin": 4852886.492904974,
  "ymin": 3808782.380224887,
  "xmax": 5065874.492904974,
  "ymax": 4086684.380224887,
  "spatialReference": {
   "wkid": 102763,
   "latestWkid": 3089
  }
 },
 "fullExtent": {
  "xmin": 4852886.492904974,
  "ymin": 3808782.380224887,
  "xmax": 5065874.492904974,
  "ymax": 4086684.380224887,
  "spatialReference": {
   "wkid": 102763,
   "latestWkid": 3089
  }
 },
 "pixelSizeX": 6,
 "pixelSizeY": 6,
 "bandCount": 1,
 "pixelType": "F32",
 "minPixelSize": 0,
 "maxPixelSize": 0,
 "copyrightText": "LOJIC",
 "serviceDataType": "esriImageServiceDataTypeGeneric",
 "minValues": [
  360.3203430175781
 ],
 "maxValues": [
  987.2613525390625
 ],
 "meanValues": [
  600.9265924988747
 ],
 "stdvValues": [
  122.89827408434755
 ],
 "objectIdField": "",
 "fields": [],
 "capabilities": "Mensuration,Image,Metadata",
 "defaultMosaicMethod": "Center",
 "allowedMosaicMethods": "",
 "sortField": "",
 "sortValue": null,
 "sortAscending": true,
 "mosaicOperator": "First",
 "defaultCompressionQuality": 75,
 "defaultResamplingMethod": "Bilinear",
 "maxImageHeight": 4100,
 "maxImageWidth": 15000,
 "allowRasterFunction": true,
 "rasterFunctionInfos": [
  {
   "name": "None",
   "description": "",
   "help": ""
  }
 ],
 "rasterTypeInfos": [
  {
   "name": "Raster Dataset",
   "description": "Supports all ArcGIS Raster Datasets",
   "help": ""
  }
 ],
 "mensurationCapabilities": "Basic",
 "hasHistograms": true,
 "hasColormap": false,
 "hasRasterAttributeTable": false,
 "minScale": 0,
 "maxScale": 0,
 "exportTilesAllowed": false,
 "hasMultidimensions": false,
 "supportsStatistics": false,
 "supportsAdvancedQueries": false,
 "editFieldsInfo": null,
 "ownershipBasedAccessControlForRasters": null,
 "allowComputeTiePoints": false,
 "useStandardizedQueries": true,
 "advancedQueryCapabilities": {
  "useStandardizedQueries": true,
  "supportsStatistics": false,
  "supportsOrderBy": false,
  "supportsDistinct": false,
  "supportsPagination": false
 },
 "spatialReference": {
  "wkid": 102763,
  "latestWkid": 3089
 }
}
