View In:
ArcGIS JavaScript
ArcGIS Online Map Viewer
ArcGIS Earth
ArcMap
View Footprint In:
ArcGIS Online Map Viewer
Service Description: This is the KyFromAbove Phase2 collection and provides access to a 2 Foot Digital Elevation Model (DEM) for Kentucky. This version is in Web Mercator and the Z values are in meters, not feet.
Name: ElevationServices/Ky_DEM_KYAPED_2FT_Phase2_ZMeters_WGS84WM
Description: This is the KyFromAbove Phase2 collection and provides access to a 2 Foot Digital Elevation Model (DEM) for Kentucky. This version is in Web Mercator and the Z values are in meters, not feet.
Single Fused Map Cache: false
Extent:
XMin: -9987441.235840391
YMin: 4362177.10756158
XMax: -9114627.011811944
YMax: 4744554.349116063
Spatial Reference: 102100
(3857)
LatestVCSWkid(0)
Initial Extent:
XMin: -9987441.235840391
YMin: 4362177.10756158
XMax: -9114627.011811944
YMax: 4744554.349116063
Spatial Reference: 102100
(3857)
LatestVCSWkid(0)
Full Extent:
XMin: -9987441.235840391
YMin: 4362177.10756158
XMax: -9114627.011811944
YMax: 4744554.349116063
Spatial Reference: 102100
(3857)
LatestVCSWkid(0)
Pixel Size X: 0.6096012192024381
Pixel Size Y: 0.6096012192024379
Band Count: 1
Pixel Type: F32
RasterFunction Infos: {"rasterFunctionInfos": [{
"name": "None",
"description": "",
"help": ""
}]}
Mensuration Capabilities: Basic
Has Histograms: true
Has Colormap: false
Has Multi Dimensions : false
Rendering Rule:
Min Scale: 0
Max Scale: 0
Copyright Text: KyFromAbove
Service Data Type: esriImageServiceDataTypeElevation
Min Values: -51.064815521240234
Max Values: 1261.7005615234375
Mean Values: 249.2720625498962
Standard Deviation Values: 108.77897571056594
Object ID Field:
Fields:
None
Default Mosaic Method: Center
Allowed Mosaic Methods:
SortField:
SortValue: null
Mosaic Operator: First
Default Compression Quality: 75
Default Resampling Method: Bilinear
Max Record Count: null
Max Image Height: 4100
Max Image Width: 15000
Max Download Image Count: null
Max Mosaic Image Count: null
Allow Raster Function: true
Allow Copy: null
Allow Analysis: null
Allow Compute TiePoints: false
Supports Statistics: false
Supports Advanced Queries: false
Use StandardizedQueries: true
Raster Type Infos:
Name: Raster Dataset
Description: Supports all ArcGIS Raster Datasets
Help:
Has Raster Attribute Table: false
Edit Fields Info: null
Ownership Based AccessControl For Rasters: null
Child Resources:
Info
Histograms
Key Properties
Legend
Raster Function Infos
Supported Operations:
Export Image
Identify
Measure
Compute Histograms
Compute Statistics Histograms
Get Samples
Compute Class Statistics
Query Boundary
Compute Pixel Location
Compute Angles
Validate
Project
Calculate Volume