{
 "currentVersion": 10.91,
 "serviceDescription": "This is the KyFromAbove Phase2 collection and provides access to a 2 Foot Digital Elevation Model (DEM) for Kentucky. This version is in Web Mercator and the Z values are in meters, not feet.",
 "name": "ElevationServices/Ky_DEM_KYAPED_2FT_Phase2_ZMeters_WGS84WM",
 "description": "This is the KyFromAbove Phase2 collection and provides access to a 2 Foot Digital Elevation Model (DEM) for Kentucky. This version is in Web Mercator and the Z values are in meters, not feet.",
 "extent": {
  "xmin": -9987441.235840391,
  "ymin": 4362177.10756158,
  "xmax": -9114627.011811944,
  "ymax": 4744554.349116063,
  "spatialReference": {
   "wkid": 102100,
   "latestWkid": 3857
  }
 },
 "initialExtent": {
  "xmin": -9987441.235840391,
  "ymin": 4362177.10756158,
  "xmax": -9114627.011811944,
  "ymax": 4744554.349116063,
  "spatialReference": {
   "wkid": 102100,
   "latestWkid": 3857
  }
 },
 "fullExtent": {
  "xmin": -9987441.235840391,
  "ymin": 4362177.10756158,
  "xmax": -9114627.011811944,
  "ymax": 4744554.349116063,
  "spatialReference": {
   "wkid": 102100,
   "latestWkid": 3857
  }
 },
 "pixelSizeX": 0.6096012192024381,
 "pixelSizeY": 0.6096012192024379,
 "bandCount": 1,
 "pixelType": "F32",
 "minPixelSize": 0,
 "maxPixelSize": 0,
 "copyrightText": "KyFromAbove",
 "serviceDataType": "esriImageServiceDataTypeElevation",
 "minValues": [
  -51.064815521240234
 ],
 "maxValues": [
  1261.7005615234375
 ],
 "meanValues": [
  249.2720625498962
 ],
 "stdvValues": [
  108.77897571056594
 ],
 "objectIdField": "",
 "fields": [],
 "capabilities": "Mensuration,Image,Metadata",
 "defaultMosaicMethod": "Center",
 "allowedMosaicMethods": "",
 "sortField": "",
 "sortValue": null,
 "sortAscending": true,
 "mosaicOperator": "First",
 "defaultCompressionQuality": 75,
 "defaultResamplingMethod": "Bilinear",
 "maxImageHeight": 4100,
 "maxImageWidth": 15000,
 "allowRasterFunction": true,
 "rasterFunctionInfos": [
  {
   "name": "None",
   "description": "",
   "help": ""
  }
 ],
 "rasterTypeInfos": [
  {
   "name": "Raster Dataset",
   "description": "Supports all ArcGIS Raster Datasets",
   "help": ""
  }
 ],
 "mensurationCapabilities": "Basic",
 "hasHistograms": true,
 "hasColormap": false,
 "hasRasterAttributeTable": false,
 "minScale": 0,
 "maxScale": 0,
 "exportTilesAllowed": false,
 "hasMultidimensions": false,
 "supportsStatistics": false,
 "supportsAdvancedQueries": false,
 "editFieldsInfo": null,
 "ownershipBasedAccessControlForRasters": null,
 "allowComputeTiePoints": false,
 "useStandardizedQueries": true,
 "advancedQueryCapabilities": {
  "useStandardizedQueries": true,
  "supportsStatistics": false,
  "supportsOrderBy": false,
  "supportsDistinct": false,
  "supportsPagination": false
 },
 "spatialReference": {
  "wkid": 102100,
  "latestWkid": 3857
 }
}
