View In:
ArcGIS JavaScript
ArcGIS Online Map Viewer
ArcGIS Earth
ArcMap
View Footprint In:
ArcGIS Online Map Viewer
Service Description: The USGS 10-meter DEM rendered as shaded relief. The surface of this DEM is no longer current and should not be used for analysis.
Name: ElevationServices/KY_ShadedRelief_USGS_10M
Description: The USGS 10-meter DEM rendered as shaded relief. The surface of this DEM is no longer current and should not be used for analysis.
Single Fused Map Cache: false
Extent:
XMin: 3780464.9999999986
YMin: 3304005.0000000056
XMax: 6045014.999999998
YMax: 4344855.000000006
Spatial Reference: 102763
(3089)
LatestVCSWkid(0)
Initial Extent:
XMin: 3780464.9999999986
YMin: 3304005.0000000056
XMax: 6045014.999999998
YMax: 4344855.000000006
Spatial Reference: 102763
(3089)
LatestVCSWkid(0)
Full Extent:
XMin: 3780464.9999999986
YMin: 3304005.0000000056
XMax: 6045014.999999998
YMax: 4344855.000000006
Spatial Reference: 102763
(3089)
LatestVCSWkid(0)
Pixel Size X: 29.999999999999993
Pixel Size Y: 30.0
Band Count: 3
Pixel Type: U8
RasterFunction Infos: {"rasterFunctionInfos": [{
"name": "None",
"description": "",
"help": ""
}]}
Mensuration Capabilities: Basic
Has Histograms: false
Has Colormap: false
Has Multi Dimensions : false
Rendering Rule:
Min Scale: 0
Max Scale: 0
Copyright Text: USGS
Service Data Type: esriImageServiceDataTypeRGB
Min Values: N/A
Max Values: N/A
Mean Values: N/A
Standard Deviation Values: N/A
Object ID Field:
Fields:
None
Default Mosaic Method: Center
Allowed Mosaic Methods:
SortField:
SortValue: null
Mosaic Operator: First
Default Compression Quality: 75
Default Resampling Method: Bilinear
Max Record Count: null
Max Image Height: 4100
Max Image Width: 15000
Max Download Image Count: null
Max Mosaic Image Count: null
Allow Raster Function: true
Allow Copy: true
Allow Analysis: true
Allow Compute TiePoints: false
Supports Statistics: false
Supports Advanced Queries: false
Use StandardizedQueries: true
Raster Type Infos:
Name: Raster Dataset
Description: Supports all ArcGIS Raster Datasets
Help:
Has Raster Attribute Table: false
Edit Fields Info: null
Ownership Based AccessControl For Rasters: null
Child Resources:
Info
Statistics
Key Properties
Legend
Raster Function Infos
Supported Operations:
Export Image
Identify
Measure
Compute Histograms
Compute Statistics Histograms
Get Samples
Compute Class Statistics
Query Boundary
Compute Pixel Location
Compute Angles
Validate
Project