{
 "currentVersion": 10.91,
 "serviceDescription": "The USGS 10-meter DEM rendered as shaded relief. The surface of this DEM is no longer current and should not be used for analysis.",
 "name": "ElevationServices/KY_ShadedRelief_USGS_10M",
 "description": "The USGS 10-meter DEM rendered as shaded relief. The surface of this DEM is no longer current and should not be used for analysis.",
 "extent": {
  "xmin": 3780464.9999999986,
  "ymin": 3304005.0000000056,
  "xmax": 6045014.999999998,
  "ymax": 4344855.000000006,
  "spatialReference": {
   "wkid": 102763,
   "latestWkid": 3089
  }
 },
 "initialExtent": {
  "xmin": 3780464.9999999986,
  "ymin": 3304005.0000000056,
  "xmax": 6045014.999999998,
  "ymax": 4344855.000000006,
  "spatialReference": {
   "wkid": 102763,
   "latestWkid": 3089
  }
 },
 "fullExtent": {
  "xmin": 3780464.9999999986,
  "ymin": 3304005.0000000056,
  "xmax": 6045014.999999998,
  "ymax": 4344855.000000006,
  "spatialReference": {
   "wkid": 102763,
   "latestWkid": 3089
  }
 },
 "hasMultidimensions": false,
 "pixelSizeX": 29.999999999999993,
 "pixelSizeY": 30,
 "datasetFormat": "FGDBR",
 "uncompressedSize": 7856856225,
 "blockWidth": 128,
 "blockHeight": 128,
 "compressionType": "JPEG",
 "bandNames": [
  "Band_1",
  "Band_2",
  "Band_3"
 ],
 "allowCopy": true,
 "allowAnalysis": true,
 "bandCount": 3,
 "pixelType": "U8",
 "minPixelSize": 0,
 "maxPixelSize": 0,
 "copyrightText": "USGS",
 "serviceDataType": "esriImageServiceDataTypeRGB",
 "serviceSourceType": "esriImageServiceSourceTypeDataset",
 "minValues": [],
 "maxValues": [],
 "meanValues": [],
 "stdvValues": [],
 "objectIdField": "",
 "fields": [],
 "capabilities": "Mensuration,Image,Metadata",
 "defaultMosaicMethod": "Center",
 "allowedMosaicMethods": "",
 "sortField": "",
 "sortValue": null,
 "sortAscending": true,
 "mosaicOperator": "First",
 "defaultCompressionQuality": 75,
 "defaultResamplingMethod": "Bilinear",
 "maxImageHeight": 4100,
 "maxImageWidth": 15000,
 "allowRasterFunction": true,
 "rasterFunctionInfos": [
  {
   "name": "None",
   "description": "",
   "help": ""
  }
 ],
 "rasterTypeInfos": [
  {
   "name": "Raster Dataset",
   "description": "Supports all ArcGIS Raster Datasets",
   "help": ""
  }
 ],
 "mensurationCapabilities": "Basic",
 "hasHistograms": false,
 "hasColormap": false,
 "hasRasterAttributeTable": false,
 "minScale": 0,
 "maxScale": 0,
 "exportTilesAllowed": false,
 "supportsStatistics": false,
 "supportsAdvancedQueries": false,
 "editFieldsInfo": null,
 "ownershipBasedAccessControlForRasters": null,
 "allowComputeTiePoints": false,
 "useStandardizedQueries": true,
 "advancedQueryCapabilities": {
  "useStandardizedQueries": true,
  "supportsStatistics": false,
  "supportsOrderBy": false,
  "supportsDistinct": false,
  "supportsPagination": false
 },
 "spatialReference": {
  "wkid": 102763,
  "latestWkid": 3089
 }
}
