View In:
ArcGIS JavaScript
ArcGIS Online Map Viewer
ArcGIS Earth
ArcMap
View Footprint In:
ArcGIS Online Map Viewer
Service Description: The 2005 era landcover change detection analysis produced for the State of Kentucky by the Kentucky Landscape Census Project are incorporated into the NLCD01 dataset. Both the LC2005 (KY's version) and the NLCD01 (KY's version) published in the Kentucky Geography Network are co-registered to the same geographic extent. The two datasets used in this update are the 2001-2005 Land Cover Change set and the Change/No-Change Binary Mask also published.The change detection analysis is based on Landsat Thematic Mapper scenes from 2001 and 2005. An accuracy report is also published concomitantly.
Name: ImageServices/Ky_KLCD_2005_30M
Description: The 2005 era landcover change detection analysis produced for the State of Kentucky by the Kentucky Landscape Census Project are incorporated into the NLCD01 dataset. Both the LC2005 (KY's version) and the NLCD01 (KY's version) published in the Kentucky Geography Network are co-registered to the same geographic extent. The two datasets used in this update are the 2001-2005 Land Cover Change set and the Change/No-Change Binary Mask also published.The change detection analysis is based on Landsat Thematic Mapper scenes from 2001 and 2005. An accuracy report is also published concomitantly.
Single Fused Map Cache: false
Extent:
XMin: 3736193.938791525
YMin: 3119815.740943432
XMax: 6123590.738791525
YMax: 4564497.890943432
Spatial Reference: 102763
(3089)
Initial Extent:
XMin: 3736193.938791525
YMin: 3119815.740943432
XMax: 6123590.738791525
YMax: 4564497.890943432
Spatial Reference: 102763
(3089)
Full Extent:
XMin: 3736193.938791525
YMin: 3119815.740943432
XMax: 6123590.738791525
YMax: 4564497.890943432
Spatial Reference: 102763
(3089)
Pixel Size X: 98.42500000000001
Pixel Size Y: 98.42500000000003
Band Count: 1
Pixel Type: U8
RasterFunction Infos: {"rasterFunctionInfos": [{
"name": "None",
"description": "",
"help": ""
}]}
Mensuration Capabilities: Basic
Has Histograms: true
Has Colormap: true
Has Multi Dimensions : false
Rendering Rule:
Min Scale: 0
Max Scale: 0
Copyright Text: USGS
Service Data Type: esriImageServiceDataTypeThematic
Min Values: 11
Max Values: 95
Mean Values: 54.27227724473249
Standard Deviation Values: 21.737163026802673
Object ID Field:
Fields:
None
Default Mosaic Method: Center
Allowed Mosaic Methods:
SortField:
SortValue: null
Mosaic Operator: First
Default Compression Quality: 75
Default Resampling Method: Bilinear
Max Record Count: null
Max Image Height: 4100
Max Image Width: 15000
Max Download Image Count: null
Max Mosaic Image Count: null
Allow Raster Function: true
Allow Compute TiePoints: false
Supports Statistics: false
Supports Advanced Queries: false
Use StandardizedQueries: true
Raster Type Infos:
Name: Raster Dataset
Description: Supports all ArcGIS Raster Datasets
Help:
Has Raster Attribute Table: true
Edit Fields Info: null
Ownership Based AccessControl For Rasters: null
Child Resources:
Info
Raster Attribute Table
Histograms
Key Properties
Color Map
Legend
MultiDimensionalInfo
rasterFunctionInfos
Supported Operations:
Export Image
Identify
Measure
Compute Histograms
Compute Statistics Histograms
Get Samples
Compute Class Statistics
Query Boundary