{
 "currentVersion": 10.61,
 "serviceDescription": "The 2005 era landcover change detection analysis produced for the State of Kentucky by the Kentucky Landscape Census Project are incorporated into the NLCD01 dataset. Both the LC2005 (KY's version) and the NLCD01 (KY's version) published in the Kentucky Geography Network are co-registered to the same geographic extent. The two datasets used in this update are the 2001-2005 Land Cover Change set and the Change/No-Change Binary Mask also published.The change detection analysis is based on Landsat Thematic Mapper scenes from 2001 and 2005. An accuracy report is also published concomitantly.",
 "name": "ImageServices/Ky_KLCD_2005_30M",
 "description": "The 2005 era landcover change detection analysis produced for the State of Kentucky by the Kentucky Landscape Census Project are incorporated into the NLCD01 dataset. Both the LC2005 (KY's version) and the NLCD01 (KY's version) published in the Kentucky Geography Network are co-registered to the same geographic extent. The two datasets used in this update are the 2001-2005 Land Cover Change set and the Change/No-Change Binary Mask also published.The change detection analysis is based on Landsat Thematic Mapper scenes from 2001 and 2005. An accuracy report is also published concomitantly.",
 "extent": {
  "xmin": 3736193.938791525,
  "ymin": 3119815.740943432,
  "xmax": 6123590.738791525,
  "ymax": 4564497.890943432,
  "spatialReference": {
   "wkid": 102763,
   "latestWkid": 3089
  }
 },
 "initialExtent": {
  "xmin": 3736193.938791525,
  "ymin": 3119815.740943432,
  "xmax": 6123590.738791525,
  "ymax": 4564497.890943432,
  "spatialReference": {
   "wkid": 102763,
   "latestWkid": 3089
  }
 },
 "fullExtent": {
  "xmin": 3736193.938791525,
  "ymin": 3119815.740943432,
  "xmax": 6123590.738791525,
  "ymax": 4564497.890943432,
  "spatialReference": {
   "wkid": 102763,
   "latestWkid": 3089
  }
 },
 "pixelSizeX": 98.42500000000001,
 "pixelSizeY": 98.42500000000003,
 "bandCount": 1,
 "pixelType": "U8",
 "minPixelSize": 0,
 "maxPixelSize": 0,
 "copyrightText": "USGS",
 "serviceDataType": "esriImageServiceDataTypeThematic",
 "minValues": [
  11
 ],
 "maxValues": [
  95
 ],
 "meanValues": [
  54.27227724473249
 ],
 "stdvValues": [
  21.737163026802673
 ],
 "objectIdField": "",
 "fields": [],
 "capabilities": "Image,Metadata,Mensuration",
 "defaultMosaicMethod": "Center",
 "allowedMosaicMethods": "",
 "sortField": "",
 "sortValue": null,
 "mosaicOperator": "First",
 "defaultCompressionQuality": 75,
 "defaultResamplingMethod": "Bilinear",
 "maxImageHeight": 4100,
 "maxImageWidth": 15000,
 "allowRasterFunction": true,
 "rasterFunctionInfos": [
  {
   "name": "None",
   "description": "",
   "help": ""
  }
 ],
 "rasterTypeInfos": [
  {
   "name": "Raster Dataset",
   "description": "Supports all ArcGIS Raster Datasets",
   "help": ""
  }
 ],
 "mensurationCapabilities": "Basic",
 "hasHistograms": true,
 "hasColormap": true,
 "hasRasterAttributeTable": true,
 "minScale": 0,
 "maxScale": 0,
 "exportTilesAllowed": false,
 "hasMultidimensions": false,
 "supportsStatistics": false,
 "supportsAdvancedQueries": false,
 "editFieldsInfo": null,
 "ownershipBasedAccessControlForRasters": null,
 "allowComputeTiePoints": false,
 "useStandardizedQueries": true,
 "advancedQueryCapabilities": {
  "useStandardizedQueries": true,
  "supportsStatistics": false,
  "supportsOrderBy": false,
  "supportsDistinct": false,
  "supportsPagination": false
 },
 "spatialReference": {
  "wkid": 102763,
  "latestWkid": 3089
 }
}
