View In:
ArcGIS JavaScript
ArcGIS Online Map Viewer
ArcGIS Earth
ArcMap
View Footprint In:
ArcGIS Online Map Viewer
Service Description: Imagery acquired during leaf-on conditions at a 2-foot resolution for Kentucky. Acquired at a higher-resolution by PhotoScience than required by NAIP.
Name: ImageServices/Ky_NAIP_2006_2FT
Description: Imagery acquired during leaf-on conditions at a 2-foot resolution for Kentucky. Acquired at a higher-resolution by PhotoScience than required by NAIP.
Single Fused Map Cache: false
Extent:
XMin: 3810000.0
YMin: 3340000.0
XMax: 6020000.0
YMax: 4310000.0
Spatial Reference: 102763
(3089)
LatestVCSWkid(0)
Initial Extent:
XMin: 3810000.0
YMin: 3340000.0
XMax: 6020000.0
YMax: 4310000.0
Spatial Reference: 102763
(3089)
LatestVCSWkid(0)
Full Extent:
XMin: 3810000.0
YMin: 3340000.0
XMax: 6020000.0
YMax: 4310000.0
Spatial Reference: 102763
(3089)
LatestVCSWkid(0)
Pixel Size X: 2.0
Pixel Size Y: 2.0
Band Count: 3
Pixel Type: U8
RasterFunction Infos: {"rasterFunctionInfos": [{
"name": "None",
"description": "",
"help": ""
}]}
Mensuration Capabilities: Basic
Has Histograms: false
Has Colormap: false
Has Multi Dimensions : false
Rendering Rule:
Min Scale: 0
Max Scale: 0
Copyright Text: DGI
Service Data Type: esriImageServiceDataTypeRGB
Min Values: N/A
Max Values: N/A
Mean Values: N/A
Standard Deviation Values: N/A
Object ID Field:
Fields:
None
Default Mosaic Method: Center
Allowed Mosaic Methods:
SortField:
SortValue: null
Mosaic Operator: First
Default Compression Quality: 75
Default Resampling Method: Bilinear
Max Record Count: null
Max Image Height: 4100
Max Image Width: 15000
Max Download Image Count: null
Max Mosaic Image Count: null
Allow Raster Function: true
Allow Copy: null
Allow Analysis: null
Allow Compute TiePoints: false
Supports Statistics: false
Supports Advanced Queries: false
Use StandardizedQueries: true
Raster Type Infos:
Name: Raster Dataset
Description: Supports all ArcGIS Raster Datasets
Help:
Has Raster Attribute Table: false
Edit Fields Info: null
Ownership Based AccessControl For Rasters: null
Child Resources:
Info
Key Properties
Legend
Raster Function Infos
Supported Operations:
Export Image
Identify
Measure
Compute Histograms
Compute Statistics Histograms
Get Samples
Compute Class Statistics
Query Boundary
Compute Pixel Location
Compute Angles
Validate
Project