View In:
ArcGIS JavaScript
ArcGIS Online Map Viewer
ArcGIS Earth
ArcMap
View Footprint In:
ArcGIS Online Map Viewer
Service Description: The LOJIC 3 inch aerial photography was collected for Jefferson, Bullitt, and Oldham Counties during Spring of 2021. LOJIC contributed this imagery to the Kentucky Aerial Photography and Elevation Data (KYAPED) Program.
Name: ImageServices/Ky_LOJIC_2021_3IN
Description: The LOJIC 3 inch aerial photography was collected for Jefferson, Bullitt, and Oldham Counties during Spring of 2021. LOJIC contributed this imagery to the Kentucky Aerial Photography and Elevation Data (KYAPED) Program.
Single Fused Map Cache: false
Extent:
XMin: 4862893.086211219
YMin: 3815143.8685640586
XMax: 5062147.836211219
YMax: 4080194.6185640586
Spatial Reference: 102763
(3089)
LatestVCSWkid(0)
Initial Extent:
XMin: 4862893.086211219
YMin: 3815143.8685640586
XMax: 5062147.836211219
YMax: 4080194.6185640586
Spatial Reference: 102763
(3089)
LatestVCSWkid(0)
Full Extent:
XMin: 4862893.086211219
YMin: 3815143.8685640586
XMax: 5062147.836211219
YMax: 4080194.6185640586
Spatial Reference: 102763
(3089)
LatestVCSWkid(0)
Pixel Size X: 0.25
Pixel Size Y: 0.25
Band Count: 4
Pixel Type: U8
RasterFunction Infos: {"rasterFunctionInfos": [{
"name": "None",
"description": "",
"help": ""
}]}
Mensuration Capabilities: None
Has Histograms: true
Has Colormap: false
Has Multi Dimensions : false
Rendering Rule:
Min Scale: 0
Max Scale: 0
Copyright Text: LOJIC
Service Data Type: esriImageServiceDataTypeGeneric
Min Values: 18, 29, 12, 2
Max Values: 255, 255, 255, 255
Mean Values: 153.49403988280235, 138.1461574547593, 109.01852250616841, 139.9475105936229
Standard Deviation Values: 39.53430662755929, 41.49780945847419, 46.905815090311926, 41.339881441105774
Object ID Field: OBJECTID
Fields:
-
OBJECTID
(
type: esriFieldTypeOID, alias: OBJECTID
)
-
Shape
(
type: esriFieldTypeGeometry, alias: Shape
)
-
Name
(
type: esriFieldTypeString, alias: Name, length: 200
)
-
MinPS
(
type: esriFieldTypeDouble, alias: MinPS
)
-
MaxPS
(
type: esriFieldTypeDouble, alias: MaxPS
)
-
LowPS
(
type: esriFieldTypeDouble, alias: LowPS
)
-
HighPS
(
type: esriFieldTypeDouble, alias: HighPS
)
-
Category
(
type: esriFieldTypeInteger, alias: Category
, Coded Values:
[0: Unknown]
, [1: Primary]
, [2: Overview]
, ...6 more...
)
-
Tag
(
type: esriFieldTypeString, alias: Tag, length: 100
)
-
GroupName
(
type: esriFieldTypeString, alias: GroupName, length: 100
)
-
ProductName
(
type: esriFieldTypeString, alias: ProductName, length: 100
)
-
CenterX
(
type: esriFieldTypeDouble, alias: CenterX
)
-
CenterY
(
type: esriFieldTypeDouble, alias: CenterY
)
-
ZOrder
(
type: esriFieldTypeInteger, alias: ZOrder
)
-
Shape_Length
(
type: esriFieldTypeDouble, alias: Shape_Length
)
-
Shape_Area
(
type: esriFieldTypeDouble, alias: Shape_Area
)
Default Mosaic Method: Northwest
Allowed Mosaic Methods: NorthWest,Center,LockRaster,ByAttribute,Nadir,Viewpoint,Seamline,None
SortField:
SortValue: null
Mosaic Operator: First
Default Compression Quality: 75
Default Resampling Method: Bilinear
Max Record Count: 1000
Max Image Height: 15000
Max Image Width: 15000
Max Download Image Count: 20
Max Mosaic Image Count: 20
Allow Raster Function: true
Allow Copy: null
Allow Analysis: null
Allow Compute TiePoints: false
Supports Statistics: true
Supports Advanced Queries: true
Use StandardizedQueries: true
Raster Type Infos:
Name: Raster Dataset
Description: Supports all ArcGIS Raster Datasets
Help:
Has Raster Attribute Table: false
Edit Fields Info: null
Ownership Based AccessControl For Rasters: null
Child Resources:
Info
Histograms
Key Properties
Legend
Raster Function Infos
Supported Operations:
Export Image
Query
Identify
Compute Histograms
Compute Statistics Histograms
Get Samples
Compute Class Statistics
Query Boundary
Compute Pixel Location
Compute Angles
Validate
Project