View In:
ArcGIS JavaScript
ArcGIS Online Map Viewer
ArcGIS Earth
ArcMap
View Footprint In:
ArcGIS Online Map Viewer
Service Description: ImageServices/Ky_KRG_LEGACY
Name: ImageServices/Ky_KRG_LEGACY
Description:
Single Fused Map Cache: false
Extent:
XMin: 3780453.333333299
YMin: 3304013.333284812
XMax: 6045059.999947223
YMax: 4344886.666666655
Spatial Reference: 102763
(3089)
LatestVCSWkid(0)
Initial Extent:
XMin: 3780453.333333299
YMin: 3304013.333284812
XMax: 6045059.999947223
YMax: 4344886.666666655
Spatial Reference: 102763
(3089)
LatestVCSWkid(0)
Full Extent:
XMin: 3780453.333333299
YMin: 3304013.333284812
XMax: 6045059.999947223
YMax: 4344886.666666655
Spatial Reference: 102763
(3089)
LatestVCSWkid(0)
Pixel Size X: 6.6666666665114
Pixel Size Y: 6.666666666977364
Band Count: 1
Pixel Type: U8
RasterFunction Infos: {"rasterFunctionInfos": [{
"name": "None",
"description": "",
"help": ""
}]}
Mensuration Capabilities: Basic
Has Histograms: false
Has Colormap: true
Has Multi Dimensions : false
Rendering Rule:
Min Scale: 0
Max Scale: 0
Copyright Text:
Service Data Type: esriImageServiceDataTypeGeneric
Min Values: N/A
Max Values: N/A
Mean Values: N/A
Standard Deviation Values: N/A
Object ID Field:
Fields:
None
Default Mosaic Method: Center
Allowed Mosaic Methods:
SortField:
SortValue: null
Mosaic Operator: First
Default Compression Quality: 75
Default Resampling Method: Bilinear
Max Record Count: null
Max Image Height: 4100
Max Image Width: 15000
Max Download Image Count: null
Max Mosaic Image Count: null
Allow Raster Function: true
Allow Copy: null
Allow Analysis: null
Allow Compute TiePoints: false
Supports Statistics: false
Supports Advanced Queries: false
Use StandardizedQueries: true
Raster Type Infos:
Name: Raster Dataset
Description: Supports all ArcGIS Raster Datasets
Help:
Has Raster Attribute Table: true
Edit Fields Info: null
Ownership Based AccessControl For Rasters: null
Child Resources:
Info
Raster Attribute Table
Key Properties
Color Map
Legend
Raster Function Infos
Supported Operations:
Export Image
Identify
Measure
Compute Histograms
Compute Statistics Histograms
Get Samples
Compute Class Statistics
Query Boundary
Compute Pixel Location
Compute Angles
Validate
Project