View In:
ArcGIS JavaScript
ArcGIS Online Map Viewer
ArcGIS Earth
ArcMap
View Footprint In:
ArcGIS Online Map Viewer
Service Description: ImageServices/Ky_CanopyClosure_2011_30M
Name: ImageServices/Ky_CanopyClosure_2011_30M
Description:
Single Fused Map Cache: false
Extent:
XMin: 3798907.390408313
YMin: 3348784.2127647144
XMax: 6018391.140408313
YMax: 4307246.862764714
Spatial Reference: 102763
(3089)
LatestVCSWkid(0)
Initial Extent:
XMin: 3798907.390408313
YMin: 3348784.2127647144
XMax: 6018391.140408313
YMax: 4307246.862764714
Spatial Reference: 102763
(3089)
LatestVCSWkid(0)
Full Extent:
XMin: 3798907.390408313
YMin: 3348784.2127647144
XMax: 6018391.140408313
YMax: 4307246.862764714
Spatial Reference: 102763
(3089)
LatestVCSWkid(0)
Pixel Size X: 98.425
Pixel Size Y: 98.425
Band Count: 1
Pixel Type: S32
RasterFunction Infos: {"rasterFunctionInfos": [{
"name": "None",
"description": "",
"help": ""
}]}
Mensuration Capabilities: Basic
Has Histograms: true
Has Colormap: true
Has Multi Dimensions : false
Rendering Rule:
Min Scale: 0
Max Scale: 0
Copyright Text:
Service Data Type: esriImageServiceDataTypeThematic
Min Values: 0
Max Values: 100
Mean Values: 49.21042903266829
Standard Deviation Values: 40.777669091722146
Object ID Field:
Fields:
None
Default Mosaic Method: Center
Allowed Mosaic Methods:
SortField:
SortValue: null
Mosaic Operator: First
Default Compression Quality: 75
Default Resampling Method: Bilinear
Max Record Count: null
Max Image Height: 4100
Max Image Width: 15000
Max Download Image Count: null
Max Mosaic Image Count: null
Allow Raster Function: true
Allow Copy: null
Allow Analysis: null
Allow Compute TiePoints: false
Supports Statistics: false
Supports Advanced Queries: false
Use StandardizedQueries: true
Raster Type Infos:
Name: Raster Dataset
Description: Supports all ArcGIS Raster Datasets
Help:
Has Raster Attribute Table: true
Edit Fields Info: null
Ownership Based AccessControl For Rasters: null
Child Resources:
Info
Raster Attribute Table
Histograms
Key Properties
Color Map
Legend
Raster Function Infos
Supported Operations:
Export Image
Identify
Measure
Compute Histograms
Compute Statistics Histograms
Get Samples
Compute Class Statistics
Query Boundary
Compute Pixel Location
Compute Angles
Validate
Project