View In:
ArcGIS JavaScript
ArcGIS Online Map Viewer
ArcGIS Earth
ArcMap
View Footprint In:
ArcGIS Online Map Viewer
Service Description: USGS 10-meter DEM rendered using a hillshade function. The surface of this DEM is no longer current and should not be used for analysis.
Name: ElevationServices/Ky_Hillshade_USGS_10M
Description: USGS 10-meter DEM rendered using a hillshade function. The surface of this DEM is no longer current and should not be used for analysis.
Single Fused Map Cache: false
Extent:
XMin: 3798937.756120935
YMin: 3348809.2503010198
XMax: 6018377.387032343
YMax: 4307227.4994712025
Spatial Reference: 102763
(3089)
LatestVCSWkid(0)
Initial Extent:
XMin: 3798937.756120935
YMin: 3348809.2503010198
XMax: 6018377.387032343
YMax: 4307227.4994712025
Spatial Reference: 102763
(3089)
LatestVCSWkid(0)
Full Extent:
XMin: 3798937.756120935
YMin: 3348809.2503010198
XMax: 6018377.387032343
YMax: 4307227.4994712025
Spatial Reference: 102763
(3089)
LatestVCSWkid(0)
Pixel Size X: 29.999319180236107
Pixel Size Y: 29.999319180236093
Band Count: 1
Pixel Type: S16
RasterFunction Infos: {"rasterFunctionInfos": [{
"name": "None",
"description": "",
"help": ""
}]}
Mensuration Capabilities: Basic
Has Histograms: true
Has Colormap: false
Has Multi Dimensions : false
Rendering Rule:
Min Scale: 0
Max Scale: 0
Copyright Text: USGS
Service Data Type: esriImageServiceDataTypeGeneric
Min Values: 0
Max Values: 254
Mean Values: 115.42864413491122
Standard Deviation Values: 88.56735175732486
Object ID Field:
Fields:
None
Default Mosaic Method: Center
Allowed Mosaic Methods:
SortField:
SortValue: null
Mosaic Operator: First
Default Compression Quality: 75
Default Resampling Method: Bilinear
Max Record Count: null
Max Image Height: 4100
Max Image Width: 15000
Max Download Image Count: null
Max Mosaic Image Count: null
Allow Raster Function: true
Allow Copy: true
Allow Analysis: true
Allow Compute TiePoints: false
Supports Statistics: false
Supports Advanced Queries: false
Use StandardizedQueries: true
Raster Type Infos:
Name: Raster Dataset
Description: Supports all ArcGIS Raster Datasets
Help:
Has Raster Attribute Table: false
Edit Fields Info: null
Ownership Based AccessControl For Rasters: null
Child Resources:
Info
Histograms
Statistics
Key Properties
Legend
Raster Function Infos
Supported Operations:
Export Image
Identify
Measure
Compute Histograms
Compute Statistics Histograms
Get Samples
Compute Class Statistics
Query Boundary
Compute Pixel Location
Compute Angles
Validate
Project