View In:
ArcGIS JavaScript
ArcGIS Online Map Viewer
ArcGIS Earth
ArcMap
View Footprint In:
ArcGIS Online Map Viewer
Service Description: This dynamic image services provides access to the LOJIC DEM from 2009. LOJIC = Louisville, Oldham, Jefferson Information Consortium
Name: ElevationServices/Ky_DEM_LOJIC_2009_5FT
Description: This dynamic image services provides access to the LOJIC DEM from 2009. LOJIC = Louisville, Oldham, Jefferson Information Consortium
Single Fused Map Cache: false
Extent:
XMin: 4859999.999805853
YMin: 3810000.000161767
XMax: 5059999.999805853
YMax: 4080000.000161767
Spatial Reference: 102763
(3089)
LatestVCSWkid(0)
Initial Extent:
XMin: 4859999.999805853
YMin: 3810000.000161767
XMax: 5059999.999805853
YMax: 4080000.000161767
Spatial Reference: 102763
(3089)
LatestVCSWkid(0)
Full Extent:
XMin: 4859999.999805853
YMin: 3810000.000161767
XMax: 5059999.999805853
YMax: 4080000.000161767
Spatial Reference: 102763
(3089)
LatestVCSWkid(0)
Pixel Size X: 5.0
Pixel Size Y: 5.0
Band Count: 1
Pixel Type: F32
RasterFunction Infos: {"rasterFunctionInfos": [{
"name": "None",
"description": "",
"help": ""
}]}
Mensuration Capabilities: Basic
Has Histograms: true
Has Colormap: false
Has Multi Dimensions : false
Rendering Rule:
Min Scale: 0
Max Scale: 0
Copyright Text: LOJIC, KyFromAbove
Service Data Type: esriImageServiceDataTypeGeneric
Min Values: 365.57000732421875
Max Values: 977.9400024414062
Mean Values: 602.5814127470051
Standard Deviation Values: 123.67960803603154
Object ID Field:
Fields:
None
Default Mosaic Method: Center
Allowed Mosaic Methods:
SortField:
SortValue: null
Mosaic Operator: First
Default Compression Quality: 75
Default Resampling Method: Bilinear
Max Record Count: null
Max Image Height: 4100
Max Image Width: 15000
Max Download Image Count: null
Max Mosaic Image Count: null
Allow Raster Function: true
Allow Copy: null
Allow Analysis: null
Allow Compute TiePoints: false
Supports Statistics: false
Supports Advanced Queries: false
Use StandardizedQueries: true
Raster Type Infos:
Name: Raster Dataset
Description: Supports all ArcGIS Raster Datasets
Help:
Has Raster Attribute Table: false
Edit Fields Info: null
Ownership Based AccessControl For Rasters: null
Child Resources:
Info
Histograms
Key Properties
Legend
Raster Function Infos
Supported Operations:
Export Image
Identify
Measure
Compute Histograms
Compute Statistics Histograms
Get Samples
Compute Class Statistics
Query Boundary
Compute Pixel Location
Compute Angles
Validate
Project