View In:
ArcGIS JavaScript
ArcGIS Online Map Viewer
ArcGIS Earth
ArcMap
View Footprint In:
ArcGIS Online Map Viewer
Service Description: This Dynamic Image Service provides access to the Phase1 5-Foot Digital Elevation Model (DEM) for Kentucky. Rendered using a MultiDirectional Hillshade Function.
Name: ElevationServices/Ky_DEM_KYAPED_5FT_MultiDirectionalHillshade
Description: This Dynamic Image Service provides access to the Phase1 5-Foot Digital Elevation Model (DEM) for Kentucky. Rendered using a MultiDirectional Hillshade Function.
Single Fused Map Cache: false
Extent:
XMin: 3798940
YMin: 3347805
XMax: 6019070
YMax: 4308265
Spatial Reference: 102763
(3089)
Initial Extent:
XMin: 3798940
YMin: 3347805
XMax: 6019070
YMax: 4308265
Spatial Reference: 102763
(3089)
Full Extent:
XMin: 3798940
YMin: 3347805
XMax: 6019070
YMax: 4308265
Spatial Reference: 102763
(3089)
Pixel Size X: 5.0
Pixel Size Y: 5.0
Band Count: 1
Pixel Type: U8
RasterFunction Infos: {"rasterFunctionInfos": [{
"name": "None",
"description": "",
"help": ""
}]}
Mensuration Capabilities: Basic
Has Histograms: true
Has Colormap: false
Has Multi Dimensions : false
Rendering Rule:
Min Scale: 0
Max Scale: 0
Copyright Text: KyFromAbove
Service Data Type: esriImageServiceDataTypeGeneric
Min Values: 0
Max Values: 238
Mean Values: 205.9485504207995
Standard Deviation Values: 36.17525291237862
Object ID Field:
Fields:
None
Default Mosaic Method: Center
Allowed Mosaic Methods:
SortField:
SortValue: null
Mosaic Operator: First
Default Compression Quality: 75
Default Resampling Method: Bilinear
Max Record Count: null
Max Image Height: 4100
Max Image Width: 15000
Max Download Image Count: null
Max Mosaic Image Count: null
Allow Raster Function: true
Allow Compute TiePoints: false
Supports Statistics: false
Supports Advanced Queries: false
Use StandardizedQueries: true
Raster Type Infos:
Name: Raster Dataset
Description: Supports all ArcGIS Raster Datasets
Help:
Has Raster Attribute Table: false
Edit Fields Info: null
Ownership Based AccessControl For Rasters: null
Child Resources:
Info
Histograms
Key Properties
Legend
MultiDimensionalInfo
rasterFunctionInfos
Supported Operations:
Export Image
Identify
Measure
Compute Histograms
Compute Statistics Histograms
Get Samples
Compute Class Statistics
Query Boundary