View In:
ArcGIS JavaScript
ArcGIS Online Map Viewer
ArcGIS Earth
ArcMap
View Footprint In:
ArcGIS Online Map Viewer
Service Description: Access the KyFromAbove Phase3 2-Foot Digital Elevation Model (DEM) rendered using a standard hillshade function. The service is in Kentucky Single Coordinate System (3089).
The Phase3 effort is still underway. More data will be added as it becomes available.
Visit the KyFromAbove website for more information about this data the overall program.
Name: ElevationServices/Ky_DEM_KYAPED_2FT_Phase3_Hillshade_WGS84WM
Description: Access the KyFromAbove Phase3 2-Foot Digital Elevation Model (DEM) rendered using a standard hillshade function. The service is in Kentucky Single Coordinate System (3089).
The Phase3 effort is still underway. More data will be added as it becomes available.
Visit the KyFromAbove website for more information about this data the overall program.
Single Fused Map Cache: false
Extent:
XMin: -9940267.208534418
YMin: 4425443.942087885
XMax: -9114789.738379477
YMax: 4740613.258826518
Spatial Reference: 102100
(3857)
VCSWkid(6358)
LatestVCSWkid(6358)
Initial Extent:
XMin: -9940267.208534418
YMin: 4425443.942087885
XMax: -9114789.738379477
YMax: 4740613.258826518
Spatial Reference: 102100
(3857)
VCSWkid(6358)
LatestVCSWkid(6358)
Full Extent:
XMin: -9940267.208534418
YMin: 4425443.942087885
XMax: -9114789.738379477
YMax: 4740613.258826518
Spatial Reference: 102100
(3857)
VCSWkid(6358)
LatestVCSWkid(6358)
Pixel Size X: 0.6096012192024389
Pixel Size Y: 0.6096012192024384
Band Count: 1
Pixel Type: U8
RasterFunction Infos: {"rasterFunctionInfos": [{
"name": "None",
"description": "",
"help": ""
}]}
Mensuration Capabilities: None
Has Histograms: true
Has Colormap: false
Has Multi Dimensions : false
Rendering Rule:
Min Scale: 0
Max Scale: 0
Copyright Text: KyFromAbove Partners
Service Data Type: esriImageServiceDataTypeProcessed
Min Values: 121.5201187133789
Max Values: 3139.659423828125
Mean Values: 878.1383269209164
Standard Deviation Values: 314.85684220374424
Object ID Field: OBJECTID
Fields:
-
OBJECTID
(
type: esriFieldTypeOID, alias: OBJECTID
)
-
Shape
(
type: esriFieldTypeGeometry, alias: Shape
)
-
Name
(
type: esriFieldTypeString, alias: Name, length: 200
)
-
MinPS
(
type: esriFieldTypeDouble, alias: MinPS
)
-
MaxPS
(
type: esriFieldTypeDouble, alias: MaxPS
)
-
LowPS
(
type: esriFieldTypeDouble, alias: LowPS
)
-
HighPS
(
type: esriFieldTypeDouble, alias: HighPS
)
-
Category
(
type: esriFieldTypeInteger, alias: Category
, Coded Values:
[0: Unknown]
, [1: Primary]
, [2: Overview]
, ...6 more...
)
-
Tag
(
type: esriFieldTypeString, alias: Tag, length: 100
)
-
GroupName
(
type: esriFieldTypeString, alias: GroupName, length: 100
)
-
ProductName
(
type: esriFieldTypeString, alias: ProductName, length: 100
)
-
CenterX
(
type: esriFieldTypeDouble, alias: CenterX
)
-
CenterY
(
type: esriFieldTypeDouble, alias: CenterY
)
-
ZOrder
(
type: esriFieldTypeInteger, alias: ZOrder
)
-
Shape_Length
(
type: esriFieldTypeDouble, alias: Shape_Length
)
-
Shape_Area
(
type: esriFieldTypeDouble, alias: Shape_Area
)
Default Mosaic Method: Northwest
Allowed Mosaic Methods: NorthWest,Center,LockRaster,ByAttribute,Nadir,Viewpoint,Seamline,None
SortField:
SortValue: null
Mosaic Operator: First
Default Compression Quality: 75
Default Resampling Method: Bilinear
Max Record Count: 1000
Max Image Height: 15000
Max Image Width: 15000
Max Download Image Count: 20
Max Mosaic Image Count: 28
Allow Raster Function: true
Allow Copy: true
Allow Analysis: true
Allow Compute TiePoints: false
Supports Statistics: true
Supports Advanced Queries: true
Use StandardizedQueries: true
Raster Type Infos:
Name: Raster Dataset
Description: Supports all ArcGIS Raster Datasets
Help:
Has Raster Attribute Table: false
Edit Fields Info: null
Ownership Based AccessControl For Rasters: null
Child Resources:
Info
Histograms
Statistics
Key Properties
Legend
Raster Function Infos
Supported Operations:
Export Image
Query
Identify
Compute Histograms
Compute Statistics Histograms
Get Samples
Compute Class Statistics
Query Boundary
Compute Pixel Location
Compute Angles
Validate
Project