View In:
ArcGIS JavaScript
ArcGIS Online Map Viewer
ArcGIS Earth
ArcMap
View Footprint In:
ArcGIS Online Map Viewer
Service Description: KyFromAbove Phase2 2-Foot Digital Elevation Model (DEM) for Kentucky.
Name: ElevationServices/Ky_DEM_KYAPED_2FT_Phase2
Description: KyFromAbove Phase2 2-Foot Digital Elevation Model (DEM) for Kentucky.
Single Fused Map Cache: false
Extent:
XMin: 3795000.0
YMin: 3345000.0
XMax: 6020000.0
YMax: 4310000.0
Spatial Reference: 102763
(3089)
LatestVCSWkid(0)
Initial Extent:
XMin: 3795000.0
YMin: 3345000.0
XMax: 6020000.0
YMax: 4310000.0
Spatial Reference: 102763
(3089)
LatestVCSWkid(0)
Full Extent:
XMin: 3795000.0
YMin: 3345000.0
XMax: 6020000.0
YMax: 4310000.0
Spatial Reference: 102763
(3089)
LatestVCSWkid(0)
Pixel Size X: 2.0
Pixel Size Y: 2.0
Band Count: 1
Pixel Type: F32
RasterFunction Infos: {"rasterFunctionInfos": [{
"name": "None",
"description": "",
"help": ""
}]}
Mensuration Capabilities: Basic
Has Histograms: true
Has Colormap: false
Has Multi Dimensions : false
Rendering Rule:
Min Scale: 0
Max Scale: 0
Copyright Text: KyFromAbove, DGI
Service Data Type: esriImageServiceDataTypeElevation
Min Values: -167.5354766845703
Max Values: 4139.4375
Mean Values: 818.1848102927969
Standard Deviation Values: 358.66700583178044
Object ID Field:
Fields:
None
Default Mosaic Method: Center
Allowed Mosaic Methods:
SortField:
SortValue: null
Mosaic Operator: First
Default Compression Quality: 75
Default Resampling Method: Bilinear
Max Record Count: null
Max Image Height: 150000
Max Image Width: 150000
Max Download Image Count: null
Max Mosaic Image Count: null
Allow Raster Function: true
Allow Copy: null
Allow Analysis: null
Allow Compute TiePoints: false
Supports Statistics: false
Supports Advanced Queries: false
Use StandardizedQueries: true
Raster Type Infos:
Name: Raster Dataset
Description: Supports all ArcGIS Raster Datasets
Help:
Has Raster Attribute Table: false
Edit Fields Info: null
Ownership Based AccessControl For Rasters: null
Child Resources:
Info
Histograms
Key Properties
Legend
Raster Function Infos
Supported Operations:
Export Image
Identify
Measure
Compute Histograms
Compute Statistics Histograms
Get Samples
Compute Class Statistics
Query Boundary
Compute Pixel Location
Compute Angles
Validate
Project
Calculate Volume