View In:
ArcGIS JavaScript
ArcGIS Online Map Viewer
ArcGIS Earth
ArcMap
View Footprint In:
ArcGIS Online Map Viewer
Service Description: USGS National Land Cover Database clipped to Kentucky and projected to EPSG: 3089. Source: U.S. Geological Survey (USGS), 2024, Annual NLCD Collection 1 Science Products: U.S. Geological Survey data release, https://doi.org/10.5066/P94UXNTS
Name: ThematicServices/Ky_Annual_NLCD_2013_30M
Description: USGS National Land Cover Database clipped to Kentucky and projected to EPSG: 3089. Source: U.S. Geological Survey (USGS), 2024, Annual NLCD Collection 1 Science Products: U.S. Geological Survey data release, https://doi.org/10.5066/P94UXNTS
Single Fused Map Cache: false
Extent:
XMin: 3796724.506434758
YMin: 3135406.4631648352
XMax: 6070637.281434758
YMax: 4445049.513164835
Spatial Reference: 102763
(3089)
LatestVCSWkid(0)
Initial Extent:
XMin: 3796724.506434758
YMin: 3135406.4631648352
XMax: 6070637.281434758
YMax: 4445049.513164835
Spatial Reference: 102763
(3089)
LatestVCSWkid(0)
Full Extent:
XMin: 3796724.506434758
YMin: 3135406.4631648352
XMax: 6070637.281434758
YMax: 4445049.513164835
Spatial Reference: 102763
(3089)
LatestVCSWkid(0)
Pixel Size X: 98.42499999999997
Pixel Size Y: 98.42499999999998
Band Count: 1
Pixel Type: U8
RasterFunction Infos: {"rasterFunctionInfos": [
{
"name": "None",
"description": "Make a Raster or Raster Dataset into a Function Raster Dataset.",
"help": ""
},
{
"name": "ForestExtent",
"description": "Forest extent: collapses NLCD 41 (Deciduous), 42 (Evergreen), 43 (Mixed) to a single class. Non-forest pixels are NoData.",
"help": ""
},
{
"name": "ImperviousExtent",
"description": "Impervious extent: collapses NLCD 22 (Developed Med), 23 (Developed High), 24 (Developed Very High), 31 (Barren) to a single class. Other pixels are NoData.",
"help": ""
},
{
"name": "OpenLandExtent",
"description": "Open land extent: collapses NLCD 21 (Dev Open Space), 52 (Shrub/Scrub), 71 (Grassland/Herbaceous), 81 (Pasture/Hay), 82 (Cultivated Crops) to a single class. Other pixels are NoData.",
"help": ""
}
]}
Mensuration Capabilities: Basic
Has Histograms: true
Has Colormap: true
Has Multi Dimensions : false
Rendering Rule:
Min Scale: 0
Max Scale: 0
Copyright Text: U.S. Geological Survey (USGS)
Service Data Type: esriImageServiceDataTypeThematic
Min Values: 11
Max Values: 95
Mean Values: 54.13940602580125
Standard Deviation Values: 22.497469580576436
Object ID Field:
Fields:
None
Default Mosaic Method: Center
Allowed Mosaic Methods:
SortField:
SortValue: null
Mosaic Operator: First
Default Compression Quality: 75
Default Resampling Method: Nearest
Max Record Count: null
Max Image Height: 12000
Max Image Width: 12000
Max Download Image Count: null
Max Mosaic Image Count: null
Allow Raster Function: true
Allow Copy: true
Allow Analysis: true
Allow Compute TiePoints: false
Supports Statistics: false
Supports Advanced Queries: false
Use StandardizedQueries: true
Raster Type Infos:
Name: Raster Dataset
Description: Supports all ArcGIS Raster Datasets
Help:
Has Raster Attribute Table: true
Edit Fields Info: null
Ownership Based AccessControl For Rasters: null
Child Resources:
Info
Raster Attribute Table
Histograms
Statistics
Key Properties
Color Map
Legend
Raster Function Infos
Supported Operations:
Export Image
Identify
Measure
Compute Histograms
Compute Statistics Histograms
Get Samples
Compute Class Statistics
Query Boundary
Compute Pixel Location
Compute Angles
Validate
Project