View In:
ArcGIS JavaScript
ArcGIS Online Map Viewer
ArcGIS Earth
ArcMap
View Footprint In:
ArcGIS Online Map Viewer
Service Description: The U.S. Geological Survey (USGS), in partnership with several federal agencies, has now developed and released seven National Land Cover Database (NLCD) products: NLCD 1992, 2001, 2006, 2011, 2016, 2019, and 2021. Beginning with the 2016 release, land cover products were created for two-to-three-year intervals between 2001 and the most recent year. These products provide spatially explicit and reliable information on the Nation’s land cover and land cover change. NLCD continues to provide innovative, consistent, and robust methodologies for production of a multi-temporal land cover and land cover change database. NLCD 2021 adds an additional year to the map products produced for NLCD 2019, with a streamlined compositing process for assembling and preprocessing Landsat imagery and geospatial ancillary datasets; a temporally, spectrally, and spatially integrated land cover change analysis strategy; a theme-based post-classification protocol for generating land cover and change products; a continuous fields biophysical parameters modeling method; and a scripted operational system. The overall accuracy of the 2019 Level I land cover was 91%. Results from this study confirm the robustness of this comprehensive and highly automated procedure for NLCD 2021 operational mapping (see https://doi.org/10.1080/15481603.2023.2181143 for the latest accuracy assessment publication). Questions about the NLCD 2021 land cover product can be directed to the NLCD 2021 land cover mapping team at USGS EROS, Sioux Falls, SD (605) 594-6151 or mrlc@usgs.gov. See included spatial metadata for more details.
Name: ImageServices/Ky_NLCD_2021_30M
Description: The U.S. Geological Survey (USGS), in partnership with several federal agencies, has now developed and released seven National Land Cover Database (NLCD) products: NLCD 1992, 2001, 2006, 2011, 2016, 2019, and 2021. Beginning with the 2016 release, land cover products were created for two-to-three-year intervals between 2001 and the most recent year. These products provide spatially explicit and reliable information on the Nation’s land cover and land cover change. NLCD continues to provide innovative, consistent, and robust methodologies for production of a multi-temporal land cover and land cover change database. NLCD 2021 adds an additional year to the map products produced for NLCD 2019, with a streamlined compositing process for assembling and preprocessing Landsat imagery and geospatial ancillary datasets; a temporally, spectrally, and spatially integrated land cover change analysis strategy; a theme-based post-classification protocol for generating land cover and change products; a continuous fields biophysical parameters modeling method; and a scripted operational system. The overall accuracy of the 2019 Level I land cover was 91%. Results from this study confirm the robustness of this comprehensive and highly automated procedure for NLCD 2021 operational mapping (see https://doi.org/10.1080/15481603.2023.2181143 for the latest accuracy assessment publication). Questions about the NLCD 2021 land cover product can be directed to the NLCD 2021 land cover mapping team at USGS EROS, Sioux Falls, SD (605) 594-6151 or mrlc@usgs.gov. See included spatial metadata for more details.
Single Fused Map Cache: false
Extent:
XMin: 3798907.390396105
YMin: 3348784.2126362785
XMax: 6018391.140396105
YMax: 4307246.862636278
Spatial Reference: 102763
(3089)
Initial Extent:
XMin: 3798907.390396105
YMin: 3348784.2126362785
XMax: 6018391.140396105
YMax: 4307246.862636278
Spatial Reference: 102763
(3089)
Full Extent:
XMin: 3798907.390396105
YMin: 3348784.2126362785
XMax: 6018391.140396105
YMax: 4307246.862636278
Spatial Reference: 102763
(3089)
Pixel Size X: 98.425
Pixel Size Y: 98.425
Band Count: 1
Pixel Type: U8
RasterFunction Infos: {"rasterFunctionInfos": [{
"name": "None",
"description": "",
"help": ""
}]}
Mensuration Capabilities: Basic
Has Histograms: true
Has Colormap: true
Has Multi Dimensions : false
Rendering Rule:
Min Scale: 0
Max Scale: 0
Copyright Text: U.S. Geological Survey
Service Data Type: esriImageServiceDataTypeThematic
Min Values: 11
Max Values: 95
Mean Values: 53.689668986490005
Standard Deviation Values: 21.93571313339925
Object ID Field:
Fields:
None
Default Mosaic Method: Center
Allowed Mosaic Methods:
SortField:
SortValue: null
Mosaic Operator: First
Default Compression Quality: 75
Default Resampling Method: Bilinear
Max Record Count: null
Max Image Height: 4100
Max Image Width: 15000
Max Download Image Count: null
Max Mosaic Image Count: null
Allow Raster Function: true
Allow Compute TiePoints: false
Supports Statistics: false
Supports Advanced Queries: false
Use StandardizedQueries: true
Raster Type Infos:
Name: Raster Dataset
Description: Supports all ArcGIS Raster Datasets
Help:
Has Raster Attribute Table: true
Edit Fields Info: null
Ownership Based AccessControl For Rasters: null
Child Resources:
Info
Raster Attribute Table
Histograms
Key Properties
Color Map
Legend
MultiDimensionalInfo
rasterFunctionInfos
Supported Operations:
Export Image
Identify
Measure
Compute Histograms
Compute Statistics Histograms
Get Samples
Compute Class Statistics
Query Boundary