View In:
ArcGIS JavaScript
ArcGIS Online Map Viewer
ArcGIS Earth
ArcMap
View Footprint In:
ArcGIS Online Map Viewer
Service Description: 1/2' orthophotography was collected for Campbell and Kenton Counties with a LMK 2000 camera. It was scanned at 15 microns and orthorectified to client-provided DTMs, some of which were updated by Photo Science, Inc..
Name: ImageServices/Ky_NKAPC_2007_6IN
Description: 1/2' orthophotography was collected for Campbell and Kenton Counties with a LMK 2000 camera. It was scanned at 15 microns and orthorectified to client-provided DTMs, some of which were updated by Photo Science, Inc..
Single Fused Map Cache: false
Extent:
XMin: 5237707.5
YMin: 4175120
XMax: 5354450
YMax: 4300622
Spatial Reference: 102763
(3089)
Initial Extent:
XMin: 5237707.5
YMin: 4175120
XMax: 5354450
YMax: 4300622
Spatial Reference: 102763
(3089)
Full Extent:
XMin: 5237707.5
YMin: 4175120
XMax: 5354450
YMax: 4300622
Spatial Reference: 102763
(3089)
Pixel Size X: 0.5
Pixel Size Y: 0.5
Band Count: 3
Pixel Type: U8
RasterFunction Infos: {"rasterFunctionInfos": [{
"name": "None",
"description": "",
"help": ""
}]}
Mensuration Capabilities: Basic
Has Histograms: false
Has Colormap: false
Has Multi Dimensions : false
Rendering Rule:
Min Scale: 0
Max Scale: 0
Copyright Text: NKY
Service Data Type: esriImageServiceDataTypeRGB
Min Values: N/A
Max Values: N/A
Mean Values: N/A
Standard Deviation Values: N/A
Object ID Field:
Fields:
None
Default Mosaic Method: Center
Allowed Mosaic Methods:
SortField:
SortValue: null
Mosaic Operator: First
Default Compression Quality: 75
Default Resampling Method: Bilinear
Max Record Count: null
Max Image Height: 4100
Max Image Width: 15000
Max Download Image Count: null
Max Mosaic Image Count: null
Allow Raster Function: true
Allow Compute TiePoints: false
Supports Statistics: false
Supports Advanced Queries: false
Use StandardizedQueries: true
Raster Type Infos:
Name: Raster Dataset
Description: Supports all ArcGIS Raster Datasets
Help:
Has Raster Attribute Table: false
Edit Fields Info: null
Ownership Based AccessControl For Rasters: null
Child Resources:
Info
Key Properties
Legend
MultiDimensionalInfo
rasterFunctionInfos
Supported Operations:
Export Image
Identify
Measure
Compute Histograms
Compute Statistics Histograms
Get Samples
Compute Class Statistics
Query Boundary