View In:
ArcGIS JavaScript
ArcGIS Online Map Viewer
ArcGIS Earth
ArcMap
View Footprint In:
ArcGIS Online Map Viewer
Service Description: ImageServices/Ky_NAIP_2020_2FT
Name: ImageServices/Ky_NAIP_2020_2FT
Description:
Single Fused Map Cache: false
Extent:
XMin: 3798937.756121137
YMin: 3348809.158109775
XMax: 6018370.325120632
YMax: 4307216.690109557
Spatial Reference:
102763
(3089)
Initial Extent:
XMin: 3798937.756121137
YMin: 3348809.158109775
XMax: 6018370.325120632
YMax: 4307216.690109557
Spatial Reference:
102763
(3089)
Full Extent:
XMin: 3798937.756121137
YMin: 3348809.158109775
XMax: 6018370.325120632
YMax: 4307216.690109557
Spatial Reference:
102763
(3089)
Pixel Size X: 1.9684999999995516
Pixel Size Y: 1.9684999999995516
Band Count: 4
Pixel Type: U8
RasterFunction Infos: {"rasterFunctionInfos": [{
"name": "None",
"description": "A No-Op Function.",
"help": ""
}]}
Mensuration Capabilities: None
Has Histograms: true
Has Colormap: false
Has Multi Dimensions : false
Rendering Rule:
Min Scale: 0
Max Scale: 0
Copyright Text:
Service Data Type: esriImageServiceDataTypeGeneric
Min Values: 36, 46, 42, 1
Max Values: 215, 217, 218, 209
Mean Values: 89.76919553977613, 108.5922400284639, 83.92354334940671, 129.8463259172863
Standard Deviation Values: 25.82993080708861, 19.205773375562675, 19.3088355210384, 19.661156388705134
Object ID Field: OBJECTID
Fields:
-
OBJECTID
(
type: esriFieldTypeOID
,
alias: OBJECTID
)
-
Shape
(
type: esriFieldTypeGeometry
,
alias: Shape
)
-
Name
(
type: esriFieldTypeString
,
alias: Name
,
length: 200
)
-
MinPS
(
type: esriFieldTypeDouble
,
alias: MinPS
)
-
MaxPS
(
type: esriFieldTypeDouble
,
alias: MaxPS
)
-
LowPS
(
type: esriFieldTypeDouble
,
alias: LowPS
)
-
HighPS
(
type: esriFieldTypeDouble
,
alias: HighPS
)
-
Category
(
type: esriFieldTypeInteger
,
alias: Category
,
Coded Values:
[0: Unknown]
,
[1: Primary]
,
[2: Overview]
, ...6 more...
)
-
Tag
(
type: esriFieldTypeString
,
alias: Tag
,
length: 100
)
-
GroupName
(
type: esriFieldTypeString
,
alias: GroupName
,
length: 100
)
-
ProductName
(
type: esriFieldTypeString
,
alias: ProductName
,
length: 100
)
-
CenterX
(
type: esriFieldTypeDouble
,
alias: CenterX
)
-
CenterY
(
type: esriFieldTypeDouble
,
alias: CenterY
)
-
ZOrder
(
type: esriFieldTypeInteger
,
alias: ZOrder
)
-
Shape_Length
(
type: esriFieldTypeDouble
,
alias: Shape_Length
)
-
Shape_Area
(
type: esriFieldTypeDouble
,
alias: Shape_Area
)
Default Mosaic Method: Northwest
Allowed Mosaic Methods: NorthWest,Center,LockRaster,ByAttribute,Nadir,Viewpoint,Seamline,None
SortField:
SortValue: null
Mosaic Operator: First
Default Compression Quality: 75
Default Resampling Method: Bilinear
Max Record Count: 1000
Max Image Height: 15000
Max Image Width: 15000
Max Download Image Count: 20
Max Mosaic Image Count: 40
Allow Raster Function: true
Allow Compute TiePoints: false
Supports Statistics: true
Supports Advanced Queries: true
Use StandardizedQueries: true
Raster Type Infos:
Name: Raster Dataset
Description: Supports all ArcGIS Raster Datasets
Help:
Has Raster Attribute Table: false
Edit Fields Info: null
Ownership Based AccessControl For Rasters: null
Child Resources:
Info
Histograms
Key Properties
Legend
MultiDimensionalInfo
rasterFunctionInfos
Supported Operations:
Export Image
Query
Identify
Compute Histograms
Compute Statistics Histograms
Get Samples
Compute Class Statistics
Query Boundary