View In:
ArcGIS JavaScript
ArcGIS Online map viewer
Google Earth
ArcMap
View Footprint In:
ArcGIS Online map viewer
Service Description: This dynamic image service provides access to 1-Foot, 4-Band orthoimagery for the KYAPED Project Area #1 footprint. The imagery was acquired through the Kentucky Aerial Photography and Elevation Data (KYAPED) Program in Spring of 2012. Today’s aerial, digital mapping cameras routinely capture electromagnetic radiation in four bands of the spectrum: blue, green, red and near infrared. When displaying the image as “true” or “natural” color, the software matches the red, green and blue bands to these channels in the computer display. The same image can be displayed as “false color infrared” by changing the band combination so that the near infrared, red and green bands are output to the red, green and blue channels. Thus, in a false color infrared image, one can distinguish vegetated surfaces with ease – as they show in varying hues and intensities of red. By contrast, impervious surfaces and bare soil tend to show in different shades of blue or gray, while deep, sediment and vegetation-free water shows dark.
Name: ImageServices/Ky_KYAPED_2012_1FT_IR
Description: This dynamic image service provides access to 1-Foot, 4-Band orthoimagery for the KYAPED Project Area #1 footprint. The imagery was acquired through the Kentucky Aerial Photography and Elevation Data (KYAPED) Program in Spring of 2012. Today’s aerial, digital mapping cameras routinely capture electromagnetic radiation in four bands of the spectrum: blue, green, red and near infrared. When displaying the image as “true” or “natural” color, the software matches the red, green and blue bands to these channels in the computer display. The same image can be displayed as “false color infrared” by changing the band combination so that the near infrared, red and green bands are output to the red, green and blue channels. Thus, in a false color infrared image, one can distinguish vegetated surfaces with ease – as they show in varying hues and intensities of red. By contrast, impervious surfaces and bare soil tend to show in different shades of blue or gray, while deep, sediment and vegetation-free water shows dark.
Single Fused Map Cache: false
Extent:
XMin: 4765000
YMin: 3680000
XMax: 5435000
YMax: 4310000
Spatial Reference: 102763
(3089)
Initial Extent:
XMin: 4765000
YMin: 3680000
XMax: 5435000
YMax: 4310000
Spatial Reference: 102763
(3089)
Full Extent:
XMin: 4765000
YMin: 3680000
XMax: 5435000
YMax: 4310000
Spatial Reference: 102763
(3089)
Pixel Size X: 1.0
Pixel Size Y: 1.0
Band Count: 3
Pixel Type: U8
RasterFunction Infos: N/A
Mensuration Capabilities: None,Basic
Has Histograms: false
Has Colormap: false
Has Multi Dimensions : false
Rendering Rule:
Min Scale: 0
Max Scale: 0
Copyright Text: DGI, USGS, FPB, LINK-GIS, Hardin County, Boone County
Service Data Type: esriImageServiceDataTypeRGB
Min Values: N/A
Max Values: N/A
Mean Values: N/A
Standard Deviation Values: N/A
Object ID Field: OBJECTID
Fields:
-
OBJECTID
(
type: esriFieldTypeOID
, alias: OBJECTID
)
-
Shape
(
type: esriFieldTypeGeometry
, alias: Shape
)
-
Name
(
type: esriFieldTypeString
, alias: Name
, length: 50
)
-
MinPS
(
type: esriFieldTypeDouble
, alias: MinPS
)
-
MaxPS
(
type: esriFieldTypeDouble
, alias: MaxPS
)
-
LowPS
(
type: esriFieldTypeDouble
, alias: LowPS
)
-
HighPS
(
type: esriFieldTypeDouble
, alias: HighPS
)
-
Category
(
type: esriFieldTypeInteger
, alias: Category
, Coded Values:
[0: Unknown]
, [1: Primary]
, [2: Overview]
, ...5 more...
)
-
Tag
(
type: esriFieldTypeString
, alias: Tag
, length: 20
)
-
GroupName
(
type: esriFieldTypeString
, alias: GroupName
, length: 50
)
-
ProductName
(
type: esriFieldTypeString
, alias: ProductName
, length: 50
)
-
CenterX
(
type: esriFieldTypeDouble
, alias: CenterX
)
-
CenterY
(
type: esriFieldTypeDouble
, alias: CenterY
)
-
ZOrder
(
type: esriFieldTypeInteger
, alias: ZOrder
)
-
Shape_Length
(
type: esriFieldTypeDouble
, alias: Shape_Length
)
-
Shape_Area
(
type: esriFieldTypeDouble
, alias: Shape_Area
)
Default Mosaic Method: Northwest
Allowed Mosaic Methods: NorthWest,Center,LockRaster,ByAttribute,Nadir,Viewpoint,Seamline,None
SortField:
SortValue: null
Mosaic Operator: First
Default Compression Quality: 75
Default Resampling Method: Bilinear
Max Record Count: 1000
Max Image Height: 20000
Max Image Width: 20000
Max Download Image Count: 100
Max Mosaic Image Count: 100
Allow Raster Function: true
Allow Compute TiePoints: false
Supports Statistics: true
Supports Advanced Queries: true
Use StandardizedQueries: true
Raster Type Infos:
Name: Raster Dataset
Description: Supports all ArcGIS Raster Datasets
Help:
Has Raster Attribute Table: false
Edit Fields Info: null
Ownership Based AccessControl For Rasters: null
Child Resources:
Info
Key Properties
Legend
MultiDimensionalInfo
rasterFunctionInfos
Supported Operations:
Export Image
Query
Identify
Measure
Compute Histograms
Get Samples
Compute Class Statistics