View In:
ArcGIS JavaScript
ArcGIS Online Map Viewer
ArcGIS Earth
ArcMap
View Footprint In:
ArcGIS Online Map Viewer
Service Description: The 2001 era landcover change detection analysis produced for the State of Kentucky by the Kentucky Landscape Census Project are incorporated into the NLCD01 dataset.
Name: ImageServices/Ky_KLCD_2001_30M
Description: The 2001 era landcover change detection analysis produced for the State of Kentucky by the Kentucky Landscape Census Project are incorporated into the NLCD01 dataset.
Single Fused Map Cache: false
Extent:
XMin: 3736193.938791525
YMin: 3119815.7409434323
XMax: 6123590.738791525
YMax: 4564497.890943432
Spatial Reference: 102763
(3089)
Initial Extent:
XMin: 3736193.938791525
YMin: 3119815.7409434323
XMax: 6123590.738791525
YMax: 4564497.890943432
Spatial Reference: 102763
(3089)
Full Extent:
XMin: 3736193.938791525
YMin: 3119815.7409434323
XMax: 6123590.738791525
YMax: 4564497.890943432
Spatial Reference: 102763
(3089)
Pixel Size X: 98.42500000000001
Pixel Size Y: 98.425
Band Count: 1
Pixel Type: S16
RasterFunction Infos: {"rasterFunctionInfos": [{
"name": "None",
"description": "",
"help": ""
}]}
Mensuration Capabilities: Basic
Has Histograms: true
Has Colormap: true
Has Multi Dimensions : false
Rendering Rule:
Min Scale: 0
Max Scale: 0
Copyright Text: DGI
Service Data Type: esriImageServiceDataTypeGeneric
Min Values: 110
Max Values: 720
Mean Values: 331.56095344277156
Standard Deviation Values: 117.8538713107918
Object ID Field:
Fields:
None
Default Mosaic Method: Center
Allowed Mosaic Methods:
SortField:
SortValue: null
Mosaic Operator: First
Default Compression Quality: 75
Default Resampling Method: Bilinear
Max Record Count: null
Max Image Height: 4100
Max Image Width: 15000
Max Download Image Count: null
Max Mosaic Image Count: null
Allow Raster Function: true
Allow Compute TiePoints: false
Supports Statistics: false
Supports Advanced Queries: false
Use StandardizedQueries: true
Raster Type Infos:
Name: Raster Dataset
Description: Supports all ArcGIS Raster Datasets
Help:
Has Raster Attribute Table: true
Edit Fields Info: null
Ownership Based AccessControl For Rasters: null
Child Resources:
Info
Raster Attribute Table
Histograms
Key Properties
Color Map
Legend
MultiDimensionalInfo
rasterFunctionInfos
Supported Operations:
Export Image
Identify
Measure
Compute Histograms
Compute Statistics Histograms
Get Samples
Compute Class Statistics
Query Boundary