View In:
ArcGIS JavaScript
ArcGIS Online Map Viewer
ArcGIS Earth
ArcMap
View Footprint In:
ArcGIS Online Map Viewer
Service Description: This data set consists of 1 foot, natural color orthoimages covering the series area footprint. An orthoimage is remotely sensed image data in which displacement of features in the image caused by terrain relief and sensor orientation have been mathematically removed. Orthoimagery combines the image characteristics of a photograph with the geometric qualities of a map. The design accuracy is estimated not to exceed 3-meter diagonal RMSE (2.12m RMSE in X or Y). The tiling scheme for the final dataset is 5,000 ft x 5,000 ft grid blocks rectified to the NAD83 Kentucky Single Zone SPCS (FIPS 1600), US Survey Foot.
Name: ImageServices/Ky_Frankfort_2006_1FT
Description: This data set consists of 1 foot, natural color orthoimages covering the series area footprint. An orthoimage is remotely sensed image data in which displacement of features in the image caused by terrain relief and sensor orientation have been mathematically removed. Orthoimagery combines the image characteristics of a photograph with the geometric qualities of a map. The design accuracy is estimated not to exceed 3-meter diagonal RMSE (2.12m RMSE in X or Y). The tiling scheme for the final dataset is 5,000 ft x 5,000 ft grid blocks rectified to the NAD83 Kentucky Single Zone SPCS (FIPS 1600), US Survey Foot.
Single Fused Map Cache: false
Extent:
XMin: 5135362
YMin: 3887349
XMax: 5213377
YMax: 3981413
Spatial Reference: 102763
(3089)
Initial Extent:
XMin: 5135362
YMin: 3887349
XMax: 5213377
YMax: 3981413
Spatial Reference: 102763
(3089)
Full Extent:
XMin: 5135362
YMin: 3887349
XMax: 5213377
YMax: 3981413
Spatial Reference: 102763
(3089)
Pixel Size X: 1.0
Pixel Size Y: 1.0
Band Count: 3
Pixel Type: U8
RasterFunction Infos: {"rasterFunctionInfos": [{
"name": "None",
"description": "",
"help": ""
}]}
Mensuration Capabilities: Basic
Has Histograms: false
Has Colormap: false
Has Multi Dimensions : false
Rendering Rule:
Min Scale: 0
Max Scale: 0
Copyright Text:
Service Data Type: esriImageServiceDataTypeRGB
Min Values: N/A
Max Values: N/A
Mean Values: N/A
Standard Deviation Values: N/A
Object ID Field:
Fields:
None
Default Mosaic Method: Center
Allowed Mosaic Methods:
SortField:
SortValue: null
Mosaic Operator: First
Default Compression Quality: 75
Default Resampling Method: Bilinear
Max Record Count: null
Max Image Height: 4100
Max Image Width: 15000
Max Download Image Count: null
Max Mosaic Image Count: null
Allow Raster Function: true
Allow Compute TiePoints: false
Supports Statistics: false
Supports Advanced Queries: false
Use StandardizedQueries: true
Raster Type Infos:
Name: Raster Dataset
Description: Supports all ArcGIS Raster Datasets
Help:
Has Raster Attribute Table: false
Edit Fields Info: null
Ownership Based AccessControl For Rasters: null
Child Resources:
Info
Key Properties
Legend
MultiDimensionalInfo
rasterFunctionInfos
Supported Operations:
Export Image
Identify
Measure
Compute Histograms
Compute Statistics Histograms
Get Samples
Compute Class Statistics
Query Boundary