View In:
ArcGIS JavaScript
ArcGIS Online Map Viewer
ArcGIS Earth
ArcMap
View Footprint In:
ArcGIS Online Map Viewer
Service Description: Pictometry is a provider of image warehouses and image management tools containing metric oblique and orthophotography for visualization use. The collection was gathered during February and March of 2007. Image pixel size is 6-inch GSD. Image type is natural color.
Name: ImageServices/Ky_Fayette_2007_6IN
Description: Pictometry is a provider of image warehouses and image management tools containing metric oblique and orthophotography for visualization use. The collection was gathered during February and March of 2007. Image pixel size is 6-inch GSD. Image type is natural color.
Single Fused Map Cache: false
Extent:
XMin: 5233617.5
YMin: 3832807
XMax: 5345865.5
YMax: 3970609
Spatial Reference: 102763
(3089)
Initial Extent:
XMin: 5233617.5
YMin: 3832807
XMax: 5345865.5
YMax: 3970609
Spatial Reference: 102763
(3089)
Full Extent:
XMin: 5233617.5
YMin: 3832807
XMax: 5345865.5
YMax: 3970609
Spatial Reference: 102763
(3089)
Pixel Size X: 0.5
Pixel Size Y: 0.5
Band Count: 3
Pixel Type: U8
RasterFunction Infos: {"rasterFunctionInfos": [{
"name": "None",
"description": "",
"help": ""
}]}
Mensuration Capabilities: Basic
Has Histograms: false
Has Colormap: false
Has Multi Dimensions : false
Rendering Rule:
Min Scale: 0
Max Scale: 0
Copyright Text:
Service Data Type: esriImageServiceDataTypeRGB
Min Values: N/A
Max Values: N/A
Mean Values: N/A
Standard Deviation Values: N/A
Object ID Field:
Fields:
None
Default Mosaic Method: Center
Allowed Mosaic Methods:
SortField:
SortValue: null
Mosaic Operator: First
Default Compression Quality: 75
Default Resampling Method: Bilinear
Max Record Count: null
Max Image Height: 4100
Max Image Width: 15000
Max Download Image Count: null
Max Mosaic Image Count: null
Allow Raster Function: true
Allow Compute TiePoints: false
Supports Statistics: false
Supports Advanced Queries: false
Use StandardizedQueries: true
Raster Type Infos:
Name: Raster Dataset
Description: Supports all ArcGIS Raster Datasets
Help:
Has Raster Attribute Table: false
Edit Fields Info: null
Ownership Based AccessControl For Rasters: null
Child Resources:
Info
Key Properties
Legend
MultiDimensionalInfo
rasterFunctionInfos
Supported Operations:
Export Image
Identify
Measure
Compute Histograms
Compute Statistics Histograms
Get Samples
Compute Class Statistics
Query Boundary