View In:
ArcGIS JavaScript
ArcGIS Online Map Viewer
ArcGIS Earth
ArcMap
View Footprint In:
ArcGIS Online Map Viewer
Service Description: ElevationServices/Ky_Slope_USGS_10M_Percent_Rise
Name: ElevationServices/Ky_Slope_USGS_10M_Percent_Rise
Description:
Single Fused Map Cache: false
Extent:
XMin: 3780465
YMin: 3304005
XMax: 6045015
YMax: 4344855
Spatial Reference:
102763
(3089)
Initial Extent:
XMin: 3780465
YMin: 3304005
XMax: 6045015
YMax: 4344855
Spatial Reference:
102763
(3089)
Full Extent:
XMin: 3780465
YMin: 3304005
XMax: 6045015
YMax: 4344855
Spatial Reference:
102763
(3089)
Pixel Size X: 30.0
Pixel Size Y: 30.0
Band Count: 1
Pixel Type: F32
RasterFunction Infos: {"rasterFunctionInfos": [{
"name": "None",
"description": "",
"help": ""
}]}
Mensuration Capabilities: Basic
Has Histograms: true
Has Colormap: false
Has Multi Dimensions : false
Rendering Rule:
Min Scale: 0
Max Scale: 0
Copyright Text:
Service Data Type: esriImageServiceDataTypeGeneric
Min Values: 0
Max Values: 663.5889282226562
Mean Values: 18.25235831013564
Standard Deviation Values: 18.17660424696119
Object ID Field:
Fields:
None
Default Mosaic Method: Center
Allowed Mosaic Methods:
SortField:
SortValue: null
Mosaic Operator: First
Default Compression Quality: 75
Default Resampling Method: Bilinear
Max Record Count: null
Max Image Height: 100000
Max Image Width: 100000
Max Download Image Count: null
Max Mosaic Image Count: null
Allow Raster Function: true
Allow Compute TiePoints: false
Supports Statistics: false
Supports Advanced Queries: false
Use StandardizedQueries: true
Raster Type Infos:
Name: Raster Dataset
Description: Supports all ArcGIS Raster Datasets
Help:
Has Raster Attribute Table: false
Edit Fields Info: null
Ownership Based AccessControl For Rasters: null
Child Resources:
Info
Histograms
Key Properties
Legend
MultiDimensionalInfo
rasterFunctionInfos
Supported Operations:
Export Image
Identify
Measure
Compute Histograms
Compute Statistics Histograms
Get Samples
Compute Class Statistics
Query Boundary