{
 "currentVersion": 10.91,
 "serviceDescription": "Kentucky Annual NLCD land cover, 2006. USGS National Land Cover Database clipped to Kentucky and projected to EPSG: 3089. Source: U.S. Geological Survey (USGS), 2024, Annual NLCD Collection 1 Science Products: U.S. Geological Survey data release, https://doi.org/10.5066/P94UXNTS",
 "name": "ThematicServices/Ky_Annual_NLCD_2006_30M",
 "description": "Kentucky Annual NLCD land cover, 2006. USGS National Land Cover Database clipped to Kentucky and projected to EPSG: 3089. Source: U.S. Geological Survey (USGS), 2024, Annual NLCD Collection 1 Science Products: U.S. Geological Survey data release, https://doi.org/10.5066/P94UXNTS",
 "extent": {
  "xmin": 3796724.506434758,
  "ymin": 3135406.4631648352,
  "xmax": 6070637.281434758,
  "ymax": 4445049.513164835,
  "spatialReference": {
   "wkid": 102763,
   "latestWkid": 3089
  }
 },
 "initialExtent": {
  "xmin": 3796724.506434758,
  "ymin": 3135406.4631648352,
  "xmax": 6070637.281434758,
  "ymax": 4445049.513164835,
  "spatialReference": {
   "wkid": 102763,
   "latestWkid": 3089
  }
 },
 "fullExtent": {
  "xmin": 3796724.506434758,
  "ymin": 3135406.4631648352,
  "xmax": 6070637.281434758,
  "ymax": 4445049.513164835,
  "spatialReference": {
   "wkid": 102763,
   "latestWkid": 3089
  }
 },
 "hasMultidimensions": false,
 "pixelSizeX": 98.42499999999997,
 "pixelSizeY": 98.42499999999998,
 "datasetFormat": "FGDBR",
 "uncompressedSize": 307408518,
 "blockWidth": 128,
 "blockHeight": 128,
 "compressionType": "LZ77",
 "bandNames": [
  "Band_1"
 ],
 "allowCopy": true,
 "allowAnalysis": true,
 "bandCount": 1,
 "pixelType": "U8",
 "minPixelSize": 0,
 "maxPixelSize": 0,
 "copyrightText": "U.S. Geological Survey (USGS)",
 "serviceDataType": "esriImageServiceDataTypeThematic",
 "serviceSourceType": "esriImageServiceSourceTypeDataset",
 "minValues": [
  11
 ],
 "maxValues": [
  95
 ],
 "meanValues": [
  54.255557414106704
 ],
 "stdvValues": [
  22.41087052527505
 ],
 "objectIdField": "",
 "fields": [],
 "capabilities": "Mensuration,Image,Metadata",
 "defaultMosaicMethod": "Center",
 "allowedMosaicMethods": "",
 "sortField": "",
 "sortValue": null,
 "sortAscending": true,
 "mosaicOperator": "First",
 "maxDownloadSizeLimit": 2097196,
 "defaultCompressionQuality": 75,
 "defaultResamplingMethod": "Nearest",
 "maxImageHeight": 48000,
 "maxImageWidth": 48000,
 "allowRasterFunction": true,
 "rasterFunctionInfos": [
  {
   "name": "None",
   "description": "Make a Raster or Raster Dataset into a Function Raster Dataset.",
   "help": ""
  },
  {
   "name": "ForestExtent",
   "description": "Forest extent: collapses NLCD 41 (Deciduous), 42 (Evergreen), 43 (Mixed) to a single class. Non-forest pixels are NoData.",
   "help": ""
  },
  {
   "name": "ImperviousExtent",
   "description": "Impervious extent: collapses NLCD 22 (Developed Med), 23 (Developed High), 24 (Developed Very High), 31 (Barren) to a single class. Other pixels are NoData.",
   "help": ""
  },
  {
   "name": "OpenLandExtent",
   "description": "Open land extent: collapses NLCD 21 (Dev Open Space), 52 (Shrub/Scrub), 71 (Grassland/Herbaceous), 81 (Pasture/Hay), 82 (Cultivated Crops) to a single class. Other pixels are NoData.",
   "help": ""
  }
 ],
 "rasterTypeInfos": [
  {
   "name": "Raster Dataset",
   "description": "Supports all ArcGIS Raster Datasets",
   "help": ""
  }
 ],
 "mensurationCapabilities": "Basic",
 "hasHistograms": true,
 "hasColormap": true,
 "hasRasterAttributeTable": true,
 "minScale": 0,
 "maxScale": 0,
 "exportTilesAllowed": false,
 "supportsStatistics": false,
 "supportsAdvancedQueries": false,
 "editFieldsInfo": null,
 "ownershipBasedAccessControlForRasters": null,
 "allowComputeTiePoints": false,
 "useStandardizedQueries": true,
 "advancedQueryCapabilities": {
  "useStandardizedQueries": true,
  "supportsStatistics": false,
  "supportsOrderBy": false,
  "supportsDistinct": false,
  "supportsPagination": false
 },
 "spatialReference": {
  "wkid": 102763,
  "latestWkid": 3089
 }
}
