{ "currentVersion": 10.61, "serviceDescription": "
1/2' orthophotography was collected for Campbell and Kenton Counties with a LMK 2000 camera. It was scanned at 15 microns and orthorectified to client-provided DTMs, some of which were updated by Photo Science, Inc..<\/span><\/p><\/div><\/div>",
"name": "ImageServices/Ky_NKAPC_2007_6IN",
"description": " 1/2' orthophotography was collected for Campbell and Kenton Counties with a LMK 2000 camera. It was scanned at 15 microns and orthorectified to client-provided DTMs, some of which were updated by Photo Science, Inc..<\/span><\/p><\/div><\/div>",
"extent": {
"xmin": 5237707.5,
"ymin": 4175120,
"xmax": 5354450,
"ymax": 4300622,
"spatialReference": {
"wkid": 102763,
"latestWkid": 3089
}
},
"initialExtent": {
"xmin": 5237707.5,
"ymin": 4175120,
"xmax": 5354450,
"ymax": 4300622,
"spatialReference": {
"wkid": 102763,
"latestWkid": 3089
}
},
"fullExtent": {
"xmin": 5237707.5,
"ymin": 4175120,
"xmax": 5354450,
"ymax": 4300622,
"spatialReference": {
"wkid": 102763,
"latestWkid": 3089
}
},
"pixelSizeX": 0.5,
"pixelSizeY": 0.5,
"bandCount": 3,
"pixelType": "U8",
"minPixelSize": 0,
"maxPixelSize": 0,
"copyrightText": "NKY, KyFromAbove",
"serviceDataType": "esriImageServiceDataTypeRGB",
"minValues": [],
"maxValues": [],
"meanValues": [],
"stdvValues": [],
"objectIdField": "",
"fields": [],
"capabilities": "Mensuration,Image,Metadata",
"defaultMosaicMethod": "Center",
"allowedMosaicMethods": "",
"sortField": "",
"sortValue": null,
"mosaicOperator": "First",
"defaultCompressionQuality": 75,
"defaultResamplingMethod": "Bilinear",
"maxImageHeight": 4100,
"maxImageWidth": 15000,
"allowRasterFunction": true,
"rasterFunctionInfos": [
{
"name": "None",
"description": "",
"help": ""
}
],
"rasterTypeInfos": [
{
"name": "Raster Dataset",
"description": "Supports all ArcGIS Raster Datasets",
"help": ""
}
],
"mensurationCapabilities": "Basic",
"hasHistograms": false,
"hasColormap": false,
"hasRasterAttributeTable": false,
"minScale": 0,
"maxScale": 0,
"exportTilesAllowed": false,
"hasMultidimensions": false,
"supportsStatistics": false,
"supportsAdvancedQueries": false,
"editFieldsInfo": null,
"ownershipBasedAccessControlForRasters": null,
"allowComputeTiePoints": false,
"useStandardizedQueries": true,
"advancedQueryCapabilities": {
"useStandardizedQueries": true,
"supportsStatistics": false,
"supportsOrderBy": false,
"supportsDistinct": false,
"supportsPagination": false
},
"spatialReference": {
"wkid": 102763,
"latestWkid": 3089
}
}