<?xml version="1.0" encoding="UTF-8" standalone="no"?>
<metadata>
<idinfo>
<citation>
<citeinfo>
<origin>Photo Science, Inc.</origin>
<pubdate>February, 2009</pubdate>
<title>NKAPC Ortho Imagery (2007)</title>
<geoform Sync="TRUE">SDE raster digital data</geoform>
<ftname Sync="TRUE">kyraster.SDE.NKAPC_2007_AERIAL</ftname>
<onlink>ftp://ftp.kymartian.ky.gov/nkapc_2007_aerial/</onlink>
<pubinfo>
<pubplace>Frankfort, Kentucky</pubplace>
<publish>Division of Geographic Information</publish>
</pubinfo>
</citeinfo>
</citation>
<descript>
<abstract>1/2' orthophotography was collected for Campbell and Kenton Counties with a LMK 2000 camera. It was scanned at 15 microns and orthorectified to client-provided DTMs, some of which were updated by Photo Science, Inc..</abstract>
<purpose>Orthophotography was used to collect planimetric features within Campbell and Kenton Counties.</purpose>
<langdata Sync="TRUE">en</langdata>
<supplinf>This imagery has been compressed using JPEG (95) for purposes of distribution on the KYGEONET. It has also been clipped to the Kentucky 5k x 5k grid which can be used as an index.</supplinf>
</descript>
<timeperd>
<timeinfo>
<rngdates>
<begdate>20070507</begdate>
<enddate>20070508</enddate>
</rngdates>
</timeinfo>
<current>ground condition</current>
</timeperd>
<status>
<progress>Complete</progress>
<update>Unknown</update>
</status>
<spdom>
<bounding>
<westbc>-84.637170</westbc>
<eastbc>-84.222699</eastbc>
<northbc>39.127</northbc>
<southbc>38.781962</southbc>
</bounding>
<lboundng>
<leftbc Sync="TRUE">5237707.500000</leftbc>
<rightbc Sync="TRUE">5354450.000000</rightbc>
<bottombc Sync="TRUE">4175120.000000</bottombc>
<topbc Sync="TRUE">4300622.000000</topbc>
</lboundng>
</spdom>
<keywords>
<theme>
<themekt>none</themekt>
<themekey>digital photography</themekey>
<themekey>orthophotography</themekey>
<themekey>planimetric</themekey>
<themekey>remote sensing</themekey>
<themekey>DGI</themekey>
<themekey>aerial</themekey>
<themekey>imageryBaseMapsEarthCover</themekey>
</theme>
<place>
<placekt>None</placekt>
<placekey>Kentucky</placekey>
<placekey>Campbell County</placekey>
<placekey>Kenton County</placekey>
<placekey>US</placekey>
</place>
</keywords>
<accconst>None.</accconst>
<useconst>None.</useconst>
<datacred>Photo Science, Inc. flew the orthophotography and processed the data.</datacred>
<native Sync="TRUE">Microsoft Windows 2000 Version 5.2 (Build 3790) Service Pack 2; ESRI ArcCatalog 9.3.1.3000</native>
<natvform Sync="TRUE">SDE Raster Dataset</natvform>
<ptcontac>
<cntinfo>
<cntaddr>
<addrtype>mailing and physical address</addrtype>
<address>120 Glenns Creek Road</address>
<city>Frankfort</city>
<state>Kentucky</state>
<postal>40601</postal>
<country>USA</country>
</cntaddr>
<cntorgp>
<cntorg>Division of Geographic Information</cntorg>
<cntper>Kent Anness</cntper>
</cntorgp>
<cntvoice>502-564-1451</cntvoice>
<cntemail>kent.anness@ky.gov</cntemail>
</cntinfo>
</ptcontac>
</idinfo>
<dataqual>
<attracc>
<attraccr>Orthophotography supports mapping at a 1"=800'.</attraccr>
</attracc>
<logic>Deliverables were tested by Photo Science for both vertical and horizontal accuracy. All data is seamless from one tile to the next, no gaps or no data areas.</logic>
<complete>Datasets contain complete coverage of tiles.</complete>
<posacc>
<horizpa>
<horizpar>Orthophotography supports a 1/2' pixel.</horizpar>
</horizpa>
</posacc>
<lineage>
<srcinfo>
<srccite>
<citeinfo>
<origin>Photo Science, Inc.</origin>
<pubdate>2007</pubdate>
<title>Aerial Photography</title>
<geoform>digital data</geoform>
</citeinfo>
</srccite>
<typesrc>film</typesrc>
<srctime>
<timeinfo>
<rngdates>
<begdate>20070309</begdate>
<enddate>20070318</enddate>
</rngdates>
</timeinfo>
<srccurr>ground condition</srccurr>
</srctime>
<srccitea>AirPhoto</srccitea>
<srccontr>LMK 2000 film was scanned at 15 microns. The scans were used to mosaic images together to produce the deliverables.</srccontr>
</srcinfo>
<procstep>
<procdesc>Imagery was georeferenced to the SURFACE. Each image was reviewed to ensure quality.</procdesc>
<srcused>AirPhoto</srcused>
<procdate>20071015</procdate>
<srcprod>Orthophotographs</srcprod>
</procstep>
<procstep>
<procdesc Sync="TRUE">Metadata imported.</procdesc>
<srcused Sync="TRUE">C:\metadata\NKAPC_Ortho.xml</srcused>
<procdate Sync="TRUE">20090212</procdate>
<proctime Sync="TRUE">07334600</proctime>
</procstep>
<procstep>
<procdesc Sync="TRUE">Metadata imported.</procdesc>
<srcused Sync="TRUE">D:\metadata\NKAPC Ortho Imagery (2007).xml</srcused>
<procdate Sync="TRUE">20100112</procdate>
<proctime Sync="TRUE">12145800</proctime>
</procstep>
</lineage>
</dataqual>
<spref>
<horizsys>
<planar>
<planci>
<plance Sync="TRUE">row and column</plance>
<coordrep>
<absres Sync="TRUE">0.500000</absres>
<ordres Sync="TRUE">0.500000</ordres>
</coordrep>
<plandu>Feet</plandu>
</planci>
</planar>
<geodetic>
<horizdn>North American Datum of 1983 HARN</horizdn>
<ellips>Geodetic Reference System 80</ellips>
<semiaxis>6378137.00</semiaxis>
<denflat>298.257222</denflat>
</geodetic>
<cordsysn>
<projcsn>Kentucky Single Zone (FIPS 1600)</projcsn>
<geogcsn Sync="TRUE">GCS_North_American_1983</geogcsn>
</cordsysn>
</horizsys>
<vertdef>
<altsys>
<altenc Sync="TRUE">Explicit elevation coordinate included with horizontal coordinates</altenc>
<altres Sync="TRUE">1.000000</altres>
</altsys>
</vertdef>
</spref>
<eainfo>
<overview>
<eaover>MrSID files (*.sid, *.sdw) and TIFF files (*.tif, *.tfw) were delivered.</eaover>
<eadetcit>Deliverables meet the contract specifications.</eadetcit>
</overview>
</eainfo>
<metainfo>
<metd Sync="TRUE">20100112</metd>
<metc>
<cntinfo>
<cntorgp>
<cntorg>Division of Geographic Information</cntorg>
<cntper>Kent Anness</cntper>
</cntorgp>
<cntaddr>
<addrtype>mailing and physical address</addrtype>
<address>120 Glenns Creek Road</address>
<city>Frankfort</city>
<state>KY</state>
<postal>40601</postal>
<country>USA</country>
</cntaddr>
<cntvoice>502-564-1451</cntvoice>
<cntemail>kent.anness@ky.gov</cntemail>
</cntinfo>
</metc>
<metstdn Sync="TRUE">FGDC Content Standards for Digital Geospatial Metadata</metstdn>
<metstdv Sync="TRUE">FGDC-STD-001-1998</metstdv>
<langmeta Sync="TRUE">en</langmeta>
<mettc Sync="TRUE">local time</mettc>
</metainfo>
<Esri>
<CreaDate>20100112</CreaDate>
<CreaTime>12145800</CreaTime>
<SyncOnce>FALSE</SyncOnce>
<SyncDate>20150730</SyncDate>
<SyncTime>09522300</SyncTime>
<ModDate>20250730</ModDate>
<ModTime>9595900</ModTime>
<PublishStatus>Published</PublishStatus>
<MetaID>{45C97AD5-0A8A-449F-9C63-0BFAF7DA9D0A}</MetaID>
<DataProperties>
<itemProps>
<itemName Sync="TRUE">Ky_NKAPC_2007_6IN</itemName>
<imsContentType>002</imsContentType>
<nativeExtBox>
<westBL Sync="TRUE">5237707.500000</westBL>
<eastBL Sync="TRUE">5354450.000000</eastBL>
<southBL Sync="TRUE">4175120.000000</southBL>
<northBL Sync="TRUE">4300622.000000</northBL>
<exTypeCode Sync="TRUE">1</exTypeCode>
</nativeExtBox>
<itemLocation>
<linkage Sync="TRUE">file://\\KYEGGISWIS01\G\ImageServerData2\GDB\Ky_NKAPC_2007_6IN.gdb</linkage>
<protocol Sync="TRUE">Local Area Network</protocol>
</itemLocation>
</itemProps>
<coordRef>
<type Sync="TRUE">Projected</type>
<geogcsn Sync="TRUE">GCS_North_American_1983</geogcsn>
<csUnits Sync="TRUE">Linear Unit: Foot_US (0.304801)</csUnits>
<projcsn Sync="TRUE">NAD_1983_StatePlane_Kentucky_FIPS_1600_Feet</projcsn>
<peXml Sync="TRUE">&lt;ProjectedCoordinateSystem xsi:type='typens:ProjectedCoordinateSystem' xmlns:xsi='http://www.w3.org/2001/XMLSchema-instance' xmlns:xs='http://www.w3.org/2001/XMLSchema' xmlns:typens='http://www.esri.com/schemas/ArcGIS/10.1'&gt;&lt;WKT&gt;PROJCS[&amp;quot;NAD_1983_StatePlane_Kentucky_FIPS_1600_Feet&amp;quot;,GEOGCS[&amp;quot;GCS_North_American_1983&amp;quot;,DATUM[&amp;quot;D_North_American_1983&amp;quot;,SPHEROID[&amp;quot;GRS_1980&amp;quot;,6378137.0,298.257222101]],PRIMEM[&amp;quot;Greenwich&amp;quot;,0.0],UNIT[&amp;quot;Degree&amp;quot;,0.0174532925199433]],PROJECTION[&amp;quot;Lambert_Conformal_Conic&amp;quot;],PARAMETER[&amp;quot;False_Easting&amp;quot;,4921250.0],PARAMETER[&amp;quot;False_Northing&amp;quot;,3280833.333333333],PARAMETER[&amp;quot;Central_Meridian&amp;quot;,-85.75],PARAMETER[&amp;quot;Standard_Parallel_1&amp;quot;,37.08333333333334],PARAMETER[&amp;quot;Standard_Parallel_2&amp;quot;,38.66666666666666],PARAMETER[&amp;quot;Latitude_Of_Origin&amp;quot;,36.33333333333334],UNIT[&amp;quot;Foot_US&amp;quot;,0.3048006096012192],AUTHORITY[&amp;quot;EPSG&amp;quot;,3089]]&lt;/WKT&gt;&lt;XOrigin&gt;-117434800&lt;/XOrigin&gt;&lt;YOrigin&gt;-91579000&lt;/YOrigin&gt;&lt;XYScale&gt;36807330.96050825&lt;/XYScale&gt;&lt;ZOrigin&gt;0&lt;/ZOrigin&gt;&lt;ZScale&gt;1&lt;/ZScale&gt;&lt;MOrigin&gt;0&lt;/MOrigin&gt;&lt;MScale&gt;1&lt;/MScale&gt;&lt;XYTolerance&gt;0.0032808333333333331&lt;/XYTolerance&gt;&lt;ZTolerance&gt;2&lt;/ZTolerance&gt;&lt;MTolerance&gt;2&lt;/MTolerance&gt;&lt;HighPrecision&gt;true&lt;/HighPrecision&gt;&lt;WKID&gt;102763&lt;/WKID&gt;&lt;LatestWKID&gt;3089&lt;/LatestWKID&gt;&lt;/ProjectedCoordinateSystem&gt;</peXml>
</coordRef>
</DataProperties>
<scaleRange>
<minScale>150000000</minScale>
<maxScale>5000</maxScale>
</scaleRange>
<ArcGISFormat>1.0</ArcGISFormat>
<ArcGISProfile>ItemDescription</ArcGISProfile>
</Esri>
<dataIdInfo>
<envirDesc Sync="TRUE">Microsoft Windows Server 2008 R2 Version 6.1 (Build 7601) Service Pack 1; Esri ArcGIS 10.1.1.3143</envirDesc>
<dataLang>
<languageCode Sync="TRUE" value="eng"/>
<countryCode Sync="TRUE" value="USA"/>
</dataLang>
<idCitation>
<resTitle Sync="TRUE">Ky_NKAPC_2007_6IN</resTitle>
<presForm>
<PresFormCd Sync="TRUE" value="011"/>
</presForm>
</idCitation>
<spatRpType>
<SpatRepTypCd Sync="TRUE" value="002"/>
</spatRpType>
<dataExt>
<geoEle>
<GeoBndBox esriExtentType="native">
<westBL Sync="TRUE">5237707.5</westBL>
<eastBL Sync="TRUE">5354450</eastBL>
<northBL Sync="TRUE">4300622</northBL>
<southBL Sync="TRUE">4175120</southBL>
<exTypeCode Sync="TRUE">1</exTypeCode>
</GeoBndBox>
</geoEle>
</dataExt>
<geoBox esriExtentType="decdegrees">
<westBL Sync="TRUE">-84.639897</westBL>
<eastBL Sync="TRUE">-84.223236</eastBL>
<northBL Sync="TRUE">39.128627</northBL>
<southBL Sync="TRUE">38.779588</southBL>
<exTypeCode Sync="TRUE">1</exTypeCode>
</geoBox>
<dataExt>
<geoEle>
<GeoBndBox esriExtentType="search">
<exTypeCode Sync="TRUE">1</exTypeCode>
<westBL Sync="TRUE">-84.639897</westBL>
<eastBL Sync="TRUE">-84.223236</eastBL>
<northBL Sync="TRUE">39.128627</northBL>
<southBL Sync="TRUE">38.779588</southBL>
</GeoBndBox>
</geoEle>
</dataExt>
<idAbs>&lt;div style='text-align:Left;'&gt;&lt;div&gt;&lt;p&gt;&lt;span&gt;1/2' orthophotography was collected for Campbell and Kenton Counties with a LMK 2000 camera. It was scanned at 15 microns and orthorectified to client-provided DTMs, some of which were updated by Photo Science, Inc..&lt;/span&gt;&lt;/p&gt;&lt;/div&gt;&lt;/div&gt;</idAbs>
<searchKeys>
<keyword>ortho</keyword>
<keyword>imagery</keyword>
<keyword>campbell</keyword>
<keyword>kenton</keyword>
</searchKeys>
<idPurp>Orthophotography was used to collect planimetric features within Campbell and Kenton Counties.</idPurp>
<idCredit>NKY, KyFromAbove</idCredit>
<resConst>
<Consts>
<useLimit>&lt;div style='text-align:Left;'&gt;&lt;p style='font-size:16ptmargin:0 0 11 0;'&gt;&lt;span&gt;LIMITATION OF LIABILITY: The Kentucky Division of Geographic Information (DGI) has no indication or reason to believe that there are any inaccuracies or defects of information incorporated in this work and make no representations of any kind, including, but not limited to, the warranties of merchantability or fitness for a particular use, nor are any such warranties to be implied, with respect to the information or data, furnished herein.&lt;/span&gt;&lt;/p&gt;&lt;/div&gt;</useLimit>
</Consts>
</resConst>
</dataIdInfo>
<mdLang>
<languageCode Sync="TRUE" value="eng"/>
<countryCode Sync="TRUE" value="USA"/>
</mdLang>
<mdChar>
<CharSetCd Sync="TRUE" value="004"/>
</mdChar>
<mdHrLv>
<ScopeCd Sync="TRUE" value="005"/>
</mdHrLv>
<mdHrLvName Sync="TRUE">dataset</mdHrLvName>
<distInfo>
<distributor>
<distorTran>
<onLineSrc>
<linkage Sync="TRUE">Server=kydevgis5; Service=5152; Database=kyraster; User=sde; Version=sde.DEFAULT</linkage>
<protocol Sync="TRUE">ArcSDE Connection</protocol>
<orDesc Sync="TRUE">002</orDesc>
</onLineSrc>
</distorTran>
<distorFormat>
<formatName Sync="TRUE">SDE Raster Dataset</formatName>
</distorFormat>
</distributor>
<distFormat>
<formatName Sync="TRUE">File Geodatabase Raster Dataset</formatName>
</distFormat>
</distInfo>
<distinfo>
<resdesc Sync="TRUE">Downloadable Data</resdesc>
<distrib>
<cntinfo>
<cntaddr>
<addrtype>mailing and physical address</addrtype>
<address>120 Glenns Creek Road</address>
<city>Frankfort</city>
<state>Kentucky</state>
<postal>40601</postal>
<country>USA</country>
</cntaddr>
<cntorgp>
<cntorg>Division of Geographic Information</cntorg>
<cntper>Kent Anness</cntper>
</cntorgp>
<cntvoice>502-564-1451</cntvoice>
<cntemail>kent.anness@ky.gov</cntemail>
</cntinfo>
</distrib>
<stdorder>
<digform>
<digtopt>
<onlinopt>
<computer>
<networka>
<networkr>ftp://ftp.kymartian.ky.gov/nkapc_2007_aerial/</networkr>
</networka>
</computer>
</onlinopt>
</digtopt>
</digform>
</stdorder>
</distinfo>
<spdoinfo>
<direct Sync="TRUE">Raster</direct>
<rastinfo>
<rasttype Sync="TRUE">Pixel</rasttype>
<rowcount Sync="TRUE">251004</rowcount>
<colcount Sync="TRUE">233485</colcount>
<rastxsz Sync="TRUE">0.500000</rastxsz>
<rastysz Sync="TRUE">0.500000</rastysz>
<rastbpp Sync="TRUE">8</rastbpp>
<vrtcount Sync="TRUE">1</vrtcount>
<rastorig Sync="TRUE">Upper Left</rastorig>
<rastcmap Sync="TRUE">FALSE</rastcmap>
<rastcomp Sync="TRUE">JPEG</rastcomp>
<rastband Sync="TRUE">3</rastband>
<rastdtyp Sync="TRUE">pixel codes</rastdtyp>
<rastifor Sync="TRUE">FGDBR</rastifor>
<rastplyr Sync="TRUE">TRUE</rastplyr>
</rastinfo>
</spdoinfo>
<mdDateSt Sync="TRUE">20250730</mdDateSt>
<mdFileID Sync="TRUE">{C2B21A74-FE92-42C6-9858-0B83288DF4F0}</mdFileID>
<refSysInfo>
<RefSystem>
<refSysID>
<identCode Sync="TRUE" code="3089">NAD_1983_StatePlane_Kentucky_FIPS_1600_Feet</identCode>
<idCodeSpace Sync="TRUE">EPSG</idCodeSpace>
<idVersion Sync="TRUE">7.11.2</idVersion>
</refSysID>
</RefSystem>
</refSysInfo>
</metadata>
