<?xml version="1.0" encoding="UTF-8" standalone="no"?>
<metadata>
<idinfo>
<citation>
<citeinfo>
<origin>USDA, FSA, USGS, DGI</origin>
<pubdate>20051205</pubdate>
<title>FSA NAIP Digital Ortho Photo Imagery for Kentucky (2004)</title>
<geoform>remote-sensing image</geoform>
<serinfo>
<sername>Kentucky FSA NAIP Imagery</sername>
<issue>FSA KY1Z 20K Grid</issue>
</serinfo>
<pubinfo>
<pubplace>Frankfort, KY</pubplace>
<publish>Kentucky EPPC - GIS Branch</publish>
</pubinfo>
<ftname Sync="TRUE">KYRASTER.SDE.FSA_2004</ftname>
</citeinfo>
</citation>
<descript>
<abstract>This data set contains imagery from the National Agricultural Imagery Program (NAIP). NAIP acquires digital ortho imagery during the agricultural growing seasons in the continental U.S.. A primary goal of the NAIP program is to enable availabilty of ortho imagery within a year of acquisition. NAIP provides two main products: 1 meter ground sample distance (GSD) ortho imagery rectified to a horizontal accuracy of within +/- 3 meters of reference digital ortho quarter quads (DOQQS) from the National Digital Ortho Program (NDOP); and, 2 meter GSD ortho imagery rectified to within +/- 20 meters of reference DOQQs. The tiling format of the original FSA NAIP imagery is based on a 3.75' x 3.75' quarter quadrangle with a 360 meter buffer on all four sides. NAIP quarter quads are rectified to the UTM coordinate system NAD83. NAIP imagery can obtain as much as 10% cloud cover per tile. The tiling scheme for the final Kentucky EPPC-OIS-GIS dataset is 20,000 ft x 20,000 ft grid blocks rectified to the Kentucky Single Zone SPCS, US Survey Foot.</abstract>
<purpose>This imagery is intended as a source for current digital ortho imagery in GIS and other uses that require ortho imagery acquired during the agricultural growing season.</purpose>
<supplinf>See ftp://ftp.kymartian.ky.gov/fsa/fsa_grid_shapefile.zip for utilized tiling scheme.
This statewide imagery was originally produced by the USDA-FSA
Aerial Photography Field Office and published with 1-meter
pixel resolution, NAD83 UTM Zones 16 and 17 Meters, in 3.75
min quarter quad (QQ) tiles. The imagery was reprocessed to
3.33333333 USFt pixel size, projected to NAD83 Kentucky Single
Zone SPCS (KY1Z) USFt, in 20,000 ft x 20,000 ft (20K) blocks.
Contact information for USDA APFO:
Supervisor Sales Services Branch
USDA Aerial Photography Field Office (APFO)
2222 West 2300 South
Salt Lake City, Utah 84119-2020
Phone 801-975-3503
Facsimile 801-975-3532
Internet Mail sales@apfo.usda.gov</supplinf>
<langdata Sync="TRUE">en</langdata>
</descript>
<timeperd>
<timeinfo>
<sngdate>
<caldate>Varies (see Supplemental_Information above)</caldate>
</sngdate>
</timeinfo>
<current>ground condition</current>
</timeperd>
<status>
<progress>Complete</progress>
<update>Irregular</update>
</status>
<spdom>
<bounding>
<westbc>-89.768004</westbc>
<eastbc>-81.849043</eastbc>
<northbc>39.18701</northbc>
<southbc>36.430823</southbc>
</bounding>
<lboundng>
<leftbc Sync="TRUE">3781423.333333</leftbc>
<rightbc Sync="TRUE">6027833.333438</rightbc>
<bottombc Sync="TRUE">3340000.000091</bottombc>
<topbc Sync="TRUE">4320000.000000</topbc>
</lboundng>
</spdom>
<keywords>
<theme>
<themekt>None</themekt>
<themekey>EPPC</themekey>
<themekey>FSA</themekey>
<themekey>NAIP</themekey>
<themekey>digital</themekey>
<themekey>image</themekey>
<themekey>ImageryBaseMapsEarthCover</themekey>
<themekey>Farming</themekey>
<themekey>Georectified</themekey>
<themekey>Georectification</themekey>
<themekey>Georeferenced</themekey>
<themekey>KY1Z 20K Grid Block</themekey>
<themekey>Aerial</themekey>
<themekey>Compliance</themekey>
<themekey>USDA-FSA-APFO Aerial Photography Field Office</themekey>
<themekey>United States Department of Agriculture (USDA)</themekey>
</theme>
<place>
<placekt>Geographic Names Information System</placekt>
<placekey>KY</placekey>
<placekey>KENTUCKY</placekey>
</place>
</keywords>
<accconst>There are no limitations for access.</accconst>
<useconst>None, The Kentucky EPPC GIS Branch and the USDA FSA APFO asks to be credited in derived products.</useconst>
<ptcontac>
<cntinfo>
<cntorgp/>
<cntaddr>
<addrtype>mailing and physical address</addrtype>
<address>500 Mero St 14th FL CPT</address>
<city>Frankfort</city>
<state>Kentucky</state>
<postal>40601</postal>
<country>USA</country>
</cntaddr>
<cntvoice>502-564-6743 x178</cntvoice>
<cntemail>Bryan.Bunch@ky.gov</cntemail>
<hours>8:00 AM - 4:30 PM M-F</hours>
<cntinst>Call or EMail</cntinst>
<cntper>Bryan Bunch</cntper>
<cntorg>Kentucky EPPC - GIS Branch</cntorg>
</cntinfo>
</ptcontac>
<browse>
<browsen>None</browsen>
<browsed>None</browsed>
<browset>None</browset>
</browse>
<native>UnKnown</native>
<natvform Sync="TRUE">SDE Raster Dataset</natvform>
</idinfo>
<dataqual>
<logic>Image envelope is based on NAD83 KY1Z 20K grid blocks.</logic>
<complete>None</complete>
<posacc>
<horizpa>
<horizpar>The positional accuracy for the digital data is tested by visual comparison to a data source with a higher order of accuracy.</horizpar>
</horizpa>
</posacc>
<lineage>
<srcinfo>
<srccite>
<citeinfo>
<origin>Kentucky EPPC - GIS Branch</origin>
<pubdate>20051205</pubdate>
<title>fsa_n51e010</title>
<geoform>remote-sensing image</geoform>
</citeinfo>
</srccite>
<typesrc>High Capacity Portable Hard Drive</typesrc>
<srctime>
<timeinfo>
<sngdate>
<caldate>Varies (see Supplemental_Information)</caldate>
</sngdate>
</timeinfo>
<srccurr>Varies (see Supplemental_Information)</srccurr>
</srctime>
<srccitea>Georectifed Image</srccitea>
<srccontr>Digital Georectifed Image</srccontr>
</srcinfo>
<procstep>
<procdesc>USDA-FSA-APFO Process:
The production methodology used for creating 2004 DOQQs was through Single Image Resection, wherein the original 7.5' DOQ's were used to obtain X,Y control and the original DEM data used to provide the Z coordinate values. All 2004 scanned images were produced using conventional photogrammetric practices, and were corrected for camera errors through Interior Orientation; earth curvature, atmospheric refraction and systematic errors were compensated for using standard parameterization within the orthorectification process. Control was obtained by picking conjugate points between the existing ortho and the 2004 scanned image. Once the images were co-registered and the manually placed points refined for position and feature, an auto-correlation function was used to densify control across the entire scanned image. The resulting large population of candidate points was then filtered according to residual values in X, Y and Z positions, retaining only high-confidence points for subsequent resection.
Once a well-distributed control point population was arrived at, the 2004 scanned image underwent a Single Image Resection, calculating the exterior orientation of each image through rigorous analytical triangulation, albeit without final bundle adjustment. X,Y, Z, Omega,. Phi and Kappa values were generated for each image through resection, and subsequently used to support fully differential orthorectification.
In the orthorectification process, the DEM was queried using Bilinear Interpolation to arrive at the best candidate elevation for generating an output pixel position. In similar fashion, the scanned image was resampled using Bilinear Interpolation to generate a suitable output pixel brightness value for each output image position, in all three bands (RGB). Fully differential orthorectification through colinearity condition equations generated the final output images.
Each image was then evaluated against the underlying original DOQQ to determine the goodness of fit. Once positional accuracy, relative to the corresponding baseline ortho imagery, was verified, the orthorectified imagery was cut to USGS 3.75-Minute DOQQ extents with a 300-Meter buffer. Utilizing ERDAS-IMAGINE, a .tif/.tfw DOQQ was converted to Geotiff format. The Unix-based program, listgeo was then used to extract the valid Geotiff header information. The information extracted, was subsequently written to a template text file, which was then embedded into each newly created NAIP 3.75-Minute DOQQ, along with the coordinate information that was derived from the .tfw file. The embedding of the header and world location information was performed in the Unix-based Geotifcp program.
</procdesc>
</procstep>
<procstep>
<procdesc>Kentucky EPPC - GIS Branch Process:
The original USDA-FSA-APFO imagery was projected from UTM to KY1Z, resampled from 1-meter (3.28083333 USFt) to 3.33333333 USFt pixel resolution, and clipped to the relevant 3.75 min. quarter quad boundary. The final 20K image blocks were produced by merging all component FSA 3.75 min. tiles and clipping along the relevant 20K envelope boundary. 20K blocks along the edge of the state boundary were resized (reduced) to best fit the limits of imagery extending outside the boundary of Kentucky. This process was accomplished utilizing in-house applications developed with ESRI ArcObjects.</procdesc>
<procdate>20051205</procdate>
<proccont>
<cntinfo>
<cntorgp>
<cntorg>Kentucky EPPC - GIS Branch</cntorg>
<cntper>Bryan Bunch</cntper>
<cntaddr>
<addrtype>mailing and physical address</addrtype>
<address>500 Mero St 14th FL CPT</address>
<city>Frankfort</city>
<state>Kentucky</state>
<postal>40601</postal>
<country>USA</country>
</cntaddr>
<cntvoice>502-564-5174</cntvoice>
<cntemail>Bryan.Bunch@ky.gov</cntemail>
<hours>8:00 AM - 4:30 PM M-F</hours>
<cntinst>Call or EMail</cntinst>
</cntorgp>
<cntvoice>502-564-6743 x178</cntvoice>
<cntemail>Bryan.Bunch@ky.gov</cntemail>
</cntinfo>
</proccont>
</procstep>
<procstep>
<procdesc Sync="TRUE">Metadata imported.</procdesc>
<date Sync="TRUE">20051207</date>
<time Sync="TRUE">09302300</time>
</procstep>
<procstep>
<procdesc Sync="TRUE">Metadata imported.</procdesc>
<date Sync="TRUE">20080208</date>
<time Sync="TRUE">08355300</time>
</procstep>
</lineage>
</dataqual>
<spdoinfo>
<direct>Raster</direct>
<rastinfo>
<rasttype>Pixel</rasttype>
<rowcount>6000</rowcount>
<colcount>6000</colcount>
<rastxsz Sync="TRUE">3.333333</rastxsz>
<rastysz Sync="TRUE">3.333333</rastysz>
<rastbpp Sync="TRUE">8</rastbpp>
<vrtcount Sync="TRUE">1</vrtcount>
<rastorig Sync="TRUE">Upper Left</rastorig>
<rastcmap Sync="TRUE">FALSE</rastcmap>
<rastcomp Sync="TRUE">JPEG</rastcomp>
<rastband Sync="TRUE">3</rastband>
<rastdtyp Sync="TRUE">pixel codes</rastdtyp>
<rastplyr Sync="TRUE">TRUE</rastplyr>
<rastifor Sync="TRUE">FGDBR</rastifor>
</rastinfo>
</spdoinfo>
<spref>
<horizsys>
<planar>
<planci>
<plance>row and column</plance>
<coordrep>
<absres>3.33333333</absres>
<ordres>3.33333333</ordres>
</coordrep>
<plandu>survey feet</plandu>
</planci>
</planar>
<geodetic>
<horizdn>North American Datum of 1983</horizdn>
<ellips>Geodetic Reference System 80</ellips>
<semiaxis>6378137</semiaxis>
<denflat>298.257222101</denflat>
</geodetic>
<cordsysn>
<geogcsn Sync="TRUE">GCS_North_American_1983</geogcsn>
<projcsn Sync="TRUE">NAD_1983_StatePlane_Kentucky_FIPS_1600_Feet</projcsn>
</cordsysn>
</horizsys>
<vertdef>
<altsys>
<altenc Sync="TRUE">Explicit elevation coordinate included with horizontal coordinates</altenc>
<altres Sync="TRUE">1.000000</altres>
</altsys>
</vertdef>
</spref>
<eainfo>
<overview>
<eaover>
24-bit pixels, 3 band color(RGB)
values 0 - 255
</eaover>
<eadetcit>None</eadetcit>
</overview>
</eainfo>
<distinfo>
<distrib>
<cntinfo>
<cntorgp/>
<cntaddr/>
</cntinfo>
</distrib>
<resdesc>Downloadable Data</resdesc>
<distliab>In no event shall the creators, custodians, or distributors of this information be liable for any damages arising out of its use ( or the inability to use it).</distliab>
<stdorder>
<digform>
<digtinfo>
<formname>ZIP</formname>
<filedec>zip</filedec>
<transize>Varies</transize>
<dssize Sync="TRUE">11.283</dssize>
</digtinfo>
<digtopt>
<onlinopt>
<computer>
<networka>
<networkr>ftp://ftp.kymartian.ky.gov/fsa/</networkr>
</networka>
</computer>
<accinstr>HTTP</accinstr>
<oncomp>Windows Server 2003</oncomp>
</onlinopt>
</digtopt>
</digform>
<fees>None</fees>
<ordering>ftp://ftp.kymartian.ky.gov/fsa/</ordering>
<turnarnd>immediate</turnarnd>
</stdorder>
<availabl>
<timeinfo>
<sngdate>
<caldate>2005</caldate>
<time>unknown</time>
</sngdate>
</timeinfo>
</availabl>
</distinfo>
<metainfo>
<metd>20051205</metd>
<metc>
<cntinfo>
<cntorgp>
<cntorg>Kentucky EPPC - GIS Branch</cntorg>
<cntper>Bryan Bunch</cntper>
</cntorgp>
<cntaddr>
<addrtype>mailing and physical address</addrtype>
<address>500 Mero St. 14th FL CPT</address>
<city>Frankfort</city>
<state>Kentucky</state>
<postal>40601</postal>
<country>USA</country>
</cntaddr>
<cntvoice>502-564-6743 x178</cntvoice>
<cntemail>Bryan.Bunch@ky.gov</cntemail>
<hours>M-F 8:00AM - 4:30PM</hours>
<cntinst>Call or E-mail</cntinst>
<cntper>Bryan Bunch</cntper>
</cntinfo>
</metc>
<metstdn>FGDC Content Standards for Digital Geospatial Metadata</metstdn>
<metstdv>FGDC-STD-001-1998</metstdv>
<langmeta Sync="TRUE">en</langmeta>
<mettc Sync="TRUE">local time</mettc>
</metainfo>
<Esri>
<CreaDate>20080208</CreaDate>
<CreaTime>08355300</CreaTime>
<SyncOnce>FALSE</SyncOnce>
<SyncDate>20150727</SyncDate>
<SyncTime>10275700</SyncTime>
<ModDate>20150727</ModDate>
<ModTime>10275700</ModTime>
<PublishStatus>Published</PublishStatus>
<MetaID>{5DD8307E-A93E-487E-A407-A2F5FF4449DA}</MetaID>
<DataProperties>
<itemProps>
<itemName Sync="TRUE">FSA_2004_AERIAL_1M</itemName>
<imsContentType Sync="TRUE">002</imsContentType>
<nativeExtBox>
<westBL Sync="TRUE">3781423.333333</westBL>
<eastBL Sync="TRUE">6027833.333438</eastBL>
<southBL Sync="TRUE">3340000.000091</southBL>
<northBL Sync="TRUE">4320000.000000</northBL>
<exTypeCode Sync="TRUE">1</exTypeCode>
</nativeExtBox>
<itemLocation>
<protocol Sync="TRUE">Local Area Network</protocol>
<linkage Sync="TRUE">file://\\kyeggiswis01\imageserverdata2\GDB\Ky_NAIP_2004_1M.gdb</linkage>
</itemLocation>
</itemProps>
<coordRef>
<type Sync="TRUE">Projected</type>
<geogcsn Sync="TRUE">GCS_North_American_1983</geogcsn>
<csUnits Sync="TRUE">Linear Unit: Foot_US (0.304801)</csUnits>
<projcsn Sync="TRUE">NAD_1983_StatePlane_Kentucky_FIPS_1600_Feet</projcsn>
<peXml Sync="TRUE">&lt;ProjectedCoordinateSystem xsi:type='typens:ProjectedCoordinateSystem' xmlns:xsi='http://www.w3.org/2001/XMLSchema-instance' xmlns:xs='http://www.w3.org/2001/XMLSchema' xmlns:typens='http://www.esri.com/schemas/ArcGIS/10.1'&gt;&lt;WKT&gt;PROJCS[&amp;quot;NAD_1983_StatePlane_Kentucky_FIPS_1600_Feet&amp;quot;,GEOGCS[&amp;quot;GCS_North_American_1983&amp;quot;,DATUM[&amp;quot;D_North_American_1983&amp;quot;,SPHEROID[&amp;quot;GRS_1980&amp;quot;,6378137.0,298.257222101]],PRIMEM[&amp;quot;Greenwich&amp;quot;,0.0],UNIT[&amp;quot;Degree&amp;quot;,0.0174532925199433]],PROJECTION[&amp;quot;Lambert_Conformal_Conic&amp;quot;],PARAMETER[&amp;quot;False_Easting&amp;quot;,4921250.0],PARAMETER[&amp;quot;False_Northing&amp;quot;,3280833.333333333],PARAMETER[&amp;quot;Central_Meridian&amp;quot;,-85.75],PARAMETER[&amp;quot;Standard_Parallel_1&amp;quot;,37.08333333333333],PARAMETER[&amp;quot;Standard_Parallel_2&amp;quot;,38.66666666666666],PARAMETER[&amp;quot;Latitude_Of_Origin&amp;quot;,36.33333333333333],UNIT[&amp;quot;Foot_US&amp;quot;,0.3048006096012192],AUTHORITY[&amp;quot;EPSG&amp;quot;,3089]]&lt;/WKT&gt;&lt;XOrigin&gt;-117434800&lt;/XOrigin&gt;&lt;YOrigin&gt;-91579000&lt;/YOrigin&gt;&lt;XYScale&gt;36807330.96050825&lt;/XYScale&gt;&lt;ZOrigin&gt;0&lt;/ZOrigin&gt;&lt;ZScale&gt;1&lt;/ZScale&gt;&lt;MOrigin&gt;0&lt;/MOrigin&gt;&lt;MScale&gt;1&lt;/MScale&gt;&lt;XYTolerance&gt;0.0032808333333333331&lt;/XYTolerance&gt;&lt;ZTolerance&gt;2&lt;/ZTolerance&gt;&lt;MTolerance&gt;2&lt;/MTolerance&gt;&lt;HighPrecision&gt;true&lt;/HighPrecision&gt;&lt;WKID&gt;102763&lt;/WKID&gt;&lt;LatestWKID&gt;3089&lt;/LatestWKID&gt;&lt;/ProjectedCoordinateSystem&gt;</peXml>
</coordRef>
</DataProperties>
<Service Sync="TRUE">ImageServices/Ky_NAIP_2004_1M</Service>
<ServiceType Sync="TRUE">image</ServiceType>
</Esri>
<dataIdInfo>
<dataLang>
<languageCode Sync="TRUE" value="eng"/>
<countryCode Sync="TRUE" value="USA"/>
</dataLang>
<idCitation>
<resTitle Sync="TRUE">Ky_NAIP_2004_1M</resTitle>
<presForm>
<PresFormCd Sync="TRUE" value="011"/>
</presForm>
</idCitation>
<spatRpType>
<SpatRepTypCd Sync="TRUE" value="002"/>
</spatRpType>
<dataExt>
<geoEle>
<GeoBndBox esriExtentType="native">
<westBL Sync="TRUE">3781423.333333</westBL>
<eastBL Sync="TRUE">6027833.333438</eastBL>
<northBL Sync="TRUE">4320000</northBL>
<southBL Sync="TRUE">3340000.000091</southBL>
<exTypeCode Sync="TRUE">1</exTypeCode>
</GeoBndBox>
</geoEle>
</dataExt>
<geoBox esriExtentType="decdegrees">
<westBL Sync="TRUE">-89.768004</westBL>
<eastBL Sync="TRUE">-81.849043</eastBL>
<northBL Sync="TRUE">39.187012</northBL>
<southBL Sync="TRUE">36.430823</southBL>
<exTypeCode Sync="TRUE">1</exTypeCode>
</geoBox>
<dataExt>
<geoEle>
<GeoBndBox esriExtentType="search">
<exTypeCode Sync="TRUE">1</exTypeCode>
<westBL Sync="TRUE">-89.768004</westBL>
<eastBL Sync="TRUE">-81.849043</eastBL>
<northBL Sync="TRUE">39.187012</northBL>
<southBL Sync="TRUE">36.430823</southBL>
</GeoBndBox>
</geoEle>
</dataExt>
<envirDesc Sync="TRUE">Microsoft Windows Server 2008 R2 Version 6.1 (Build 7601) Service Pack 1; Esri ArcGIS 10.1.1.3143</envirDesc>
<idAbs>This data set contains imagery from the National Agricultural Imagery Program (NAIP). NAIP acquires digital ortho imagery during the agricultural growing seasons in the continental U.S.. A primary goal of the NAIP program is to enable availlability of ortho imagery within a year of acquisition (2004).
</idAbs>
<searchKeys>
<keyword>NAIP</keyword>
<keyword>USDA</keyword>
<keyword>FSA</keyword>
<keyword>2004</keyword>
<keyword>Leaf-On</keyword>
<keyword>1-meter</keyword>
<keyword>NRCS</keyword>
</searchKeys>
<idPurp>This data set contains imagery from the National Agricultural Imagery Program (NAIP). NAIP acquires digital ortho imagery during the agricultural growing seasons in the continental U.S.(2004).
</idPurp>
<idCredit>USDA-FSA</idCredit>
<resConst>
<Consts>
<useLimit>None</useLimit>
</Consts>
</resConst>
</dataIdInfo>
<mdLang>
<languageCode Sync="TRUE" value="eng"/>
<countryCode Sync="TRUE" value="USA"/>
</mdLang>
<mdStanName Sync="TRUE">ISO 19115 Geographic Information - Metadata</mdStanName>
<mdStanVer Sync="TRUE">DIS_ESRI1.0</mdStanVer>
<mdChar>
<CharSetCd Sync="TRUE" value="004"/>
</mdChar>
<mdHrLv>
<ScopeCd Sync="TRUE" value="005"/>
</mdHrLv>
<mdHrLvName Sync="TRUE">dataset</mdHrLvName>
<distInfo>
<distributor>
<distorTran>
<onLineSrc>
<orDesc Sync="TRUE">002</orDesc>
<protocol Sync="TRUE">ArcSDE Connection</protocol>
</onLineSrc>
<transSize Sync="TRUE">11.283</transSize>
</distorTran>
<distorFormat>
<formatName Sync="TRUE">SDE Raster Dataset</formatName>
</distorFormat>
</distributor>
<distFormat>
<formatName Sync="TRUE">File Geodatabase Raster Dataset</formatName>
</distFormat>
</distInfo>
<refSysInfo>
<RefSystem>
<refSysID>
<identCode Sync="TRUE" code="3089">NAD_1983_StatePlane_Kentucky_FIPS_1600_Feet</identCode>
<idCodeSpace Sync="TRUE">EPSG</idCodeSpace>
<idVersion Sync="TRUE">7.11.2</idVersion>
</refSysID>
</RefSystem>
</refSysInfo>
<spatRepInfo>
<GridSpatRep>
<numDims Sync="TRUE">2</numDims>
<cellGeo>
<CellGeoCd Sync="TRUE" value="002"/>
</cellGeo>
<tranParaAv Sync="TRUE">1</tranParaAv>
<axDimProps>
<Dimen>
<dimName>
<DimNameTypCd Sync="TRUE" value="002"/>
</dimName>
<dimSize Sync="TRUE">6000</dimSize>
<dimResol>
<value Sync="TRUE">3.333333</value>
<uom>
<UomLength>
<uomName Sync="TRUE">Foot_US</uomName>
<conversionToISOstandardUnit Sync="TRUE">1 Foot_US = 0.304801 Meter(s)</conversionToISOstandardUnit>
</UomLength>
</uom>
</dimResol>
</Dimen>
<Dimen>
<dimName>
<DimNameTypCd Sync="TRUE" value="001"/>
</dimName>
<dimSize Sync="TRUE">6000</dimSize>
<dimResol>
<value Sync="TRUE">3.333333</value>
<uom>
<UomLength>
<uomName Sync="TRUE">Foot_US</uomName>
<conversionToISOstandardUnit Sync="TRUE">1 Foot_US = 0.304801 Meter(s)</conversionToISOstandardUnit>
</UomLength>
</uom>
</dimResol>
</Dimen>
</axDimProps>
</GridSpatRep>
</spatRepInfo>
<mdDateSt Sync="TRUE">20150727</mdDateSt>
</metadata>
