{ "currentVersion": 10.91, "serviceDescription": "
This dynamic image service provides access to 1' 4-Band orthoimagery for Mayfield, Kentucky. The imagery was acquired through the Kentucky Aerial Photography and Elevation Data (KYAPED) Program. <\/span><\/p><\/div><\/div><\/div>",
"name": "ImageServices/Ky_Mayfield_2009_1FT",
"description": " This dynamic image service provides access to 1' 4-Band orthoimagery for Mayfield, Kentucky. The imagery was acquired through the Kentucky Aerial Photography and Elevation Data (KYAPED) Program. <\/span><\/p><\/div><\/div><\/div>",
"extent": {
"xmin": 4041262.1369567215,
"ymin": 3410577.049309403,
"xmax": 4107103.736043732,
"ymax": 3469429.836159058,
"spatialReference": {
"wkid": 102763,
"latestWkid": 3089
}
},
"initialExtent": {
"xmin": 4041262.1369567215,
"ymin": 3410577.049309403,
"xmax": 4107103.736043732,
"ymax": 3469429.836159058,
"spatialReference": {
"wkid": 102763,
"latestWkid": 3089
}
},
"fullExtent": {
"xmin": 4041262.1369567215,
"ymin": 3410577.049309403,
"xmax": 4107103.736043732,
"ymax": 3469429.836159058,
"spatialReference": {
"wkid": 102763,
"latestWkid": 3089
}
},
"pixelSizeX": 1.001119071387462,
"pixelSizeY": 1.0011190713874623,
"bandCount": 3,
"pixelType": "U8",
"minPixelSize": 0,
"maxPixelSize": 0,
"copyrightText": "KyFromAbove",
"serviceDataType": "esriImageServiceDataTypeRGB",
"minValues": [
48,
59,
63
],
"maxValues": [
255,
255,
253
],
"meanValues": [
105.88841793691623,
101.23814475383539,
96.30501624534432
],
"stdvValues": [
13.499635510439292,
11.540882854118472,
8.525602278440157
],
"objectIdField": "OBJECTID",
"fields": [
{
"name": "OBJECTID",
"type": "esriFieldTypeOID",
"alias": "OBJECTID",
"domain": null
},
{
"name": "Shape",
"type": "esriFieldTypeGeometry",
"alias": "Shape",
"domain": null
},
{
"name": "Name",
"type": "esriFieldTypeString",
"alias": "Name",
"domain": null,
"length": 50
},
{
"name": "MinPS",
"type": "esriFieldTypeDouble",
"alias": "MinPS",
"domain": null
},
{
"name": "MaxPS",
"type": "esriFieldTypeDouble",
"alias": "MaxPS",
"domain": null
},
{
"name": "LowPS",
"type": "esriFieldTypeDouble",
"alias": "LowPS",
"domain": null
},
{
"name": "HighPS",
"type": "esriFieldTypeDouble",
"alias": "HighPS",
"domain": null
},
{
"name": "Category",
"type": "esriFieldTypeInteger",
"alias": "Category",
"domain": {
"type": "codedValue",
"name": "MosaicCatalogItemCategoryDomain",
"description": "Catalog item categories.",
"codedValues": [
{
"name": "Unknown",
"code": 0
},
{
"name": "Primary",
"code": 1
},
{
"name": "Overview",
"code": 2
},
{
"name": "Unprocessed Overview",
"code": 3
},
{
"name": "Partial Overview",
"code": 4
},
{
"name": "Inactive",
"code": 5
},
{
"name": "Uploaded",
"code": 253
},
{
"name": "Incomplete",
"code": 254
},
{
"name": "Custom",
"code": 255
}
],
"mergePolicy": "esriMPTDefaultValue",
"splitPolicy": "esriSPTDefaultValue"
}
},
{
"name": "Tag",
"type": "esriFieldTypeString",
"alias": "Tag",
"domain": null,
"length": 20
},
{
"name": "GroupName",
"type": "esriFieldTypeString",
"alias": "GroupName",
"domain": null,
"length": 50
},
{
"name": "ProductName",
"type": "esriFieldTypeString",
"alias": "ProductName",
"domain": null,
"length": 50
},
{
"name": "CenterX",
"type": "esriFieldTypeDouble",
"alias": "CenterX",
"domain": null
},
{
"name": "CenterY",
"type": "esriFieldTypeDouble",
"alias": "CenterY",
"domain": null
},
{
"name": "ZOrder",
"type": "esriFieldTypeInteger",
"alias": "ZOrder",
"domain": null
},
{
"name": "Shape_Length",
"type": "esriFieldTypeDouble",
"alias": "Shape_Length",
"domain": null
},
{
"name": "Shape_Area",
"type": "esriFieldTypeDouble",
"alias": "Shape_Area",
"domain": null
}
],
"capabilities": "Catalog,Mensuration,Image,Metadata",
"defaultMosaicMethod": "Northwest",
"allowedMosaicMethods": "NorthWest,Center,LockRaster,ByAttribute,Nadir,Viewpoint,Seamline,None",
"sortField": "",
"sortValue": null,
"sortAscending": true,
"mosaicOperator": "First",
"maxDownloadSizeLimit": 2048,
"defaultCompressionQuality": 75,
"defaultResamplingMethod": "Bilinear",
"maxImageHeight": 10000,
"maxImageWidth": 10000,
"maxRecordCount": 1000,
"maxDownloadImageCount": 400,
"maxMosaicImageCount": 400,
"allowRasterFunction": true,
"rasterFunctionInfos": [
{
"name": "None",
"description": "",
"help": ""
}
],
"rasterTypeInfos": [
{
"name": "Raster Dataset",
"description": "Supports all ArcGIS Raster Datasets",
"help": ""
}
],
"mensurationCapabilities": "Basic",
"hasHistograms": true,
"hasColormap": false,
"hasRasterAttributeTable": false,
"minScale": 0,
"maxScale": 0,
"exportTilesAllowed": false,
"hasMultidimensions": false,
"supportsStatistics": true,
"supportsAdvancedQueries": true,
"editFieldsInfo": null,
"ownershipBasedAccessControlForRasters": null,
"allowComputeTiePoints": false,
"useStandardizedQueries": true,
"advancedQueryCapabilities": {
"useStandardizedQueries": true,
"supportsStatistics": true,
"supportsOrderBy": true,
"supportsDistinct": true,
"supportsPagination": true
},
"spatialReference": {
"wkid": 102763,
"latestWkid": 3089
}
}