<?xml version="1.0" standalone="no"?>
<metadata xml:lang="en"><Esri><CreaDate>20120912</CreaDate><CreaTime>13523500</CreaTime><ArcGISFormat>1.0</ArcGISFormat><SyncOnce>FALSE</SyncOnce><DataProperties><lineage><Process Date="20120912" Time="135235" ToolSource="c:\program files (x86)\arcgis\desktop10.1\ArcToolbox\Toolboxes\Data Management Tools.tbx\CreateMosaicDataset" Name="" export="">CreateMosaicDataset E:\ImageServerData\GDB\Imagery.gdb Ky_Mayfield_2009_1FT "PROJCS['NAD_1983_StatePlane_Kentucky_FIPS_1600_Feet',GEOGCS['GCS_North_American_1983',DATUM['D_North_American_1983',SPHEROID['GRS_1980',6378137.0,298.257222101]],PRIMEM['Greenwich',0.0],UNIT['Degree',0.0174532925199433]],PROJECTION['Lambert_Conformal_Conic'],PARAMETER['False_Easting',4921250.0],PARAMETER['False_Northing',3280833.333333333],PARAMETER['Central_Meridian',-85.75],PARAMETER['Standard_Parallel_1',37.08333333333334],PARAMETER['Standard_Parallel_2',38.66666666666666],PARAMETER['Latitude_Of_Origin',36.33333333333334],UNIT['Foot_US',0.3048006096012192]];-117434800 -91579000 3048.00609601219;-100000 10000;-100000 10000;3.28083333333333E-03;0.001;0.001;IsHighPrecision" 3 # NATURAL_COLOR_RGB "Red 630 690;Green 530 570;Blue 440 480"</Process><Process Date="20120912" Time="135358" ToolSource="c:\program files (x86)\arcgis\desktop10.1\ArcToolbox\Toolboxes\Data Management Tools.tbx\AddRastersToMosaicDataset" Name="" export="">AddRastersToMosaicDataset E:\ImageServerData\GDB\Imagery.gdb\Ky_Mayfield_2009_1FT "Raster Dataset" E:\ImageServerData\Imagery\ws09imagery\MAYFIELD_CopyRaster.img UPDATE_CELL_SIZES UPDATE_BOUNDARY UPDATE_OVERVIEWS # 0 1500 # # SUBFOLDERS ALLOW_DUPLICATES BUILD_PYRAMIDS CALCULATE_STATISTICS BUILD_THUMBNAILS # NO_FORCE_SPATIAL_REFERENCE</Process></lineage><itemProps><itemName Sync="TRUE">Ky_Mayfield_2009_1FT</itemName><itemLocation><linkage Sync="TRUE">file://\\KYEGGISWIS01\E\ImageServerData\GDB\Imagery.gdb</linkage><protocol Sync="TRUE">Local Area Network</protocol></itemLocation><nativeExtBox><westBL Sync="TRUE">4041262.136957</westBL><eastBL Sync="TRUE">4107103.736044</eastBL><southBL Sync="TRUE">3410577.049309</southBL><northBL Sync="TRUE">3469429.836159</northBL><exTypeCode Sync="TRUE">1</exTypeCode></nativeExtBox></itemProps><coordRef><type Sync="TRUE">Projected</type><geogcsn Sync="TRUE">GCS_North_American_1983</geogcsn><csUnits Sync="TRUE">Linear Unit: Foot_US (0.304801)</csUnits><projcsn Sync="TRUE">NAD_1983_StatePlane_Kentucky_FIPS_1600_Feet</projcsn><peXml Sync="TRUE">&lt;ProjectedCoordinateSystem xsi:type='typens:ProjectedCoordinateSystem' xmlns:xsi='http://www.w3.org/2001/XMLSchema-instance' xmlns:xs='http://www.w3.org/2001/XMLSchema' xmlns:typens='http://www.esri.com/schemas/ArcGIS/10.1'&gt;&lt;WKT&gt;PROJCS[&amp;quot;NAD_1983_StatePlane_Kentucky_FIPS_1600_Feet&amp;quot;,GEOGCS[&amp;quot;GCS_North_American_1983&amp;quot;,DATUM[&amp;quot;D_North_American_1983&amp;quot;,SPHEROID[&amp;quot;GRS_1980&amp;quot;,6378137.0,298.257222101]],PRIMEM[&amp;quot;Greenwich&amp;quot;,0.0],UNIT[&amp;quot;Degree&amp;quot;,0.0174532925199433]],PROJECTION[&amp;quot;Lambert_Conformal_Conic&amp;quot;],PARAMETER[&amp;quot;False_Easting&amp;quot;,4921250.0],PARAMETER[&amp;quot;False_Northing&amp;quot;,3280833.333333333],PARAMETER[&amp;quot;Central_Meridian&amp;quot;,-85.75],PARAMETER[&amp;quot;Standard_Parallel_1&amp;quot;,37.08333333333334],PARAMETER[&amp;quot;Standard_Parallel_2&amp;quot;,38.66666666666666],PARAMETER[&amp;quot;Latitude_Of_Origin&amp;quot;,36.33333333333334],UNIT[&amp;quot;Foot_US&amp;quot;,0.3048006096012192],AUTHORITY[&amp;quot;EPSG&amp;quot;,3089]]&lt;/WKT&gt;&lt;XOrigin&gt;-117434800&lt;/XOrigin&gt;&lt;YOrigin&gt;-91579000&lt;/YOrigin&gt;&lt;XYScale&gt;36807330.96050825&lt;/XYScale&gt;&lt;ZOrigin&gt;-100000&lt;/ZOrigin&gt;&lt;ZScale&gt;10000&lt;/ZScale&gt;&lt;MOrigin&gt;-100000&lt;/MOrigin&gt;&lt;MScale&gt;10000&lt;/MScale&gt;&lt;XYTolerance&gt;0.0032808333333333331&lt;/XYTolerance&gt;&lt;ZTolerance&gt;0.001&lt;/ZTolerance&gt;&lt;MTolerance&gt;0.001&lt;/MTolerance&gt;&lt;HighPrecision&gt;true&lt;/HighPrecision&gt;&lt;WKID&gt;102763&lt;/WKID&gt;&lt;LatestWKID&gt;3089&lt;/LatestWKID&gt;&lt;/ProjectedCoordinateSystem&gt;</peXml></coordRef><RasterProperties><General><PixelDepth Sync="TRUE">8</PixelDepth><HasColormap Sync="TRUE">FALSE</HasColormap><CompressionType Sync="TRUE">None</CompressionType><NumBands Sync="TRUE">3</NumBands><Format Sync="TRUE">AMD</Format><HasPyramids Sync="TRUE">TRUE</HasPyramids><SourceType Sync="TRUE">continuous</SourceType><PixelType Sync="TRUE">unsigned integer</PixelType><NoDataValue Sync="TRUE"/></General><Properties><MaxImageHeight Sync="TRUE">10000</MaxImageHeight><MaxImageWidth Sync="TRUE">10000</MaxImageWidth><MaxRecordCount Sync="TRUE">1000</MaxRecordCount><MaxDownloadImageCount Sync="TRUE">400</MaxDownloadImageCount><MaxDownloadSizeLimit Sync="TRUE">2048</MaxDownloadSizeLimit><MaxMosaicImageCount Sync="TRUE">400</MaxMosaicImageCount><DefaultCompressionQuality Sync="TRUE">75</DefaultCompressionQuality><DefaultCompressionTolerance Sync="TRUE">0.01</DefaultCompressionTolerance><BlendWidth Sync="TRUE">10</BlendWidth><ViewpointSpacingX Sync="TRUE">600</ViewpointSpacingX><ViewpointSpacingY Sync="TRUE">300</ViewpointSpacingY><AllowedItemMetadata Sync="TRUE">Basic</AllowedItemMetadata><DefaultResamplingMethod Sync="TRUE">1</DefaultResamplingMethod><AllowedMosaicMethods Sync="TRUE">NorthWest,Center,LockRaster,ByAttribute,Nadir,Viewpoint,Seamline,None</AllowedMosaicMethods><AllowedCompressions Sync="TRUE">None,JPEG,LZ77,LERC</AllowedCompressions><AllowedMensurationCapabilities Sync="TRUE">Basic</AllowedMensurationCapabilities><AvailableMensurationCapabilities Sync="TRUE">None,Basic,Base-Top Height,Top-Top Shadow Height,Base-Top Shadow Height,3D</AvailableMensurationCapabilities><ClipToBoundary Sync="TRUE">-1</ClipToBoundary><FootprintMayContainNoData Sync="TRUE">-1</FootprintMayContainNoData><CellSizeTolerance Sync="TRUE">0.8</CellSizeTolerance><AvailableMosaicMethods Sync="TRUE">NorthWest,Center,LockRaster,ByAttribute,Nadir,Viewpoint,Seamline,None</AvailableMosaicMethods><AvailableCompressionMethods Sync="TRUE">None,JPEG,LZ77,LERC</AvailableCompressionMethods><AvailableItemMetadataLevels Sync="TRUE">None,Basic,Full</AvailableItemMetadataLevels><ConfigKeyword Sync="TRUE"/><BandDefinitionKeyword Sync="TRUE">NaturalColor</BandDefinitionKeyword><AllowedFields Sync="TRUE">Name,MinPS,MaxPS,LowPS,HighPS,Tag,GroupName,ProductName,CenterX,CenterY,ZOrder,Shape_Length,Shape_Area,Thumbnail</AllowedFields><MaxCellSize Sync="TRUE">14416.1146279795</MaxCellSize><LowCellSize Sync="TRUE">1.00111907138746</LowCellSize><HighCellSize Sync="TRUE">288.322292559589</HighCellSize><ApplyColorCorrection Sync="TRUE">0</ApplyColorCorrection><TimeValueFormat Sync="TRUE"/><EndTimeFieldName Sync="TRUE"/><StartTimeFieldName Sync="TRUE"/><MosaicOperator Sync="TRUE">1</MosaicOperator><UseTime Sync="TRUE">0</UseTime><SortAscending Sync="TRUE">-1</SortAscending><ClipToFootprint Sync="TRUE">0</ClipToFootprint><SortField Sync="TRUE">Name</SortField><SortValue Sync="TRUE">0</SortValue></Properties><Functions Sync="TRUE"><Function Description="Performs on-the-fly mosaic on a raster catalog." Name="Mosaic Function"/></Functions></RasterProperties></DataProperties><SyncDate>20150729</SyncDate><SyncTime>00451800</SyncTime><ModDate>20250728</ModDate><ModTime>21403800</ModTime><scaleRange><minScale>150000000</minScale><maxScale>5000</maxScale></scaleRange><ArcGISProfile>ItemDescription</ArcGISProfile></Esri><dataIdInfo><envirDesc Sync="TRUE">Microsoft Windows Server 2008 R2 Version 6.1 (Build 7601) Service Pack 1; Esri ArcGIS 10.1.1.3143</envirDesc><dataLang><languageCode Sync="TRUE" value="eng"/><countryCode Sync="TRUE" value="USA"/></dataLang><idCitation><resTitle Sync="TRUE">Ky_Mayfield_2009_1FT</resTitle><presForm><PresFormCd Sync="TRUE" value="005"/></presForm></idCitation><spatRpType><SpatRepTypCd Sync="TRUE" value="002"/></spatRpType><dataExt><geoEle xmlns=""><GeoBndBox esriExtentType="search"><exTypeCode Sync="TRUE">1</exTypeCode><westBL Sync="TRUE">-88.756243</westBL><eastBL Sync="TRUE">-88.525473</eastBL><northBL Sync="TRUE">36.817945</northBL><southBL Sync="TRUE">36.650792</southBL></GeoBndBox></geoEle></dataExt><idAbs>&lt;DIV STYLE="text-align:Left;"&gt;&lt;DIV&gt;&lt;DIV&gt;&lt;P&gt;&lt;SPAN&gt;This dynamic image service provides access to 1' 4-Band orthoimagery for Mayfield, Kentucky. The imagery was acquired through the Kentucky Aerial Photography and Elevation Data (KYAPED) Program. &lt;/SPAN&gt;&lt;/P&gt;&lt;/DIV&gt;&lt;/DIV&gt;&lt;/DIV&gt;</idAbs><searchKeys><keyword>mayfield</keyword><keyword>kentucky</keyword><keyword>kentucky fromabove</keyword><keyword>kyfromabove</keyword></searchKeys><idPurp>This dynamic image service provides access to 1' 4-Band orthoimagery for Mayfield, Kentucky. The imagery was acquired through the Kentucky Aerial Photography and Elevation Data (KYAPED) Program. </idPurp><idCredit>KyFromAbove</idCredit><resConst><Consts><useLimit>&lt;DIV STYLE="text-align:Left;"&gt;&lt;DIV&gt;&lt;DIV&gt;&lt;P&gt;&lt;SPAN&gt;LIMITATION OF LIABILITY: The Kentucky Division of Geographic Information (DGI) has no indication or reason to believe that there are any inaccuracies or defects of information incorporated in this work and make no representations of any kind, including, but not limited to, the warranties of merchantability or fitness for a particular use, nor are any such warranties to be implied, with respect to the information or data, furnished herein.&lt;/SPAN&gt;&lt;/P&gt;&lt;/DIV&gt;&lt;/DIV&gt;&lt;/DIV&gt;</useLimit></Consts></resConst></dataIdInfo><mdLang><languageCode Sync="TRUE" value="eng"/><countryCode Sync="TRUE" value="USA"/></mdLang><refSysInfo><RefSystem><refSysID><identCode Sync="TRUE" code="3089"/><idCodeSpace Sync="TRUE">EPSG</idCodeSpace><idVersion Sync="TRUE">7.11.2</idVersion></refSysID></RefSystem></refSysInfo><spatRepInfo><Georect><cellGeo><CellGeoCd Sync="TRUE" value="002"/></cellGeo><numDims Sync="TRUE">2</numDims><tranParaAv Sync="TRUE">1</tranParaAv><chkPtAv Sync="TRUE">0</chkPtAv><cornerPts><pos Sync="TRUE">4041262.136957 3410577.049309</pos></cornerPts><cornerPts><pos Sync="TRUE">4041262.136957 3469429.836159</pos></cornerPts><cornerPts><pos Sync="TRUE">4107103.736044 3469429.836159</pos></cornerPts><cornerPts><pos Sync="TRUE">4107103.736044 3410577.049309</pos></cornerPts><centerPt><pos Sync="TRUE">4074182.936500 3440003.442734</pos></centerPt><axisDimension type="002"><dimSize Sync="TRUE">65768</dimSize><dimResol><value Sync="TRUE" uom="Foot_US">1.001119</value></dimResol></axisDimension><axisDimension type="001"><dimSize Sync="TRUE">58787</dimSize><dimResol><value Sync="TRUE" uom="Foot_US">1.001119</value></dimResol></axisDimension><ptInPixel><PixOrientCd Sync="TRUE" value="001"/></ptInPixel></Georect></spatRepInfo><contInfo><ImgDesc><contentTyp><ContentTypCd Sync="TRUE" value="001"/></contentTyp><covDim><Band><dimDescrp Sync="TRUE">Red</dimDescrp><maxVal Sync="TRUE">255.000000</maxVal><minVal Sync="TRUE">48.000000</minVal><bitsPerVal Sync="TRUE">8</bitsPerVal><valUnit><UOM type="length"/></valUnit></Band><Band><dimDescrp Sync="TRUE">Green</dimDescrp><maxVal Sync="TRUE">255.000000</maxVal><minVal Sync="TRUE">59.000000</minVal><bitsPerVal Sync="TRUE">8</bitsPerVal><valUnit><UOM type="length"/></valUnit></Band><Band><dimDescrp Sync="TRUE">Blue</dimDescrp><maxVal Sync="TRUE">253.000000</maxVal><minVal Sync="TRUE">63.000000</minVal><bitsPerVal Sync="TRUE">8</bitsPerVal><valUnit><UOM type="length"/></valUnit></Band></covDim></ImgDesc></contInfo><mdDateSt Sync="TRUE">20250728</mdDateSt><mdHrLv><ScopeCd value="005"/></mdHrLv></metadata>
