<?xml version="1.0" encoding="UTF-8" standalone="no"?>
<metadata xml:lang="en">
<Esri>
<CreaDate>20150310</CreaDate>
<CreaTime>10164000</CreaTime>
<ArcGISFormat>1.0</ArcGISFormat>
<ArcGISstyle>FGDC CSDGM Metadata</ArcGISstyle>
<SyncOnce>FALSE</SyncOnce>
<DataProperties>
<lineage>
<Process Date="20150309" Time="130611" ToolSource="c:\program files (x86)\arcgis\desktop10.1\ArcToolbox\Toolboxes\Data Management Tools.tbx\CreateMosaicDataset">CreateMosaicDataset H:\ImageServerData3\GDB\Ky_KYAPED_Imagery.gdb Ky_KYAPED_Western_Kentucky_Imagery "PROJCS['NAD_1983_StatePlane_Kentucky_FIPS_1600_Feet',GEOGCS['GCS_North_American_1983',DATUM['D_North_American_1983',SPHEROID['GRS_1980',6378137.0,298.257222101]],PRIMEM['Greenwich',0.0],UNIT['Degree',0.0174532925199433]],PROJECTION['Lambert_Conformal_Conic'],PARAMETER['False_Easting',4921250.0],PARAMETER['False_Northing',3280833.333333333],PARAMETER['Central_Meridian',-85.75],PARAMETER['Standard_Parallel_1',37.08333333333334],PARAMETER['Standard_Parallel_2',38.66666666666666],PARAMETER['Latitude_Of_Origin',36.33333333333334],UNIT['Foot_US',0.3048006096012192]];-117434800 -91579000 3048.00609601219;-100000 10000;-100000 10000;3.28083333333333E-03;0.001;0.001;IsHighPrecision" # # NONE #</Process>
<Process Date="20150309" Time="141524" ToolSource="c:\program files (x86)\arcgis\desktop10.1\ArcToolbox\Toolboxes\Data Management Tools.tbx\AddRastersToMosaicDataset">AddRastersToMosaicDataset H:\ImageServerData3\GDB\Ky_KYAPED_Imagery.gdb\Ky_KYAPED_Western_Kentucky_Imagery "Raster Dataset" \\kyeggiswis01\imageserverdata2\Imagery\KYAPED_2013\Imagery_1_Foot;\\kyeggiswis01\imageserverdata2\Imagery\KYAPED_2013\Imagery_6_Inch;\\kyeggiswis01\imageserverdata2\Imagery\KYAPED_2014\Imagery_1_Foot\GeoTIFFs;\\kyeggiswis01\imageserverdata2\Imagery\KYAPED_2014\Imagery_6_Inch\Geotiffs UPDATE_CELL_SIZES UPDATE_BOUNDARY UPDATE_OVERVIEWS # 0 1500 # # SUBFOLDERS ALLOW_DUPLICATES BUILD_PYRAMIDS CALCULATE_STATISTICS BUILD_THUMBNAILS # NO_FORCE_SPATIAL_REFERENCE</Process>
<Process Date="20150309" Time="163533" ToolSource="c:\program files (x86)\arcgis\desktop10.1\ArcToolbox\Toolboxes\Data Management Tools.tbx\AddRastersToMosaicDataset">AddRastersToMosaicDataset \\kyeggiswis01\imageserverdata3\GDB\Ky_KYAPED_Imagery.gdb\Ky_KYAPED_Western_Kentucky_Imagery "Raster Dataset" \\kyeggiswis01\imageserverdata2\Imagery\KYAPED_2013\Imagery_6_Inch\N169E057.tif;\\kyeggiswis01\imageserverdata2\Imagery\KYAPED_2013\Imagery_6_Inch\N169E058.tif;\\kyeggiswis01\imageserverdata2\Imagery\KYAPED_2013\Imagery_6_Inch\N169E059.tif;\\kyeggiswis01\imageserverdata2\Imagery\KYAPED_2013\Imagery_6_Inch\N169E069.tif;\\kyeggiswis01\imageserverdata2\Imagery\KYAPED_2013\Imagery_6_Inch\N169E060.tif;\\kyeggiswis01\imageserverdata2\Imagery\KYAPED_2013\Imagery_6_Inch\N169E061.tif;\\kyeggiswis01\imageserverdata2\Imagery\KYAPED_2013\Imagery_6_Inch\N169E062.tif;\\kyeggiswis01\imageserverdata2\Imagery\KYAPED_2013\Imagery_6_Inch\N169E063.tif;\\kyeggiswis01\imageserverdata2\Imagery\KYAPED_2013\Imagery_6_Inch\N169E064.tif;\\kyeggiswis01\imageserverdata2\Imagery\KYAPED_2013\Imagery_6_Inch\N169E065.tif;\\kyeggiswis01\imageserverdata2\Imagery\KYAPED_2013\Imagery_6_Inch\N169E066.tif;\\kyeggiswis01\imageserverdata2\Imagery\KYAPED_2013\Imagery_6_Inch\N169E067.tif;\\kyeggiswis01\imageserverdata2\Imagery\KYAPED_2013\Imagery_6_Inch\N169E068.tif;\\kyeggiswis01\imageserverdata2\Imagery\KYAPED_2013\Imagery_6_Inch\N170E054.tif;\\kyeggiswis01\imageserverdata2\Imagery\KYAPED_2013\Imagery_6_Inch\N170E055.tif;\\kyeggiswis01\imageserverdata2\Imagery\KYAPED_2013\Imagery_6_Inch\N170E062.tif;\\kyeggiswis01\imageserverdata2\Imagery\KYAPED_2013\Imagery_6_Inch\N170E063.tif;\\kyeggiswis01\imageserverdata2\Imagery\KYAPED_2013\Imagery_6_Inch\N170E064.tif;\\kyeggiswis01\imageserverdata2\Imagery\KYAPED_2013\Imagery_6_Inch\N170E067.tif;\\kyeggiswis01\imageserverdata2\Imagery\KYAPED_2013\Imagery_6_Inch\N170E068.tif;\\kyeggiswis01\imageserverdata2\Imagery\KYAPED_2013\Imagery_6_Inch\N171E062.tif;\\kyeggiswis01\imageserverdata2\Imagery\KYAPED_2013\Imagery_6_Inch\N171E064.tif;\\kyeggiswis01\imageserverdata2\Imagery\KYAPED_2013\Imagery_6_Inch\N172E062.tif;\\kyeggiswis01\imageserverdata2\Imagery\KYAPED_2013\Imagery_6_Inch\N172E063.tif;\\kyeggiswis01\imageserverdata2\Imagery\KYAPED_2013\Imagery_6_Inch\N171E063.tif;\\kyeggiswis01\imageserverdata2\Imagery\KYAPED_2013\Imagery_6_Inch\N170E065.tif;\\kyeggiswis01\imageserverdata2\Imagery\KYAPED_2013\Imagery_6_Inch\N170E066.tif;\\kyeggiswis01\imageserverdata2\Imagery\KYAPED_2013\Imagery_6_Inch\N170E069.tif UPDATE_CELL_SIZES UPDATE_BOUNDARY UPDATE_OVERVIEWS # 0 1500 # # SUBFOLDERS ALLOW_DUPLICATES BUILD_PYRAMIDS CALCULATE_STATISTICS BUILD_THUMBNAILS # NO_FORCE_SPATIAL_REFERENCE</Process>
<Process Date="20150310" Time="102247" ToolSource="c:\program files (x86)\arcgis\desktop10.1\ArcToolbox\Toolboxes\Data Management Tools.tbx\AddRastersToMosaicDataset">AddRastersToMosaicDataset \\kyeggiswis01\imageserverdata3\GDB\Ky_KYAPED_Imagery.gdb\Ky_KYAPED_Imagery Table \\kyeggiswis01\imageserverdata2\GDB\Ky_KYAPED_2012_1FT.gdb\Ky_KYAPED_2012_1FT UPDATE_CELL_SIZES UPDATE_BOUNDARY NO_OVERVIEWS # 0 1500 # # SUBFOLDERS ALLOW_DUPLICATES NO_PYRAMIDS NO_STATISTICS NO_THUMBNAILS # NO_FORCE_SPATIAL_REFERENCE</Process>
</lineage>
<itemProps>
<itemName Sync="TRUE">Ky_KYAPED_Imagery</itemName>
<itemLocation>
<linkage Sync="TRUE">file://\\kyeggiswis01\imageserverdata3\GDB\Ky_KYAPED_Imagery.gdb</linkage>
<protocol Sync="TRUE">Local Area Network</protocol>
</itemLocation>
<nativeExtBox>
<westBL Sync="TRUE">3795000.000000</westBL>
<eastBL Sync="TRUE">5435000.000000</eastBL>
<southBL Sync="TRUE">3345000.000000</southBL>
<northBL Sync="TRUE">4307227.500000</northBL>
<exTypeCode Sync="TRUE">1</exTypeCode>
</nativeExtBox>
</itemProps>
<coordRef>
<type Sync="TRUE">Projected</type>
<geogcsn Sync="TRUE">GCS_North_American_1983</geogcsn>
<csUnits Sync="TRUE">Linear Unit: Foot_US (0.304801)</csUnits>
<projcsn Sync="TRUE">NAD_1983_StatePlane_Kentucky_FIPS_1600_Feet</projcsn>
<peXml Sync="TRUE">&lt;ProjectedCoordinateSystem xsi:type='typens:ProjectedCoordinateSystem' xmlns:xsi='http://www.w3.org/2001/XMLSchema-instance' xmlns:xs='http://www.w3.org/2001/XMLSchema' xmlns:typens='http://www.esri.com/schemas/ArcGIS/10.1'&gt;&lt;WKT&gt;PROJCS[&amp;quot;NAD_1983_StatePlane_Kentucky_FIPS_1600_Feet&amp;quot;,GEOGCS[&amp;quot;GCS_North_American_1983&amp;quot;,DATUM[&amp;quot;D_North_American_1983&amp;quot;,SPHEROID[&amp;quot;GRS_1980&amp;quot;,6378137.0,298.257222101]],PRIMEM[&amp;quot;Greenwich&amp;quot;,0.0],UNIT[&amp;quot;Degree&amp;quot;,0.0174532925199433]],PROJECTION[&amp;quot;Lambert_Conformal_Conic&amp;quot;],PARAMETER[&amp;quot;False_Easting&amp;quot;,4921250.0],PARAMETER[&amp;quot;False_Northing&amp;quot;,3280833.333333333],PARAMETER[&amp;quot;Central_Meridian&amp;quot;,-85.75],PARAMETER[&amp;quot;Standard_Parallel_1&amp;quot;,37.08333333333334],PARAMETER[&amp;quot;Standard_Parallel_2&amp;quot;,38.66666666666666],PARAMETER[&amp;quot;Latitude_Of_Origin&amp;quot;,36.33333333333334],UNIT[&amp;quot;Foot_US&amp;quot;,0.3048006096012192],AUTHORITY[&amp;quot;EPSG&amp;quot;,3089]]&lt;/WKT&gt;&lt;XOrigin&gt;-117434800&lt;/XOrigin&gt;&lt;YOrigin&gt;-91579000&lt;/YOrigin&gt;&lt;XYScale&gt;36807330.96050825&lt;/XYScale&gt;&lt;ZOrigin&gt;-100000&lt;/ZOrigin&gt;&lt;ZScale&gt;10000&lt;/ZScale&gt;&lt;MOrigin&gt;-100000&lt;/MOrigin&gt;&lt;MScale&gt;10000&lt;/MScale&gt;&lt;XYTolerance&gt;0.0032808333333333331&lt;/XYTolerance&gt;&lt;ZTolerance&gt;0.001&lt;/ZTolerance&gt;&lt;MTolerance&gt;0.001&lt;/MTolerance&gt;&lt;HighPrecision&gt;true&lt;/HighPrecision&gt;&lt;WKID&gt;102763&lt;/WKID&gt;&lt;LatestWKID&gt;3089&lt;/LatestWKID&gt;&lt;/ProjectedCoordinateSystem&gt;</peXml>
</coordRef>
<RasterProperties>
<General>
<PixelDepth Sync="TRUE">8</PixelDepth>
<HasColormap Sync="TRUE">FALSE</HasColormap>
<CompressionType Sync="TRUE">None</CompressionType>
<NumBands Sync="TRUE">4</NumBands>
<Format Sync="TRUE">AMD</Format>
<HasPyramids Sync="TRUE">TRUE</HasPyramids>
<SourceType Sync="TRUE">continuous</SourceType>
<PixelType Sync="TRUE">unsigned integer</PixelType>
<NoDataValue Sync="TRUE"/>
</General>
<Properties>
<MaxImageHeight Sync="TRUE">20000</MaxImageHeight>
<MaxImageWidth Sync="TRUE">20000</MaxImageWidth>
<MaxRecordCount Sync="TRUE">1000</MaxRecordCount>
<MaxDownloadImageCount Sync="TRUE">100</MaxDownloadImageCount>
<MaxDownloadSizeLimit Sync="TRUE">2048</MaxDownloadSizeLimit>
<MaxMosaicImageCount Sync="TRUE">100</MaxMosaicImageCount>
<DefaultCompressionQuality Sync="TRUE">75</DefaultCompressionQuality>
<DefaultCompressionTolerance Sync="TRUE">0.01</DefaultCompressionTolerance>
<BlendWidth Sync="TRUE">10</BlendWidth>
<ViewpointSpacingX Sync="TRUE">600</ViewpointSpacingX>
<ViewpointSpacingY Sync="TRUE">300</ViewpointSpacingY>
<AllowedItemMetadata Sync="TRUE">Basic</AllowedItemMetadata>
<DefaultResamplingMethod Sync="TRUE">1</DefaultResamplingMethod>
<AllowedMosaicMethods Sync="TRUE">NorthWest,Center,LockRaster,ByAttribute,Nadir,Viewpoint,Seamline,None</AllowedMosaicMethods>
<AllowedCompressions Sync="TRUE">None,JPEG,LZ77,LERC</AllowedCompressions>
<AllowedMensurationCapabilities Sync="TRUE">None</AllowedMensurationCapabilities>
<AvailableMensurationCapabilities Sync="TRUE">None,Basic,Base-Top Height,Top-Top Shadow Height,Base-Top Shadow Height,3D</AvailableMensurationCapabilities>
<ClipToBoundary Sync="TRUE">-1</ClipToBoundary>
<FootprintMayContainNoData Sync="TRUE">-1</FootprintMayContainNoData>
<CellSizeTolerance Sync="TRUE">0.8</CellSizeTolerance>
<MinimumPixelContribution Sync="TRUE">1</MinimumPixelContribution>
<AvailableMosaicMethods Sync="TRUE">NorthWest,Center,LockRaster,ByAttribute,Nadir,Viewpoint,Seamline,None</AvailableMosaicMethods>
<AvailableCompressionMethods Sync="TRUE">None,JPEG,LZ77,LERC</AvailableCompressionMethods>
<AvailableItemMetadataLevels Sync="TRUE">None,Basic,Full</AvailableItemMetadataLevels>
<ConfigKeyword Sync="TRUE"/>
<BandDefinitionKeyword Sync="TRUE">NONE</BandDefinitionKeyword>
<AllowedFields Sync="TRUE">Name,MinPS,MaxPS,LowPS,HighPS,Tag,GroupName,ProductName,CenterX,CenterY,ZOrder,Shape_Length,Shape_Area,Thumbnail</AllowedFields>
<MaxCellSize Sync="TRUE">72900</MaxCellSize>
<LowCellSize Sync="TRUE">0.5</LowCellSize>
<HighCellSize Sync="TRUE">4374</HighCellSize>
<ApplyColorCorrection Sync="TRUE">0</ApplyColorCorrection>
<TimeValueFormat Sync="TRUE"/>
<EndTimeFieldName Sync="TRUE"/>
<StartTimeFieldName Sync="TRUE"/>
<MosaicOperator Sync="TRUE">1</MosaicOperator>
<UseTime Sync="TRUE">0</UseTime>
<SortAscending Sync="TRUE">-1</SortAscending>
<ClipToFootprint Sync="TRUE">-1</ClipToFootprint>
<SortField Sync="TRUE">Name</SortField>
<SortValue Sync="TRUE">0</SortValue>
</Properties>
<Functions Sync="TRUE">
<Function Description="Performs on-the-fly mosaic on a raster catalog." Name="Mosaic Function"/>
</Functions>
</RasterProperties>
</DataProperties>
<SyncDate>20150729</SyncDate>
<SyncTime>08294100</SyncTime>
<ModDate>20150729</ModDate>
<ModTime>08294100</ModTime>
</Esri>
<dataIdInfo>
<envirDesc Sync="TRUE">Microsoft Windows Server 2008 R2 Version 6.1 (Build 7601) Service Pack 1; Esri ArcGIS 10.1.1.3143</envirDesc>
<dataLang>
<languageCode Sync="TRUE" value="eng"/>
<countryCode Sync="TRUE" value="USA"/>
</dataLang>
<idCitation>
<resTitle Sync="TRUE">Ky_KYAPED_Imagery</resTitle>
<presForm>
<PresFormCd Sync="TRUE" value="005"/>
</presForm>
</idCitation>
<spatRpType>
<SpatRepTypCd Sync="TRUE" value="002"/>
</spatRpType>
<dataExt>
<geoEle>
<GeoBndBox esriExtentType="search">
<exTypeCode Sync="TRUE">1</exTypeCode>
<westBL Sync="TRUE">-89.718290</westBL>
<eastBL Sync="TRUE">-83.938961</eastBL>
<northBL Sync="TRUE">39.151951</northBL>
<southBL Sync="TRUE">36.446081</southBL>
</GeoBndBox>
</geoEle>
</dataExt>
<idAbs>Imagery acquired by the KYAPED program during the 2012-2014 timeframe. This collection includes both 1-foot and 6-inch imagery captured during leaf-off conditions. </idAbs>
<searchKeys>
<keyword>2012</keyword>
<keyword>2013</keyword>
<keyword>2014</keyword>
<keyword>imagery</keyword>
<keyword>ortho</keyword>
<keyword>kyaped</keyword>
<keyword>aerial</keyword>
<keyword>kyfromabove</keyword>
<keyword>1-foot</keyword>
<keyword>6-inch</keyword>
<keyword>leaf-off</keyword>
</searchKeys>
<idPurp>Imagery acquired by the KYAPED program during the 2012-2014 timeframe. This collection includes both 1-foot and 6-inch imagery captured during leaf-off conditions. </idPurp>
<idCredit>KyFromAbove</idCredit>
<resConst>
<Consts>
<useLimit>None</useLimit>
</Consts>
</resConst>
</dataIdInfo>
<mdLang>
<languageCode Sync="TRUE" value="eng"/>
<countryCode Sync="TRUE" value="USA"/>
</mdLang>
<refSysInfo>
<RefSystem>
<refSysID>
<identCode Sync="TRUE" code="3089"/>
<idCodeSpace Sync="TRUE">EPSG</idCodeSpace>
<idVersion Sync="TRUE">7.11.2</idVersion>
</refSysID>
</RefSystem>
</refSysInfo>
<spatRepInfo>
<Georect>
<cellGeo>
<CellGeoCd Sync="TRUE" value="002"/>
</cellGeo>
<numDims Sync="TRUE">2</numDims>
<tranParaAv Sync="TRUE">1</tranParaAv>
<chkPtAv Sync="TRUE">0</chkPtAv>
<cornerPts>
<pos Sync="TRUE">3795000.000000 3345000.000000</pos>
</cornerPts>
<cornerPts>
<pos Sync="TRUE">3795000.000000 4307227.500000</pos>
</cornerPts>
<cornerPts>
<pos Sync="TRUE">5435000.000000 4307227.500000</pos>
</cornerPts>
<cornerPts>
<pos Sync="TRUE">5435000.000000 3345000.000000</pos>
</cornerPts>
<centerPt>
<pos Sync="TRUE">4615000.000000 3826113.750000</pos>
</centerPt>
<axisDimension type="002">
<dimSize Sync="TRUE">3280000</dimSize>
<dimResol>
<value Sync="TRUE" uom="Foot_US">0.500000</value>
</dimResol>
</axisDimension>
<axisDimension type="001">
<dimSize Sync="TRUE">1924455</dimSize>
<dimResol>
<value Sync="TRUE" uom="Foot_US">0.500000</value>
</dimResol>
</axisDimension>
<ptInPixel>
<PixOrientCd Sync="TRUE" value="001"/>
</ptInPixel>
</Georect>
</spatRepInfo>
<contInfo>
<ImgDesc>
<contentTyp>
<ContentTypCd Sync="TRUE" value="001"/>
</contentTyp>
<covDim>
<Band>
<dimDescrp Sync="TRUE">Band_1</dimDescrp>
<bitsPerVal Sync="TRUE">8</bitsPerVal>
<valUnit>
<UOM type="length"/>
</valUnit>
</Band>
<Band>
<dimDescrp Sync="TRUE">Band_2</dimDescrp>
<bitsPerVal Sync="TRUE">8</bitsPerVal>
<valUnit>
<UOM type="length"/>
</valUnit>
</Band>
<Band>
<dimDescrp Sync="TRUE">Band_3</dimDescrp>
<bitsPerVal Sync="TRUE">8</bitsPerVal>
<valUnit>
<UOM type="length"/>
</valUnit>
</Band>
<Band>
<dimDescrp Sync="TRUE">Band_4</dimDescrp>
<bitsPerVal Sync="TRUE">8</bitsPerVal>
<valUnit>
<UOM type="length"/>
</valUnit>
</Band>
</covDim>
</ImgDesc>
</contInfo>
<mdDateSt Sync="TRUE">20150729</mdDateSt>
</metadata>
