<?xml version="1.0" encoding="UTF-8" standalone="no"?>
<metadata xml:lang="en">
<Esri>
<CreaDate>20150310</CreaDate>
<CreaTime>09024200</CreaTime>
<ArcGISFormat>1.0</ArcGISFormat>
<ArcGISstyle>FGDC CSDGM Metadata</ArcGISstyle>
<SyncOnce>FALSE</SyncOnce>
<DataProperties>
<lineage>
<Process Date="20150310" Time="090242" ToolSource="c:\program files (x86)\arcgis\desktop10.1\ArcToolbox\Toolboxes\Data Management Tools.tbx\CreateReferencedMosaicDataset">CreateReferencedMosaicDataset \\kyeggiswis01\imageserverdata2\GDB\Ky_KYAPED_2014_1FT.gdb\Ky_KYAPED_2014_1FT \\kyeggiswis01\imageserverdata2\GDB\Ky_KYAPED_2014_1FT.gdb\Ky_KYAPED_2014_1FT_IR "PROJCS['NAD_1983_StatePlane_Kentucky_FIPS_1600_Feet',GEOGCS['GCS_North_American_1983',DATUM['D_North_American_1983',SPHEROID['GRS_1980',6378137.0,298.257222101]],PRIMEM['Greenwich',0.0],UNIT['Degree',0.0174532925199433]],PROJECTION['Lambert_Conformal_Conic'],PARAMETER['False_Easting',4921250.0],PARAMETER['False_Northing',3280833.333333333],PARAMETER['Central_Meridian',-85.75],PARAMETER['Standard_Parallel_1',37.08333333333334],PARAMETER['Standard_Parallel_2',38.66666666666666],PARAMETER['Latitude_Of_Origin',36.33333333333334],UNIT['Foot_US',0.3048006096012192]];-117434800 -91579000 3048.00609601219;-100000 10000;-100000 10000;3.28083333333333E-03;0.001;0.001;IsHighPrecision" # # # # # SELECT_USING_FEATURES # # # # BUILD_BOUNDARY</Process>
<Process Date="20190626" Time="083428" ToolSource="c:\program files (x86)\arcgis\desktop10.6\ArcToolbox\Toolboxes\Data Management Tools.tbx\RepairMosaicDatasetPaths">RepairMosaicDatasetPaths \\kyimagestorage.ky.gov\ImageServerData2\GDB\Ky_KYAPED_2014_1FT.gdb\Ky_KYAPED_2014_1FT_IR "# \\kyeggiswis01\imageserverdata2\GDB\Ky_KYAPED_2014_1FT.gdb\Ky_KYAPED_2014_1FT \\kyimagestorage.ky.gov\ImageServerData2\GDB\Ky_KYAPED_2014_1FT.gdb\Ky_KYAPED_2014_1FT" #</Process>
<Process Date="20241117" Time="120958" ToolSource="c:\program files (x86)\arcgis\desktop10.6\ArcToolbox\Toolboxes\Data Management Tools.tbx\RepairMosaicDatasetPaths">RepairMosaicDatasetPaths \\kyimagestorage.ky.gov\imageserverdata14\GDB\Ky_KYAPED_2014_1FT.gdb\Ky_KYAPED_2014_1FT_IR "# \\kyimagestorage.ky.gov\ImageServerData2\GDB\Ky_KYAPED_2014_1FT.gdb\Ky_KYAPED_2014_1FT \\kyimagestorage.ky.gov\ImageServerData14\GDB\Ky_KYAPED_2014_1FT.gdb\Ky_KYAPED_2014_1FT" #</Process>
</lineage>
<itemProps>
<itemName Sync="TRUE">Ky_KYAPED_2014_1FT_IR</itemName>
<itemLocation>
<linkage Sync="TRUE">file://\\kyeggiswis01\imageserverdata2\GDB\Ky_KYAPED_2014_1FT.gdb</linkage>
<protocol Sync="TRUE">Local Area Network</protocol>
</itemLocation>
<nativeExtBox>
<westBL Sync="TRUE">4200000.000000</westBL>
<eastBL Sync="TRUE">4475000.000000</eastBL>
<southBL Sync="TRUE">3395000.000000</southBL>
<northBL Sync="TRUE">3765000.000000</northBL>
<exTypeCode Sync="TRUE">1</exTypeCode>
</nativeExtBox>
</itemProps>
<coordRef>
<type Sync="TRUE">Projected</type>
<geogcsn Sync="TRUE">GCS_North_American_1983</geogcsn>
<csUnits Sync="TRUE">Linear Unit: Foot_US (0.304801)</csUnits>
<projcsn Sync="TRUE">NAD_1983_StatePlane_Kentucky_FIPS_1600_Feet</projcsn>
<peXml Sync="TRUE">&lt;ProjectedCoordinateSystem xsi:type='typens:ProjectedCoordinateSystem' xmlns:xsi='http://www.w3.org/2001/XMLSchema-instance' xmlns:xs='http://www.w3.org/2001/XMLSchema' xmlns:typens='http://www.esri.com/schemas/ArcGIS/10.1'&gt;&lt;WKT&gt;PROJCS[&amp;quot;NAD_1983_StatePlane_Kentucky_FIPS_1600_Feet&amp;quot;,GEOGCS[&amp;quot;GCS_North_American_1983&amp;quot;,DATUM[&amp;quot;D_North_American_1983&amp;quot;,SPHEROID[&amp;quot;GRS_1980&amp;quot;,6378137.0,298.257222101]],PRIMEM[&amp;quot;Greenwich&amp;quot;,0.0],UNIT[&amp;quot;Degree&amp;quot;,0.0174532925199433]],PROJECTION[&amp;quot;Lambert_Conformal_Conic&amp;quot;],PARAMETER[&amp;quot;False_Easting&amp;quot;,4921250.0],PARAMETER[&amp;quot;False_Northing&amp;quot;,3280833.333333333],PARAMETER[&amp;quot;Central_Meridian&amp;quot;,-85.75],PARAMETER[&amp;quot;Standard_Parallel_1&amp;quot;,37.08333333333334],PARAMETER[&amp;quot;Standard_Parallel_2&amp;quot;,38.66666666666666],PARAMETER[&amp;quot;Latitude_Of_Origin&amp;quot;,36.33333333333334],UNIT[&amp;quot;Foot_US&amp;quot;,0.3048006096012192],AUTHORITY[&amp;quot;EPSG&amp;quot;,3089]]&lt;/WKT&gt;&lt;XOrigin&gt;-117434800&lt;/XOrigin&gt;&lt;YOrigin&gt;-91579000&lt;/YOrigin&gt;&lt;XYScale&gt;36807330.96050825&lt;/XYScale&gt;&lt;ZOrigin&gt;-100000&lt;/ZOrigin&gt;&lt;ZScale&gt;10000&lt;/ZScale&gt;&lt;MOrigin&gt;-100000&lt;/MOrigin&gt;&lt;MScale&gt;10000&lt;/MScale&gt;&lt;XYTolerance&gt;0.0032808333333333331&lt;/XYTolerance&gt;&lt;ZTolerance&gt;0.001&lt;/ZTolerance&gt;&lt;MTolerance&gt;0.001&lt;/MTolerance&gt;&lt;HighPrecision&gt;true&lt;/HighPrecision&gt;&lt;WKID&gt;102763&lt;/WKID&gt;&lt;LatestWKID&gt;3089&lt;/LatestWKID&gt;&lt;/ProjectedCoordinateSystem&gt;</peXml>
</coordRef>
<RasterProperties>
<General>
<PixelDepth Sync="TRUE">8</PixelDepth>
<HasColormap Sync="TRUE">FALSE</HasColormap>
<CompressionType Sync="TRUE">None</CompressionType>
<NumBands Sync="TRUE">3</NumBands>
<Format Sync="TRUE">AMD</Format>
<HasPyramids Sync="TRUE">TRUE</HasPyramids>
<SourceType Sync="TRUE">continuous</SourceType>
<PixelType Sync="TRUE">unsigned integer</PixelType>
<NoDataValue Sync="TRUE"/>
</General>
<Properties>
<MaxImageHeight Sync="TRUE">20000</MaxImageHeight>
<MaxImageWidth Sync="TRUE">20000</MaxImageWidth>
<MaxRecordCount Sync="TRUE">1000</MaxRecordCount>
<MaxDownloadImageCount Sync="TRUE">100</MaxDownloadImageCount>
<MaxDownloadSizeLimit Sync="TRUE">2048</MaxDownloadSizeLimit>
<MaxMosaicImageCount Sync="TRUE">100</MaxMosaicImageCount>
<DefaultCompressionQuality Sync="TRUE">75</DefaultCompressionQuality>
<DefaultCompressionTolerance Sync="TRUE">0.01</DefaultCompressionTolerance>
<BlendWidth Sync="TRUE">10</BlendWidth>
<ViewpointSpacingX Sync="TRUE">600</ViewpointSpacingX>
<ViewpointSpacingY Sync="TRUE">300</ViewpointSpacingY>
<AllowedItemMetadata Sync="TRUE">Basic</AllowedItemMetadata>
<DefaultResamplingMethod Sync="TRUE">1</DefaultResamplingMethod>
<AllowedMosaicMethods Sync="TRUE">NorthWest,Center,LockRaster,ByAttribute,Nadir,Viewpoint,Seamline,None</AllowedMosaicMethods>
<AllowedCompressions Sync="TRUE">None,JPEG,LZ77,LERC</AllowedCompressions>
<AllowedMensurationCapabilities Sync="TRUE">None,Basic</AllowedMensurationCapabilities>
<AvailableMensurationCapabilities Sync="TRUE">None,Basic,Base-Top Height,Top-Top Shadow Height,Base-Top Shadow Height,3D</AvailableMensurationCapabilities>
<ClipToBoundary Sync="TRUE">-1</ClipToBoundary>
<FootprintMayContainNoData Sync="TRUE">-1</FootprintMayContainNoData>
<CellSizeTolerance Sync="TRUE">0.8</CellSizeTolerance>
<MinimumPixelContribution Sync="TRUE">1</MinimumPixelContribution>
<AvailableMosaicMethods Sync="TRUE">NorthWest,Center,LockRaster,ByAttribute,Nadir,Viewpoint,Seamline,None</AvailableMosaicMethods>
<AvailableCompressionMethods Sync="TRUE">None,JPEG,LZ77,LERC</AvailableCompressionMethods>
<AvailableItemMetadataLevels Sync="TRUE">None,Basic,Full</AvailableItemMetadataLevels>
<ConfigKeyword Sync="TRUE"/>
<BandDefinitionKeyword Sync="TRUE">NONE</BandDefinitionKeyword>
<AllowedFields Sync="TRUE">Name,MinPS,MaxPS,LowPS,HighPS,Tag,GroupName,ProductName,CenterX,CenterY,ZOrder,Shape_Length,Shape_Area,Thumbnail</AllowedFields>
<ApplyColorCorrection Sync="TRUE">0</ApplyColorCorrection>
<TimeValueFormat Sync="TRUE"/>
<EndTimeFieldName Sync="TRUE"/>
<StartTimeFieldName Sync="TRUE"/>
<MosaicOperator Sync="TRUE">1</MosaicOperator>
<UseTime Sync="TRUE">0</UseTime>
<SortAscending Sync="TRUE">-1</SortAscending>
<ClipToFootprint Sync="TRUE">0</ClipToFootprint>
<SortField Sync="TRUE">Name</SortField>
<SortValue Sync="TRUE">0</SortValue>
<MaxCellSize Sync="TRUE">72900</MaxCellSize>
<LowCellSize Sync="TRUE">1</LowCellSize>
<HighCellSize Sync="TRUE">1458</HighCellSize>
</Properties>
<Functions Sync="TRUE">
<Function Description="Reorders or extracts bands from a raster." Name="Extract Band Function">
<Arguments>
<Raster>MosaicFunction.OutputRaster</Raster>
<BandIDs>3 0 1</BandIDs>
</Arguments>
</Function>
<Function Description="Performs on-the-fly mosaic on a raster catalog." Name="Mosaic Function"/>
</Functions>
</RasterProperties>
</DataProperties>
<SyncDate>20150729</SyncDate>
<SyncTime>04151800</SyncTime>
<ModDate>20150729</ModDate>
<ModTime>04151800</ModTime>
</Esri>
<dataIdInfo>
<envirDesc Sync="TRUE">Microsoft Windows Server 2008 R2 Version 6.1 (Build 7601) Service Pack 1; Esri ArcGIS 10.1.1.3143</envirDesc>
<dataLang>
<languageCode Sync="TRUE" value="eng"/>
<countryCode Sync="TRUE" value="USA"/>
</dataLang>
<idCitation>
<resTitle Sync="TRUE">Ky_KYAPED_2014_1FT_IR</resTitle>
<presForm>
<PresFormCd Sync="TRUE" value="005"/>
</presForm>
</idCitation>
<spatRpType>
<SpatRepTypCd Sync="TRUE" value="002"/>
</spatRpType>
<dataExt>
<geoEle>
<GeoBndBox esriExtentType="search">
<exTypeCode Sync="TRUE">1</exTypeCode>
<westBL Sync="TRUE">-88.241189</westBL>
<eastBL Sync="TRUE">-87.270741</eastBL>
<northBL Sync="TRUE">37.652919</northBL>
<southBL Sync="TRUE">36.620776</southBL>
</GeoBndBox>
</geoEle>
</dataExt>
<idAbs>This dynamic image service provides access to 1-Foot, 4-Band orthoimagery for the KYAPED 2013 footprint. The imagery was acquired through the Kentucky Aerial Photography and Elevation Data (KYAPED) Program in Spring of 2013. Today’s aerial, digital mapping cameras routinely capture electromagnetic radiation in four bands of the spectrum: blue, green, red and near infrared. When displaying the image as “true” or “natural” color, the software matches the red, green and blue bands to these channels in the computer display. The same image can be displayed as “false color infrared” by changing the band combination so that the near infrared, red and green bands are output to the red, green and blue channels. Thus, in a false color infrared image, one can distinguish vegetated surfaces with ease – as they show in varying hues and intensities of red. By contrast, impervious surfaces and bare soil tend to show in different shades of blue or gray, while deep, sediment and vegetation-free water shows dark.</idAbs>
<searchKeys>
<keyword>imagery</keyword>
<keyword>kyaped</keyword>
<keyword>kyfromabove</keyword>
<keyword>2014</keyword>
<keyword>false color infrared</keyword>
<keyword>4-band</keyword>
<keyword>1-foot</keyword>
<keyword>leaf-off</keyword>
</searchKeys>
<idPurp>This dynamic image service provides access to 1-Foot, 4-Band orthoimagery for the KYAPED 2014 footprint. The imagery was acquired n Spring of 2014. Rendered as false color infrared.</idPurp>
<idCredit/>
<resConst>
<Consts>
<useLimit/>
</Consts>
</resConst>
</dataIdInfo>
<mdLang>
<languageCode Sync="TRUE" value="eng"/>
<countryCode Sync="TRUE" value="USA"/>
</mdLang>
<refSysInfo>
<RefSystem>
<refSysID>
<identCode Sync="TRUE" code="3089"/>
<idCodeSpace Sync="TRUE">EPSG</idCodeSpace>
<idVersion Sync="TRUE">7.11.2</idVersion>
</refSysID>
</RefSystem>
</refSysInfo>
<spatRepInfo>
<Georect>
<cellGeo>
<CellGeoCd Sync="TRUE" value="002"/>
</cellGeo>
<numDims Sync="TRUE">2</numDims>
<tranParaAv Sync="TRUE">1</tranParaAv>
<chkPtAv Sync="TRUE">0</chkPtAv>
<cornerPts>
<pos Sync="TRUE">4200000.000000 3395000.000000</pos>
</cornerPts>
<cornerPts>
<pos Sync="TRUE">4200000.000000 3765000.000000</pos>
</cornerPts>
<cornerPts>
<pos Sync="TRUE">4475000.000000 3765000.000000</pos>
</cornerPts>
<cornerPts>
<pos Sync="TRUE">4475000.000000 3395000.000000</pos>
</cornerPts>
<centerPt>
<pos Sync="TRUE">4337500.000000 3580000.000000</pos>
</centerPt>
<axisDimension type="002">
<dimSize Sync="TRUE">275000</dimSize>
<dimResol>
<value Sync="TRUE" uom="Foot_US">1.000000</value>
</dimResol>
</axisDimension>
<axisDimension type="001">
<dimSize Sync="TRUE">370000</dimSize>
<dimResol>
<value Sync="TRUE" uom="Foot_US">1.000000</value>
</dimResol>
</axisDimension>
<ptInPixel>
<PixOrientCd Sync="TRUE" value="001"/>
</ptInPixel>
</Georect>
</spatRepInfo>
<contInfo>
<ImgDesc>
<contentTyp>
<ContentTypCd Sync="TRUE" value="001"/>
</contentTyp>
<covDim>
<Band>
<dimDescrp Sync="TRUE">Band_1</dimDescrp>
<bitsPerVal Sync="TRUE">8</bitsPerVal>
<valUnit>
<UOM type="length"/>
</valUnit>
</Band>
<Band>
<dimDescrp Sync="TRUE">Band_2</dimDescrp>
<bitsPerVal Sync="TRUE">8</bitsPerVal>
<valUnit>
<UOM type="length"/>
</valUnit>
</Band>
<Band>
<dimDescrp Sync="TRUE">Band_3</dimDescrp>
<bitsPerVal Sync="TRUE">8</bitsPerVal>
<valUnit>
<UOM type="length"/>
</valUnit>
</Band>
</covDim>
</ImgDesc>
</contInfo>
<mdDateSt Sync="TRUE">20150729</mdDateSt>
</metadata>
