<?xml version="1.0" encoding="UTF-8" standalone="no"?>
<metadata xml:lang="en">
<Esri>
<CreaDate>20100112</CreaDate>
<CreaTime>12111800</CreaTime>
<SyncDate>20150730</SyncDate>
<SyncTime>07280100</SyncTime>
<ModDate>20150730</ModDate>
<ModTime>07280100</ModTime>
<SyncOnce>FALSE</SyncOnce>
<PublishStatus>Published</PublishStatus>
<MetaID>{FBDB4F69-F0A1-48C1-BBCD-65FF5055ED1C}</MetaID>
<DataProperties>
<itemProps>
<itemName Sync="TRUE">KRG_MUTED</itemName>
<imsContentType Sync="TRUE">002</imsContentType>
<nativeExtBox>
<westBL Sync="TRUE">3780453.335224</westBL>
<eastBL Sync="TRUE">6045060.002945</eastBL>
<southBL Sync="TRUE">3304013.335021</southBL>
<northBL Sync="TRUE">4344886.668839</northBL>
<exTypeCode Sync="TRUE">1</exTypeCode>
</nativeExtBox>
<itemLocation>
<protocol Sync="TRUE">Local Area Network</protocol>
<linkage Sync="TRUE">file://\\kyeggiswis01\imageserverdata2\GDB\Ky_KRG_Muted.gdb</linkage>
</itemLocation>
</itemProps>
<coordRef>
<type Sync="TRUE">Projected</type>
<geogcsn Sync="TRUE">GCS_North_American_1983</geogcsn>
<csUnits Sync="TRUE">Linear Unit: Foot_US (0.304801)</csUnits>
<projcsn Sync="TRUE">NAD_1983_StatePlane_Kentucky_FIPS_1600_Feet</projcsn>
<peXml Sync="TRUE">&lt;ProjectedCoordinateSystem xsi:type='typens:ProjectedCoordinateSystem' xmlns:xsi='http://www.w3.org/2001/XMLSchema-instance' xmlns:xs='http://www.w3.org/2001/XMLSchema' xmlns:typens='http://www.esri.com/schemas/ArcGIS/10.1'&gt;&lt;WKT&gt;PROJCS[&amp;quot;NAD_1983_StatePlane_Kentucky_FIPS_1600_Feet&amp;quot;,GEOGCS[&amp;quot;GCS_North_American_1983&amp;quot;,DATUM[&amp;quot;D_North_American_1983&amp;quot;,SPHEROID[&amp;quot;GRS_1980&amp;quot;,6378137.0,298.257222101]],PRIMEM[&amp;quot;Greenwich&amp;quot;,0.0],UNIT[&amp;quot;Degree&amp;quot;,0.0174532925199433]],PROJECTION[&amp;quot;Lambert_Conformal_Conic&amp;quot;],PARAMETER[&amp;quot;False_Easting&amp;quot;,4921250.0],PARAMETER[&amp;quot;False_Northing&amp;quot;,3280833.333333333],PARAMETER[&amp;quot;Central_Meridian&amp;quot;,-85.75],PARAMETER[&amp;quot;Standard_Parallel_1&amp;quot;,37.08333333333334],PARAMETER[&amp;quot;Standard_Parallel_2&amp;quot;,38.66666666666666],PARAMETER[&amp;quot;Latitude_Of_Origin&amp;quot;,36.33333333333334],UNIT[&amp;quot;Foot_US&amp;quot;,0.3048006096012192],AUTHORITY[&amp;quot;EPSG&amp;quot;,3089]]&lt;/WKT&gt;&lt;XOrigin&gt;-117434800&lt;/XOrigin&gt;&lt;YOrigin&gt;-91579000&lt;/YOrigin&gt;&lt;XYScale&gt;36807330.96050825&lt;/XYScale&gt;&lt;XYTolerance&gt;0.0032808333333333331&lt;/XYTolerance&gt;&lt;HighPrecision&gt;true&lt;/HighPrecision&gt;&lt;WKID&gt;102763&lt;/WKID&gt;&lt;LatestWKID&gt;3089&lt;/LatestWKID&gt;&lt;/ProjectedCoordinateSystem&gt;</peXml>
</coordRef>
</DataProperties>
<Service Sync="TRUE">ImageServices/Ky_KRG_MUTED</Service>
<ServiceType Sync="TRUE">image</ServiceType>
</Esri>
<idinfo>
<native Sync="TRUE">Microsoft Windows 2000 Version 5.2 (Build 3790) Service Pack 2; ESRI ArcCatalog 9.3.1.3000</native>
<descript>
<langdata Sync="TRUE">en</langdata>
<abstract>7.5 minute topographic quadrangle maps with a custom muted colormap.</abstract>
<purpose>To provide a newly scanned and colormapped set of topographic images for the Commonwealth in the newly adopted Kentucky Single Zone projection.</purpose>
<supplinf>Only available in Kentucky Single-Zone. Please note that there is some ambiguity in the bounding box attibutes for the Quad Index, see http://kymartian.ky.gov/krgmaps/KRG_Metadata.pdf for more detail. The Quad Index represents where the original NAD27 index lines fall after conversion to NAD83.</supplinf>
</descript>
<citation>
<citeinfo>
<origin>DGI, USGS</origin>
<pubdate>2002</pubdate>
<title>Kentucky Raster Graphics (KRGs - Custom Color Map - RGB)</title>
<ftname Sync="TRUE">KYRASTER.SDE.KRG_MUTED_RGB</ftname>
<geoform>raster digital data</geoform>
<pubtime>Unknown</pubtime>
<pubinfo>
<pubplace>Frankfort, KY</pubplace>
<publish>Environmental &amp; Public Protection Cabinet</publish>
</pubinfo>
</citeinfo>
</citation>
<timeperd>
<current>ground condition</current>
<timeinfo>
<rngdates>
<begdate>unknown</begdate>
<enddate>unknown</enddate>
</rngdates>
</timeinfo>
</timeperd>
<status>
<progress>Complete</progress>
<update>None planned</update>
</status>
<spdom>
<bounding>
<westbc Sync="TRUE">-89.775201</westbc>
<eastbc Sync="TRUE">-81.784662</eastbc>
<northbc Sync="TRUE">39.255325</northbc>
<southbc Sync="TRUE">36.331974</southbc>
</bounding>
<lboundng>
<leftbc Sync="TRUE">3780453.335224</leftbc>
<rightbc Sync="TRUE">6045060.002945</rightbc>
<bottombc Sync="TRUE">3304013.335021</bottombc>
<topbc Sync="TRUE">4344886.668839</topbc>
</lboundng>
</spdom>
<keywords>
<theme>
<themekt Sync="TRUE">Reference to a formally registered thesaurus or a similar authoritative source of theme keywords. REQUIRED.</themekt>
<themekey>imageryBaseMapsEarthCover</themekey>
<themekey>kymartian</themekey>
<themekey>raster</themekey>
<themekey>images</themekey>
<themekey>image</themekey>
<themekey>KRG</themekey>
<themekey>Kentucky Raster Graphics</themekey>
</theme>
</keywords>
<accconst>None</accconst>
<useconst>None</useconst>
<natvform Sync="TRUE">SDE Raster Dataset</natvform>
<ptcontac>
<cntinfo>
<cntpos>GIS Manager</cntpos>
<cntemail>Kent.Anness@mail.state.ky.us</cntemail>
<hours>M-F 8:00AM - 4:30PM</hours>
<cntinst>Call or E-mail</cntinst>
<cntaddr>
<addrtype>mailing and physical address</addrtype>
<city>Frankfort</city>
<state>Kentucky</state>
<postal>40601</postal>
<country>USA</country>
<address>403 Wapping Street, Suite 340</address>
</cntaddr>
<cntorgp>
<cntorg>Water Resource Information System</cntorg>
<cntper>Kent Anness</cntper>
</cntorgp>
<cntvoice>502-564-1450 x292</cntvoice>
<cntfax>502-564-1475</cntfax>
</cntinfo>
</ptcontac>
<datacred>Environmental and Public Protection Cabinet</datacred>
<crossref>
<citeinfo>
<origin>Kentucky Natural Resources &amp; Environmental Protection Cabinet, Kentucky Geological Survey</origin>
<pubdate>2002</pubdate>
<pubtime>Unknown</pubtime>
<title>Kentucky Raster Graphics (KRGs)</title>
<onlink>http://kymartian.state.ky.us/krgmaps/</onlink>
<pubinfo>
<pubplace>Frankfort, KY</pubplace>
<publish>Kentucky Natural Resources &amp; Environmental Protection Cabinet, Kentucky Geological Survey</publish>
</pubinfo>
</citeinfo>
</crossref>
</idinfo>
<metainfo>
<langmeta Sync="TRUE">en</langmeta>
<metstdn Sync="TRUE">FGDC Content Standards for Digital Geospatial Metadata</metstdn>
<metstdv Sync="TRUE">FGDC-STD-001-1998</metstdv>
<mettc Sync="TRUE">local time</mettc>
<metc>
<cntinfo>
<cntorgp>
<cntper>Kent Anness</cntper>
<cntorg>Division of Geographic Information</cntorg>
</cntorgp>
<cntaddr>
<addrtype>mailing and physical address</addrtype>
<city>Frankfort</city>
<state>Kentucky</state>
<postal>40601</postal>
<country>USA</country>
<address>403 Wapping Street, Suite 340</address>
</cntaddr>
<cntpos>GIS Manager</cntpos>
<cntemail>Kent.Anness@ky.gov</cntemail>
<hours>M-F 8:00AM - 4:30PM</hours>
<cntinst>Call or E-mail</cntinst>
<cntvoice>502-564-1450 x292</cntvoice>
<cntfax>502-564-1475</cntfax>
</cntinfo>
</metc>
<metd Sync="TRUE">20100112</metd>
<metsi>
<metsc>Unclassified</metsc>
</metsi>
</metainfo>
<spdoinfo>
<direct Sync="TRUE">Raster</direct>
<ptvctinf>
<esriterm Name="arc">
<efeatyp Sync="TRUE">Simple</efeatyp>
<efeageom Sync="TRUE">Arc</efeageom>
<esritopo Sync="TRUE">FALSE</esritopo>
<efeacnt Sync="TRUE">127600</efeacnt>
<spindex Sync="TRUE">FALSE</spindex>
<linrefer Sync="TRUE">FALSE</linrefer>
</esriterm>
<sdtsterm Name="arc">
<sdtstype Sync="TRUE">Complete chain</sdtstype>
<ptvctcnt Sync="TRUE">127600</ptvctcnt>
</sdtsterm>
<esriterm Name="tic">
<efeatyp Sync="TRUE">Simple</efeatyp>
<efeageom Sync="TRUE">Tic</efeageom>
<esritopo Sync="TRUE">FALSE</esritopo>
<efeacnt Sync="TRUE">871</efeacnt>
<spindex Sync="TRUE">FALSE</spindex>
<linrefer Sync="TRUE">FALSE</linrefer>
</esriterm>
<sdtsterm Name="tic">
<sdtstype Sync="TRUE">Point</sdtstype>
<ptvctcnt Sync="TRUE">871</ptvctcnt>
</sdtsterm>
</ptvctinf>
<rastinfo>
<rasttype Sync="TRUE">Pixel</rasttype>
<rowcount Sync="TRUE">156131</rowcount>
<colcount Sync="TRUE">339691</colcount>
<rastxsz Sync="TRUE">6.666667</rastxsz>
<rastysz Sync="TRUE">6.666667</rastysz>
<rastbpp Sync="TRUE">8</rastbpp>
<vrtcount Sync="TRUE">1</vrtcount>
<rastorig Sync="TRUE">Upper Left</rastorig>
<rastcmap Sync="TRUE">FALSE</rastcmap>
<rastcomp Sync="TRUE">JPEG</rastcomp>
<rastband Sync="TRUE">3</rastband>
<rastdtyp Sync="TRUE">pixel codes</rastdtyp>
<rastifor Sync="TRUE">FGDBR</rastifor>
<rastplyr Sync="TRUE">TRUE</rastplyr>
</rastinfo>
</spdoinfo>
<spref>
<horizsys>
<cordsysn>
<geogcsn>NAD_1983_Kentucky State Plane_Single Zone_Survey Feet</geogcsn>
<projcsn>NAD_1983_Kentucky State Plane_Single Zone_Survey Feet</projcsn>
</cordsysn>
<planar>
<planci>
<plance Sync="TRUE">row and column</plance>
<plandu Sync="TRUE">survey feet</plandu>
<coordrep>
<absres Sync="TRUE">6.666667</absres>
<ordres Sync="TRUE">6.666667</ordres>
</coordrep>
</planci>
</planar>
<geodetic>
<horizdn>North American Datum of 1983</horizdn>
<ellips Sync="TRUE">Geodetic Reference System 80</ellips>
<semiaxis Sync="TRUE">6378137.000000</semiaxis>
<denflat Sync="TRUE">298.257222</denflat>
</geodetic>
</horizsys>
<vertdef>
<altsys>
<altenc Sync="TRUE">Explicit elevation coordinate included with horizontal coordinates</altenc>
<altres Sync="TRUE">1.000000</altres>
</altsys>
</vertdef>
</spref>
<eainfo>
<overview/>
<detailed Name="KYRASTER.SDE.SDE_VAT_125">
<enttyp>
<enttypl Sync="TRUE">KYRASTER.SDE.SDE_VAT_125</enttypl>
<enttypt Sync="TRUE">Table</enttypt>
<enttypc Sync="TRUE">256</enttypc>
</enttyp>
<attr>
<attrlabl Sync="TRUE">ObjectID</attrlabl>
<attalias Sync="TRUE">OBJECTID</attalias>
<attrtype Sync="TRUE">OID</attrtype>
<attwidth Sync="TRUE">4</attwidth>
<atprecis Sync="TRUE">10</atprecis>
<attscale Sync="TRUE">0</attscale>
<attrdef Sync="TRUE">Internal feature number.</attrdef>
<attrdefs Sync="TRUE">ESRI</attrdefs>
<attrdomv>
<udom Sync="TRUE">Sequential unique whole numbers that are automatically generated.</udom>
</attrdomv>
</attr>
<attr>
<attrlabl Sync="TRUE">Value</attrlabl>
<attalias Sync="TRUE">Value</attalias>
<attrtype Sync="TRUE">Integer</attrtype>
<attwidth Sync="TRUE">4</attwidth>
<atprecis Sync="TRUE">10</atprecis>
<attscale Sync="TRUE">0</attscale>
</attr>
<attr>
<attrlabl Sync="TRUE">Red</attrlabl>
<attalias Sync="TRUE">Red</attalias>
<attrtype Sync="TRUE">Double</attrtype>
<attwidth Sync="TRUE">8</attwidth>
<atprecis Sync="TRUE">38</atprecis>
<attscale Sync="TRUE">8</attscale>
</attr>
<attr>
<attrlabl Sync="TRUE">Green</attrlabl>
<attalias Sync="TRUE">Green</attalias>
<attrtype Sync="TRUE">Double</attrtype>
<attwidth Sync="TRUE">8</attwidth>
<atprecis Sync="TRUE">38</atprecis>
<attscale Sync="TRUE">8</attscale>
</attr>
<attr>
<attrlabl Sync="TRUE">Blue</attrlabl>
<attalias Sync="TRUE">Blue</attalias>
<attrtype Sync="TRUE">Double</attrtype>
<attwidth Sync="TRUE">8</attwidth>
<atprecis Sync="TRUE">38</atprecis>
<attscale Sync="TRUE">8</attscale>
</attr>
</detailed>
</eainfo>
<distinfo>
<stdorder>
<digform>
<digtinfo>
<formname>TIFF</formname>
<filedec>zip</filedec>
<transize>5-9MB</transize>
<dssize>14-20MB</dssize>
</digtinfo>
<digtopt>
<onlinopt>
<accinstr>HTTP</accinstr>
<computer>
<networka>
<networkr>http://kymartian.ky.gov/krgmaps/index.html</networkr>
</networka>
</computer>
<oncomp>Windows NT 4.0</oncomp>
</onlinopt>
</digtopt>
</digform>
<fees>None</fees>
<ordering>Download from web site @: http://kymartian.ky.gov/krgmaps/</ordering>
<turnarnd>immediate</turnarnd>
</stdorder>
<distrib>
<cntinfo>
<cntorgp>
<cntorg>Water Resource Information System</cntorg>
<cntper>Kent Anness</cntper>
</cntorgp>
<cntpos>GIS Manager</cntpos>
<cntaddr>
<addrtype>mailing and physical address</addrtype>
<city>Frankfort</city>
<state>Kentucky</state>
<postal>40601</postal>
<country>USA</country>
<address>403 Wapping Street, Suite 340</address>
</cntaddr>
<cntfax>502-573-0157</cntfax>
<cntemail>Kent.Anness@mail.state.ky.us</cntemail>
<hours>M-F 8:00AM - 4:30PM</hours>
<cntinst>Call or E-mail</cntinst>
<cntvoice>502-564-1450 x292</cntvoice>
</cntinfo>
</distrib>
<availabl>
<timeinfo>
<sngdate>
<caldate>Spring 2002</caldate>
<time>unknown</time>
</sngdate>
</timeinfo>
</availabl>
<resdesc>Downloadable Data</resdesc>
</distinfo>
<dataqual>
<lineage>
<procstep>
<procdate>Unknown</procdate>
</procstep>
<srcinfo>
<srctime>
<timeinfo>
<rngdates>
<begdate>unknown</begdate>
<enddate>unknown</enddate>
</rngdates>
</timeinfo>
<srccurr>ground condition</srccurr>
</srctime>
<srccontr>Water Resource Information System</srccontr>
</srcinfo>
<srcinfo>
<srccontr>Kentucky's ADDs</srccontr>
<srctime>
<timeinfo>
<rngdates>
<begdate>June 1999</begdate>
<enddate>June 2000</enddate>
</rngdates>
</timeinfo>
<srccurr>ground condition</srccurr>
</srctime>
</srcinfo>
<srcinfo>
<srccontr>Division of Water - Drinking Water Branch</srccontr>
<srctime>
<timeinfo>
<rngdates>
<begdate>June 1999</begdate>
<enddate>June 2000</enddate>
</rngdates>
</timeinfo>
<srccurr>ground condition</srccurr>
</srctime>
</srcinfo>
<procstep>
<procdesc Sync="TRUE">Metadata imported.</procdesc>
<date Sync="TRUE">20020529</date>
<time Sync="TRUE">12400600</time>
</procstep>
<procstep>
<procdesc Sync="TRUE">Metadata imported.</procdesc>
<date Sync="TRUE">20020610</date>
<time Sync="TRUE">13160100</time>
</procstep>
<procstep>
<procdesc Sync="TRUE">Metadata imported.</procdesc>
<date Sync="TRUE">20080208</date>
<time Sync="TRUE">08272800</time>
</procstep>
<procstep>
<procdesc Sync="TRUE">Metadata imported.</procdesc>
<date Sync="TRUE">20080208</date>
<time Sync="TRUE">08380200</time>
</procstep>
<procstep>
<procdesc Sync="TRUE">Metadata imported.</procdesc>
<procdate Sync="TRUE">20100112</procdate>
<proctime Sync="TRUE">12111800</proctime>
</procstep>
</lineage>
<complete>The work is complete</complete>
<attracc/>
<posacc>
<horizpa/>
</posacc>
</dataqual>
<dataIdInfo>
<dataLang>
<languageCode Sync="TRUE" value="eng"/>
<countryCode Sync="TRUE" value="USA"/>
</dataLang>
<idCitation>
<resTitle Sync="TRUE">Ky_KRG_MUTED</resTitle>
<presForm>
<PresFormCd Sync="TRUE" value="011"/>
</presForm>
</idCitation>
<spatRpType>
<SpatRepTypCd Sync="TRUE" value="002"/>
</spatRpType>
<geoBox esriExtentType="decdegrees">
<westBL Sync="TRUE">-89.775201</westBL>
<eastBL Sync="TRUE">-81.784662</eastBL>
<northBL Sync="TRUE">39.255325</northBL>
<southBL Sync="TRUE">36.331974</southBL>
<exTypeCode Sync="TRUE">1</exTypeCode>
</geoBox>
<dataExt>
<geoEle>
<GeoBndBox esriExtentType="native">
<westBL Sync="TRUE">3780453.335224</westBL>
<eastBL Sync="TRUE">6045060.002945</eastBL>
<northBL Sync="TRUE">4344886.668839</northBL>
<southBL Sync="TRUE">3304013.335021</southBL>
<exTypeCode Sync="TRUE">1</exTypeCode>
</GeoBndBox>
</geoEle>
</dataExt>
<dataExt>
<geoEle>
<GeoBndBox esriExtentType="search">
<exTypeCode Sync="TRUE">1</exTypeCode>
<westBL Sync="TRUE">-89.775201</westBL>
<eastBL Sync="TRUE">-81.784662</eastBL>
<northBL Sync="TRUE">39.255325</northBL>
<southBL Sync="TRUE">36.331974</southBL>
</GeoBndBox>
</geoEle>
</dataExt>
<envirDesc Sync="TRUE">Microsoft Windows Server 2008 R2 Version 6.1 (Build 7601) Service Pack 1; Esri ArcGIS 10.1.1.3143</envirDesc>
<idAbs/>
<searchKeys>
<keyword>KRG</keyword>
<keyword>DRG</keyword>
<keyword>topographic</keyword>
<keyword>USGS</keyword>
<keyword>quad</keyword>
<keyword>quadrangle</keyword>
<keyword>topo</keyword>
</searchKeys>
<idPurp>This dynamic image service provides access to the USGS 7.5 minute quadrangles for the Commonwealth of Kentucky. The source data is the Kentucky Raster Graphics (KRG) dataset created by the Commonwealth. The KRGs are a higher-resolution derivative of the USGS 7.5 minute topographic quadrangle data commonly known as DRGs, or Digital Raster Graphics. Has a muted colormap for better background display.</idPurp>
<idCredit/>
<resConst>
<Consts>
<useLimit/>
</Consts>
</resConst>
</dataIdInfo>
<mdLang>
<languageCode Sync="TRUE" value="eng"/>
<countryCode Sync="TRUE" value="USA"/>
</mdLang>
<mdStanName Sync="TRUE">ISO 19115 Geographic Information - Metadata</mdStanName>
<mdStanVer Sync="TRUE">DIS_ESRI1.0</mdStanVer>
<mdChar>
<CharSetCd Sync="TRUE" value="004"/>
</mdChar>
<mdHrLv>
<ScopeCd Sync="TRUE" value="005"/>
</mdHrLv>
<mdHrLvName Sync="TRUE">dataset</mdHrLvName>
<distInfo>
<distributor>
<distorTran>
<onLineSrc>
<orDesc Sync="TRUE">002</orDesc>
<protocol Sync="TRUE">ArcSDE Connection</protocol>
</onLineSrc>
<transSize Sync="TRUE">14.274</transSize>
</distorTran>
<distorFormat>
<formatName Sync="TRUE">SDE Raster Dataset</formatName>
</distorFormat>
</distributor>
<distFormat>
<formatName Sync="TRUE">File Geodatabase Raster Dataset</formatName>
</distFormat>
</distInfo>
<refSysInfo>
<RefSystem>
<refSysID>
<identCode Sync="TRUE" code="3089">NAD_1983_StatePlane_Kentucky_FIPS_1600_Feet</identCode>
<idCodeSpace Sync="TRUE">EPSG</idCodeSpace>
<idVersion Sync="TRUE">7.11.2</idVersion>
</refSysID>
</RefSystem>
</refSysInfo>
<spatRepInfo>
<VectSpatRep>
<topLvl>
<TopoLevCd Sync="TRUE" value="001"/>
</topLvl>
<geometObjs Name="arc">
<geoObjTyp>
<GeoObjTypCd Sync="TRUE" value="003"/>
</geoObjTyp>
<geoObjCnt Sync="TRUE">127600</geoObjCnt>
</geometObjs>
<geometObjs Name="tic">
<geoObjTyp>
<GeoObjTypCd Sync="TRUE" value="004"/>
</geoObjTyp>
<geoObjCnt Sync="TRUE">871</geoObjCnt>
</geometObjs>
</VectSpatRep>
<GridSpatRep>
<numDims Sync="TRUE">2</numDims>
<axDimProps>
<Dimen>
<dimName>
<DimNameTypCd Sync="TRUE" value="002"/>
</dimName>
<dimSize Sync="TRUE">5385</dimSize>
<dimResol Sync="TRUE">6.6667</dimResol>
</Dimen>
<Dimen>
<dimName>
<DimNameTypCd Sync="TRUE" value="001"/>
</dimName>
<dimSize Sync="TRUE">6883</dimSize>
<dimResol Sync="TRUE">6.6667</dimResol>
</Dimen>
</axDimProps>
<cellGeo>
<CellGeoCd Sync="TRUE" value="002"/>
</cellGeo>
<tranParaAv Sync="TRUE">1</tranParaAv>
</GridSpatRep>
</spatRepInfo>
<mdDateSt Sync="TRUE">20150730</mdDateSt>
<mdFileID Sync="TRUE">{DA082D60-7320-11D6-AF99-0008C7D3656F}</mdFileID>
</metadata>
