{
 "currentVersion": 10.91,
 "serviceDescription": "This dynamic image service provides access to the USGS 7.5 minute quadrangles for the Commonwealth of Kentucky. The source data is the Kentucky Raster Graphics (KRG) dataset created by the Commonwealth. The KRGs are a higher-resolution derivative of the USGS 7.5 minute topographic quadrangle data commonly known as DRGs, or Digital Raster Graphics.",
 "name": "ImageServices/Ky_KRG",
 "description": "This dynamic image service provides access to the USGS 7.5 minute quadrangles for the Commonwealth of Kentucky. The source data is the Kentucky Raster Graphics (KRG) dataset created by the Commonwealth. The KRGs are a higher-resolution derivative of the USGS 7.5 minute topographic quadrangle data commonly known as DRGs, or Digital Raster Graphics.",
 "extent": {
  "xmin": 3780453.3352235015,
  "ymin": 3304013.3350210655,
  "xmax": 6045060.002944708,
  "ymax": 4344886.668839093,
  "spatialReference": {
   "wkid": 102763,
   "latestWkid": 3089
  }
 },
 "initialExtent": {
  "xmin": 3780453.3352235015,
  "ymin": 3304013.3350210655,
  "xmax": 6045060.002944708,
  "ymax": 4344886.668839093,
  "spatialReference": {
   "wkid": 102763,
   "latestWkid": 3089
  }
 },
 "fullExtent": {
  "xmin": 3780453.3352235015,
  "ymin": 3304013.3350210655,
  "xmax": 6045060.002944708,
  "ymax": 4344886.668839093,
  "spatialReference": {
   "wkid": 102763,
   "latestWkid": 3089
  }
 },
 "pixelSizeX": 6.666666669771075,
 "pixelSizeY": 6.666666669771075,
 "bandCount": 3,
 "pixelType": "U8",
 "minPixelSize": 0,
 "maxPixelSize": 0,
 "copyrightText": "DGI",
 "serviceDataType": "esriImageServiceDataTypeRGB",
 "minValues": [],
 "maxValues": [],
 "meanValues": [],
 "stdvValues": [],
 "objectIdField": "",
 "fields": [],
 "capabilities": "Mensuration,Image,Metadata",
 "defaultMosaicMethod": "Center",
 "allowedMosaicMethods": "",
 "sortField": "",
 "sortValue": null,
 "sortAscending": true,
 "mosaicOperator": "First",
 "defaultCompressionQuality": 75,
 "defaultResamplingMethod": "Bilinear",
 "maxImageHeight": 4100,
 "maxImageWidth": 15000,
 "allowRasterFunction": true,
 "rasterFunctionInfos": [
  {
   "name": "None",
   "description": "",
   "help": ""
  }
 ],
 "rasterTypeInfos": [
  {
   "name": "Raster Dataset",
   "description": "Supports all ArcGIS Raster Datasets",
   "help": ""
  }
 ],
 "mensurationCapabilities": "Basic",
 "hasHistograms": false,
 "hasColormap": false,
 "hasRasterAttributeTable": false,
 "minScale": 0,
 "maxScale": 0,
 "exportTilesAllowed": false,
 "hasMultidimensions": false,
 "supportsStatistics": false,
 "supportsAdvancedQueries": false,
 "editFieldsInfo": null,
 "ownershipBasedAccessControlForRasters": null,
 "allowComputeTiePoints": false,
 "useStandardizedQueries": true,
 "advancedQueryCapabilities": {
  "useStandardizedQueries": true,
  "supportsStatistics": false,
  "supportsOrderBy": false,
  "supportsDistinct": false,
  "supportsPagination": false
 },
 "spatialReference": {
  "wkid": 102763,
  "latestWkid": 3089
 }
}
