<?xml version="1.0" encoding="UTF-8" standalone="no"?>
<metadata>
<idinfo>
<citation>
<citeinfo>
<origin>Kentucky Division of Geographic Information</origin>
<pubdate>20070625</pubdate>
<pubtime>Current</pubtime>
<title>Kentucky 2005 Land Cover - Anderson Level II</title>
<edition>1.0</edition>
<geoform Sync="TRUE">raster digital data</geoform>
<serinfo>
<sername>Kentucky NLCD 2005</sername>
<issue>None</issue>
</serinfo>
<pubinfo>
<pubplace>Publisher Kentucky Division of Geographic Information, Commonweath Office of Technology</pubplace>
<publish>Kentucky Division of Geographic Information</publish>
</pubinfo>
<onlink>ftp://ftp.kymartian.ky.gov/KLS/KY_LC2005.zip</onlink>
<lworkcit>
<citeinfo/>
</lworkcit>
<ftname Sync="TRUE">ky_lc2005</ftname>
</citeinfo>
</citation>
<descript>
<abstract>The 2005 era landcover change detection analysis produced for the State of Kentucky by the Kentucky Landscape Census Project are incorporated into the NLCD01 dataset. Both the LC2005 (KY's version) and the NLCD01 (KY's version) published in the Kentucky Geography Network are co-registered to the same geographic extent. The two datasets used in this update are the 2001-2005 Land Cover Change set and the Change/No-Change Binary Mask also published.The change detection analysis is based on Landsat Thematic Mapper scenes from 2001 and 2005. An accuracy report is also published concomitantly.</abstract>
<purpose>The goal of this project is to provide the State of Kentucky with a 2005-era current and accurate land cover change information since the NLCD 2001 map for zone 47, which includes the State of Kentucky, was completed. To update and maintain public domain information on the State's land cover</purpose>
<supplinf>Corner Coordinates (center of pixel, projection meters): Upper Left Corner: 349500.0 meters(X), 2034300.0 meters(Y)Lower Right Corner: 1386870.0 meters(X), 1260240.0 meters(Y). Projected in Albers Conical Equal Area. NOTE: these parameters were valid PRIOR to reprojection to FIPS 1600 map projection (SPCS Kentucky Single Zone); data must be recalculated in US Survey Feet.</supplinf>
<langdata Sync="TRUE">en</langdata>
</descript>
<timeperd>
<timeinfo>
<rngdates>
<begdate>20010522</begdate>
<begtime>12:00am</begtime>
<enddate>20050930</enddate>
<endtime>11:59pm</endtime>
</rngdates>
</timeinfo>
<current>ground condition</current>
</timeperd>
<status>
<progress>Complete</progress>
<update>Updates as needed</update>
</status>
<spdom>
<bounding>
<westbc Sync="TRUE">-89.966144</westbc>
<eastbc Sync="TRUE">-81.472447</eastbc>
<northbc Sync="TRUE">39.858019</northbc>
<southbc Sync="TRUE">35.819476</southbc>
</bounding>
<lboundng>
<leftbc Sync="TRUE">3736193.938792</leftbc>
<rightbc Sync="TRUE">6123590.738792</rightbc>
<bottombc Sync="TRUE">3119815.740943</bottombc>
<topbc Sync="TRUE">4564497.890943</topbc>
</lboundng>
</spdom>
<keywords>
<theme>
&lt;keywords&gt;
&lt;theme&gt;
&lt;themekt&gt;None&lt;/themekt&gt;
&lt;themekey&gt;imageryBaseMapsEarthCover&lt;/themekey&gt;
&lt;themekey&gt;Agriculture&lt;/themekey&gt;
&lt;themekey&gt;Anderson&lt;/themekey&gt;
&lt;themekey&gt;Anderson Classification&lt;/themekey&gt;
&lt;themekey&gt;Anderson Level II&lt;/themekey&gt;
&lt;themekey&gt;Anderson Level 2&lt;/themekey&gt;
&lt;themekey&gt;Change Detection&lt;/themekey&gt;
&lt;themekey&gt;Commonwealth&lt;/themekey&gt;
&lt;themekey&gt;Commonwealth of Kentucky&lt;/themekey&gt;
&lt;themekey&gt;Cover&lt;/themekey&gt;
&lt;themekey&gt;Digital Spatial Data&lt;/themekey&gt;
&lt;themekey&gt;Digital Geospatial Data&lt;/themekey&gt;
&lt;themekey&gt;EDC&lt;/themekey&gt;
&lt;themekey&gt;Environment&lt;/themekey&gt;
&lt;themekey&gt;EROS&lt;/themekey&gt;
&lt;themekey&gt;EPA&lt;/themekey&gt;
&lt;themekey&gt;ETM+&lt;/themekey&gt;
&lt;themekey&gt;Farming&lt;/themekey&gt;
&lt;themekey&gt;Forestry&lt;/themekey&gt;
&lt;themekey&gt;Geological Survey&lt;/themekey&gt;
&lt;themekey&gt;geoscientificInformation&lt;/themekey&gt;
&lt;themekey&gt;Geographic Information Systems&lt;/themekey&gt;
&lt;themekey&gt;GIS&lt;/themekey&gt;
&lt;themekey&gt;Imagery&lt;/themekey&gt;
&lt;themekey&gt;Imperviousness&lt;/themekey&gt;
&lt;themekey&gt;Infrared Imagery&lt;/themekey&gt;
&lt;themekey&gt;Kentucky&lt;/themekey&gt;
&lt;themekey&gt;Kentucky Landscape Snapshot Project&lt;/themekey&gt;
&lt;themekey&gt;Kentucky Landscape Snapshot&lt;/themekey&gt;
&lt;themekey&gt;KLS&lt;/themekey&gt;
&lt;themekey&gt;Land&lt;/themekey&gt;
&lt;themekey&gt;Land Characterization&lt;/themekey&gt;
&lt;themekey&gt;Land Cover&lt;/themekey&gt;
&lt;themekey&gt;Land Management&lt;/themekey&gt;
&lt;themekey&gt;Land Planning&lt;/themekey&gt;
&lt;themekey&gt;Land Resources&lt;/themekey&gt;
&lt;themekey&gt;Land Use&lt;/themekey&gt;
&lt;themekey&gt;Landcover&lt;/themekey&gt;
&lt;themekey&gt;Landsat 7&lt;/themekey&gt;
&lt;themekey&gt;Landsat&lt;/themekey&gt;
&lt;themekey&gt;Landscape&lt;/themekey&gt;
&lt;themekey&gt;Landuse&lt;/themekey&gt;
&lt;themekey&gt;Land Cover/Land Use&lt;/themekey&gt;
&lt;themekey&gt;Level II&lt;/themekey&gt;
&lt;themekey&gt;Level 2&lt;/themekey&gt;
&lt;themekey&gt;Medium Resolution&lt;/themekey&gt;
&lt;themekey&gt;Metadata&lt;/themekey&gt;
&lt;themekey&gt;Mining&lt;/themekey&gt;
&lt;themekey&gt;MRLC&lt;/themekey&gt;
&lt;themekey&gt;Multispectral&lt;/themekey&gt;
&lt;themekey&gt;NLCD&lt;/themekey&gt;
&lt;themekey&gt;NLCD01&lt;/themekey&gt;
&lt;themekey&gt;Planning&lt;/themekey&gt;
&lt;themekey&gt;Remote Sensing&lt;/themekey&gt;
&lt;themekey&gt;Resolution&lt;/themekey&gt;
&lt;themekey&gt;Sanborn&lt;/themekey&gt;
&lt;themekey&gt;Satellite&lt;/themekey&gt;
&lt;themekey&gt;Satellite Imagery&lt;/themekey&gt;
&lt;themekey&gt;Space Imaging&lt;/themekey&gt;
&lt;themekey&gt;Thematic Mapper&lt;/themekey&gt;
&lt;themekey&gt;Urban Development&lt;/themekey&gt;
&lt;themekey&gt;Urban Forestry&lt;/themekey&gt;
&lt;themekey&gt;Urban Sprawl&lt;/themekey&gt;
&lt;themekey&gt;Use&lt;/themekey&gt;
&lt;themekey&gt;U.S. Geological Survey&lt;/themekey&gt;
&lt;themekey&gt;USGS&lt;/themekey&gt;
&lt;themekey&gt;USGS Zone 47&lt;/themekey&gt;
&lt;themekey&gt;USGS Zone 53&lt;/themekey&gt;
&lt;themekey&gt;Water Resources&lt;/themekey&gt;
&lt;themekey&gt;Open Water&lt;/themekey&gt;
&lt;themekey&gt;Developed, Open Space&lt;/themekey&gt;
&lt;themekey&gt;Developed, Low Intensity&lt;/themekey&gt;
&lt;themekey&gt;Developed, Medium Intensity&lt;/themekey&gt;
&lt;themekey&gt;Developed, High Intensity&lt;/themekey&gt;
&lt;themekey&gt;Natural Barren&lt;/themekey&gt;
&lt;themekey&gt;Deciduous Forest&lt;/themekey&gt;
&lt;themekey&gt;Evergreen Forest&lt;/themekey&gt;
&lt;themekey&gt;Mixed Forest&lt;/themekey&gt;
&lt;themekey&gt;Scrub/Shrub&lt;/themekey&gt;
&lt;themekey&gt;Grasslands/Herbaceous&lt;/themekey&gt;
&lt;themekey&gt;Pasture/Hay&lt;/themekey&gt;
&lt;themekey&gt;Cultivated Crops&lt;/themekey&gt;
&lt;themekey&gt;Woody Wetland&lt;/themekey&gt;
&lt;themekey&gt;Emergent Herbaceous Wetland&lt;/themekey&gt;
&lt;themekey&gt;30 meter&lt;/themekey&gt;
&lt;/theme&gt;
&lt;placekt&gt;None&lt;/placekt&gt;
&lt;placekey&gt;United States&lt;/placekey&gt;
&lt;placekey&gt;U.S.&lt;/placekey&gt;
&lt;placekey&gt;US&lt;/placekey&gt;
&lt;placekey&gt;Zone 47&lt;/placekey&gt;
&lt;placekey&gt;mid- Westregion&lt;/placekey&gt;
&lt;placekey&gt;Kentucky&lt;/placekey&gt;
&lt;placekey&gt;District of Columbia&lt;/placekey&gt;
&lt;placekey&gt;Tennessee&lt;/placekey&gt;
&lt;placekey&gt;Ohio&lt;/placekey&gt;
&lt;placekey&gt;Indiana&lt;/placekey&gt;
&lt;placekey&gt;West Virgina&lt;/placekey&gt;
&lt;placekey&gt;Zone 53&lt;/placekey&gt;
<themekey>imageryBaseMapsEarthCover</themekey>
<themekey>Agriculture</themekey>
<themekey>Anderson</themekey>
<themekey>Anderson Classification</themekey>
<themekey>Anderson Level II</themekey>
<themekey>Anderson Level 2</themekey>
<themekey>Change Detection</themekey>
<themekey>Commonwealth</themekey>
<themekey>Commonwealth of Kentucky</themekey>
<themekey>Cover</themekey>
<themekey>Digital Spatial Data</themekey>
<themekey>Digital Geospatial Data</themekey>
<themekey>EDC</themekey>
<themekey>Environment</themekey>
<themekey>EROS</themekey>
<themekey>US EPA</themekey>
<themekey>EPA</themekey>
<themekey>ETM+</themekey>
<themekey>Farming</themekey>
<themekey>Forestry</themekey>
<themekey>Geological Survey</themekey>
<themekey>geoscientificInformation</themekey>
<themekey>Geographic Information Systems</themekey>
<themekey>GIS</themekey>
<themekey>Imagery</themekey>
<themekey>Imperviousness</themekey>
<themekey>Infrared Imagery</themekey>
<themekey>Kentucky</themekey>
<themekey>Kentucky Landscape Snapshot Project</themekey>
<themekey>Kentucky Landscape Snapshot</themekey>
<themekey>KLS</themekey>
<themekey>Land</themekey>
<themekey>Land Characterization</themekey>
<themekey>Land Cover</themekey>
<themekey>Land Management</themekey>
<themekey>Land Planning</themekey>
<themekey>Land Resources</themekey>
<themekey>Land Use</themekey>
<themekey>Landcover</themekey>
<themekey>Landsat</themekey>
<themekey>Landscape</themekey>
<themekey>Landuse</themekey>
<themekey>Land Cover/Land Use</themekey>
<themekey>Level II</themekey>
<themekey>Level 2</themekey>
<themekey>Medium Resolution</themekey>
<themekey>Metadata</themekey>
<themekey>Mining</themekey>
<themekey>MRLC</themekey>
<themekey>Multispectral</themekey>
<themekey>NLCD</themekey>
<themekey>NLCD01</themekey>
<themekey>Planning</themekey>
<themekey>Resolution</themekey>
<themekey>Sanborn</themekey>
<themekey>Satellite</themekey>
<themekey>Satellite Imagery</themekey>
<themekey>Space Imaging</themekey>
<themekey>Urban Development</themekey>
<themekey>Urban Forestry</themekey>
<themekey>Urban Sprawl</themekey>
<themekey>Use</themekey>
<themekey>U.S. Geological Survey</themekey>
<themekey>USGS</themekey>
<themekey>USGS Zone 47</themekey>
<themekey>USGS Zone 53</themekey>
<themekey>Water Resources</themekey>
<themekey>Open Water</themekey>
<themekey>Developed, Open Space</themekey>
<themekey>Developed, Low Intensity</themekey>
<themekey>Developed, Medium Intensity</themekey>
<themekey>Developed, High Intensity</themekey>
<themekey>Deciduous Forest</themekey>
<themekey>Evergreen Forest</themekey>
<themekey>Mixed Forest</themekey>
<themekey>Scrub/Shrub</themekey>
<themekey>Grasslands/Herbaceous</themekey>
<themekey>Pasture/Hay</themekey>
<themekey>Cultivated Crops</themekey>
<themekey>Woody Wetlands</themekey>
<themekey>Emergent Herbaceous Wetland</themekey>
<themekey>30 meter</themekey>
<themekey>KY LC2005</themekey>
<themekey>KLC</themekey>
<themekey>Kentucky Landscape Census</themekey>
</theme>
<place>
<placekey>Kentucky</placekey>
<placekey>U.S.</placekey>
<placekey>Ohio</placekey>
<placekey>Indiana</placekey>
<placekey>United States</placekey>
<placekey>US</placekey>
<placekey>Zone 47</placekey>
<placekey>Zone 53</placekey>
<placekey>Midwest region</placekey>
<placekey>District of Columbia</placekey>
<placekey>Tennessee</placekey>
<placekey>West Virginia</placekey>
</place>
</keywords>
<accconst>None</accconst>
<useconst>None</useconst>
<ptcontac>
<cntinfo>
<cntorgp>
<cntorg>Kentucky Division of Geographic Information, Commonweath Office of Technology</cntorg>
<cntper>Demetrio P. Zourarakis</cntper>
</cntorgp>
<cntpos>Remote Sensing/GIS Analyst</cntpos>
<cntaddr>
<addrtype>mailing and physical address</addrtype>
<address>100 Fair Oaks Ln.</address>
<city>Frankfort</city>
<state>KY</state>
<postal>40601</postal>
<country>U.S.A.</country>
</cntaddr>
<cntvoice>(502)564-6246</cntvoice>
<cnttdd>Unknown</cnttdd>
<cntemail>demetrio.zourarakis@ky.gov</cntemail>
<hours>Mon-Fri: 8:00 am - 4:30 pm</hours>
<cntinst>The DGI is the point of contact is for questions relating to the data display and download from this web site: &lt;http://gis.ky.gov&gt;
&lt;http://kygeonet.ky.gov&gt; For general information on the KLC project, visit: &lt;http://klcportal.ky.gov&gt;</cntinst>
</cntinfo>
</ptcontac>
<datacred>Sanborn Map Company for the State of Kentucky</datacred>
<secinfo>
<secsys>None</secsys>
<secclass>Unclassified</secclass>
<sechandl>N/A</sechandl>
</secinfo>
<native Sync="TRUE">Microsoft Windows XP Version 5.1 (Build 2600) Service Pack 3; ESRI ArcCatalog 9.3.1.4000</native>
<crossref>
<citeinfo>
<origin>Sanborn Map Company</origin>
<pubdate>20070702</pubdate>
<pubtime>20060601-20070701</pubtime>
<title>Kentucky Landscape Census</title>
<geoform>Raster Digital Data</geoform>
<serinfo>
<sername>Need From Client</sername>
</serinfo>
<pubinfo>
<pubplace>Ann Arbor, Michigan</pubplace>
<publish>Sanborn Map Company</publish>
</pubinfo>
<onlink>none</onlink>
<lworkcit>
<citeinfo/>
</lworkcit>
</citeinfo>
</crossref>
<natvform Sync="TRUE">Raster Dataset</natvform>
</idinfo>
<dataqual>
<attracc>
<attraccr>The accuracy assessment if this dataset was achieved through a two-tier process. First the 2005 change areas were assessed as a single date land cover map. Validation samples were collected within a year of the 2005 Landsat TM imagery. Validation points were selected by use of the NLCD tool and the points were then randomized in Excel, the same points were then visually verified with the imagery independant of the map. A minimum of fifty (50) sample points per class were used to generate the error matrix which was then used to calculate the omission and comission errors per class. The second tier validation was to check for any ommission or comission errors in a binary change mask. The change no change mask, a binary layer, was employed to find change. Again, points were selected with the NLCD tool and randomized in Excel and photo interpreted independent of the map.</attraccr>
<qattracc>
<attraccv>
Change Detection Accuracy: 96% Deterministic
Change Area Update Accuracy: 58% Deterministic, 78% Fuzzy Accuracy
</attraccv>
<attracce>Accuracy Report (ftp://ftp.kymartian.ky.gov/kls/KY_NLCC0501_Report.pdf) details the accuracy analysis for the 2005 change detection.</attracce>
</qattracc>
</attracc>
<posacc>
<horizpa>
<qhorizpa>
</qhorizpa>
</horizpa>
<vertacc>
<qvertpa>
</qvertpa>
</vertacc>
</posacc>
<lineage>
<srcinfo>
<srccite>
<citeinfo>
<origin>U.S. Geological Survey</origin>
<pubdate/>
<pubtime/>
<title>NLCD 2005</title>
<edition/>
<geoform>Raster Dataset</geoform>
<serinfo>
<sername/>
<issue/>
</serinfo>
<pubinfo>
<pubplace/>
<publish/>
</pubinfo>
<othercit/>
<onlink/>
<lworkcit>
<citeinfo/>
</lworkcit>
</citeinfo>
</srccite>
<srctime>
<timeinfo>
<sngdate>
</sngdate>
</timeinfo>
</srctime>
</srcinfo>
<procstep>
<procdesc>The images were mosaicked to create a state wide image for both 2001 Landsat TM 30m (early) and 2005 TM 30m (late) time periods. Then the image mosaics were analyzed using a change vector approach (CVA) to find areas of change. CVA processes and analyses change in all multi-spectral/multi-temporal data layers. When CVA is applied to multi-temporal data, it compares the differences in the two image data sets as a magnitude of spectral change and a direction of the difference vector of a land cover change indicator for each time period. When a magnitude and vector of an individual land cover unit differs from the expected or general direction of its class population, the land cover unit is identified as change. Seasonal change presented commison errors, while regrowth of woody vegetation presented as omission errors in the intial change detection step. The NLCD 2001 was used as a check to find areas of errors of comission in the map. Isodata was created to aid in modeling in of the shrub, bare and grass classes. Layer stacking of early and late imagery was also used to reveal changes in the land cover. A canopy mask and an impervious mask were used to remove, though modeling, other comission errors. Strata layers including change / no change mask, magnitude of change, unsampled areas, and distance from change were created to test the validity of the map and to find any missed changes. Once the intial steps were complete the next step was to review the map and use a change matrix to find classes that were changing from one class to another and to test for both logical and illogical change. The change detection raster dataset was produced by first differencing two dates of Landsat imagery. 2001 Landsat TM and 2005 Landsat TM to create the base data on which modeling with ancillary data layers and the existing 2001 NLCD the map further refined. was created by several automated and manual processes including image differencing of the 2001 and 2005, Landsat Thematic Mapper images, modeling with ancillary data and manual editing. Part two of the dataset is a change / no change was created as a binary image of the change mask and validated with photinterpreted points.</procdesc>
<proccont>
<cntinfo>
<cntorg>
Contact_Organization_Primary Contact_Organization
Contact_Position
Contact_Address Address_Type
Contact_Voice_Telephone
Contact_TDD/TTY_Telephone
Contact_Facsimile_Telephone
Contact_Electronic_Mail_Address
Hours_of_Service
Contact_Instructions
</cntorg>
</cntinfo>
</proccont>
</procstep>
<procstep>
<procdesc>The 2001-2005 Land Cover Change Detection dataset was merged with the NLCD01version for Kentucky, resulting in the LC2005 dataset.</procdesc>
<date Sync="TRUE">20080201</date>
<time Sync="TRUE">11065900</time>
</procstep>
<procstep>
<procdesc Sync="TRUE">Metadata imported.</procdesc>
<procdate Sync="TRUE">20101227</procdate>
<proctime Sync="TRUE">10280900</proctime>
</procstep>
</lineage>
</dataqual>
<spdoinfo>
<direct Sync="TRUE">Raster</direct>
<ptvctinf>
<sdtsterm>
</sdtsterm>
</ptvctinf>
<rastinfo>
<rasttype Sync="TRUE">Pixel</rasttype>
<rowcount Sync="TRUE">14678</rowcount>
<colcount Sync="TRUE">24256</colcount>
<rastxsz Sync="TRUE">98.425000</rastxsz>
<rastysz Sync="TRUE">98.425000</rastysz>
<rastbpp Sync="TRUE">8</rastbpp>
<vrtcount Sync="TRUE">1</vrtcount>
<rastorig Sync="TRUE">Upper Left</rastorig>
<rastcmap Sync="TRUE">TRUE</rastcmap>
<rastcomp Sync="TRUE">LZ77</rastcomp>
<rastband Sync="TRUE">1</rastband>
<rastdtyp Sync="TRUE">pixel codes</rastdtyp>
<rastplyr Sync="TRUE">TRUE</rastplyr>
<rastifor Sync="TRUE">FGDBR</rastifor>
</rastinfo>
</spdoinfo>
<spref>
<horizsys>
<planar>
<planci>
<plance Sync="TRUE">row and column</plance>
<plandu Sync="TRUE">survey feet</plandu>
<coordrep>
<absres Sync="TRUE">98.425000</absres>
<ordres Sync="TRUE">98.425000</ordres>
</coordrep>
</planci>
</planar>
<geodetic>
<horizdn Sync="TRUE">North American Datum of 1983</horizdn>
<ellips Sync="TRUE">Geodetic Reference System 80</ellips>
<semiaxis Sync="TRUE">6378137.000000</semiaxis>
<denflat Sync="TRUE">298.257222</denflat>
</geodetic>
<cordsysn>
<geogcsn Sync="TRUE">GCS_North_American_1983</geogcsn>
<projcsn Sync="TRUE">NAD_1983_Lambert_Conformal_Conic</projcsn>
</cordsysn>
</horizsys>
</spref>
<distinfo>
<distrib>
<cntinfo>
<cntperp>
</cntperp>
<cntaddr>
</cntaddr>
</cntinfo>
</distrib>
<stdorder>
<nondig>None</nondig>
<fees>None</fees>
<digform>
<digtinfo>
<transize Sync="TRUE">55.112</transize>
<dssize Sync="TRUE">55.112</dssize>
</digtinfo>
</digform>
</stdorder>
<availabl>
<timeinfo>
<rngdates>
</rngdates>
</timeinfo>
</availabl>
<resdesc Sync="TRUE">Downloadable Data</resdesc>
</distinfo>
<metainfo>
<metd Sync="TRUE">20101227</metd>
<metrd>20070830</metrd>
<metfrd>20070930</metfrd>
<metc>
<cntinfo>
<cntorgp>
<cntorg>Sanborn Map Company</cntorg>
<cntpos>Remote Sensing/GIS Analyst</cntpos>
<cntper>Michael Palmer</cntper>
</cntorgp>
<cntaddr>
<addrtype>mailing and physical</addrtype>
<address>455 E. Eisenhower Parkway</address>
<city>Ann Arbor</city>
<state>Michigan</state>
<postal>48108</postal>
<country>U.S.A.</country>
</cntaddr>
<cntvoice>(734)213-1060</cntvoice>
<cntfax>(734) 213-1085</cntfax>
<hours>Monday - Friday: 8:00 am - 5:00 pm (EST)</hours>
<cntinst>www.sanborn.com</cntinst>
<cntpos>Senior Geomatics Analyst</cntpos>
</cntinfo>
</metc>
<metstdn Sync="TRUE">FGDC Content Standards for Digital Geospatial Metadata</metstdn>
<metstdv Sync="TRUE">FGDC-STD-001-1998</metstdv>
<mettc Sync="TRUE">local time</mettc>
<metac>KDG constraints</metac>
<metuc>KDG Constraints</metuc>
<metsi>
<metscs>None</metscs>
<metsc>Unclassified</metsc>
<metshd>N/A</metshd>
</metsi>
<metextns>
<onlink>None available</onlink>
<metprof>N/A</metprof>
</metextns>
<langmeta Sync="TRUE">en</langmeta>
</metainfo>
<overview>
<eaover/>
<eadetcit/>
</overview>
NLCD 2001 Land Cover Class Definitions
11. Open Water - All areas of open water, generally with less than 25% cover of vegetation or soil
12. Perennial Ice/Snow - All areas characterized by a perennial cover of ice and/or snow, generally greater than 25% of total cover. 21. Developed, Open Space - Includes areas with a mixture of some constructed materials, but mostly vegetation in the form of lawn grasses. Impervious surfaces account for less than 20 percent of total cover. These areas most commonly include large-lot single-family housing units, parks, golf courses, and vegetation planted in developed settings for recreation, erosion control, or aesthetic purposes
22. Developed, Low Intensity -Includes areas with a mixture of constructed materials and vegetation. Impervious surfaces account for 20-49 percent of total cover. These areas most commonly include single-family housing units.
23. Developed, Medium Intensity - Includes areas with a mixture of constructed materials and vegetation. Impervious surfaces account for 50-79 percent of the total cover. These areas most commonly include single-family housing units.
24. Developed, High Intensity - Includes highly developed areas where people reside or work in high numbers. Examples include apartment complexes, row houses and commercial/industrial. Impervious surfaces account for 80 to100 percent of the total cover.
31. Barren Land (Rock/Sand/Clay) - Barren areas of bedrock, desert pavement, scarps, talus, slides, volcanic material, glacial debris, sand dunes, strip mines, gravel pits and other accumulations of earthen material. Generally, vegetation accounts for less than 15% of total cover.
32. Unconsolidated Shore* - Unconsolidated material such as silt, sand, or gravel that is subject to inundation and redistribution due to the action of water. Characterized by substrates lacking vegetation except for pioneering plants that become established during brief periods when growing conditions are favorable. Erosion and deposition by waves and currents produce a number of landforms representing this class.
41. Deciduous Forest - Areas dominated by trees generally greater than 5 meters tall, and greater than 20% of total vegetation cover. More than 75 percent of the tree species shed foliage simultaneously in response to seasonal change.
42. Evergreen Forest - Areas dominated by trees generally greater than 5 meters tall, and greater than 20% of total vegetation cover. More than 75 percent of the tree species maintain their leaves all year. Canopy is never without green foliage.
43. Mixed Forest - Areas dominated by trees generally greater than 5 meters tall, and greater than 20% of total vegetation cover. Neither deciduous nor evergreen species are greater than 75 percent of total tree cover. 51. Dwarf Scrub - Alaska only areas dominated by shrubs less than 20 centimeters tall with shrub canopy typically greater than 20% of total vegetation. This type is often co-associated with grasses, sedges, herbs, and non-vascular vegetation.
