<?xml version="1.0" encoding="UTF-8" standalone="no"?>
<metadata xml:lang="en">
<Esri>
<CreaDate>20080208</CreaDate>
<CreaTime>08365800</CreaTime>
<SyncOnce>FALSE</SyncOnce>
<SyncDate>20150727</SyncDate>
<SyncTime>10275700</SyncTime>
<ModDate>20150727</ModDate>
<ModTime>10275700</ModTime>
<PublishStatus>Published</PublishStatus>
<MetaID>{E1E50241-BA51-4BC1-A36A-F6DFD6131CEB}</MetaID>
<DataProperties>
<lineage/>
<itemProps>
<itemName Sync="TRUE">GQMAPS</itemName>
<imsContentType Sync="TRUE">002</imsContentType>
<nativeExtBox>
<westBL Sync="TRUE">3797606.666667</westBL>
<eastBL Sync="TRUE">6018733.333334</eastBL>
<southBL Sync="TRUE">3344533.333332</southBL>
<northBL Sync="TRUE">4307873.333332</northBL>
<exTypeCode Sync="TRUE">1</exTypeCode>
</nativeExtBox>
<itemLocation>
<protocol Sync="TRUE">Local Area Network</protocol>
<linkage Sync="TRUE">file://\\kyeggiswis01\imageserverdata2\GDB\Ky_GQ_Maps.gdb</linkage>
</itemLocation>
</itemProps>
<coordRef>
<type Sync="TRUE">Projected</type>
<geogcsn Sync="TRUE">GCS_North_American_1983</geogcsn>
<csUnits Sync="TRUE">Linear Unit: Foot_US (0.304801)</csUnits>
<projcsn Sync="TRUE">NAD_1983_StatePlane_Kentucky_FIPS_1600_Feet</projcsn>
<peXml Sync="TRUE">&lt;ProjectedCoordinateSystem xsi:type='typens:ProjectedCoordinateSystem' xmlns:xsi='http://www.w3.org/2001/XMLSchema-instance' xmlns:xs='http://www.w3.org/2001/XMLSchema' xmlns:typens='http://www.esri.com/schemas/ArcGIS/10.1'&gt;&lt;WKT&gt;PROJCS[&amp;quot;NAD_1983_StatePlane_Kentucky_FIPS_1600_Feet&amp;quot;,GEOGCS[&amp;quot;GCS_North_American_1983&amp;quot;,DATUM[&amp;quot;D_North_American_1983&amp;quot;,SPHEROID[&amp;quot;GRS_1980&amp;quot;,6378137.0,298.257222101]],PRIMEM[&amp;quot;Greenwich&amp;quot;,0.0],UNIT[&amp;quot;Degree&amp;quot;,0.0174532925199433]],PROJECTION[&amp;quot;Lambert_Conformal_Conic&amp;quot;],PARAMETER[&amp;quot;False_Easting&amp;quot;,4921250.0],PARAMETER[&amp;quot;False_Northing&amp;quot;,3280833.333333333],PARAMETER[&amp;quot;Central_Meridian&amp;quot;,-85.75],PARAMETER[&amp;quot;Standard_Parallel_1&amp;quot;,37.08333333333334],PARAMETER[&amp;quot;Standard_Parallel_2&amp;quot;,38.66666666666666],PARAMETER[&amp;quot;Latitude_Of_Origin&amp;quot;,36.33333333333334],UNIT[&amp;quot;Foot_US&amp;quot;,0.3048006096012192],AUTHORITY[&amp;quot;EPSG&amp;quot;,3089]]&lt;/WKT&gt;&lt;XOrigin&gt;-117434800&lt;/XOrigin&gt;&lt;YOrigin&gt;-91579000&lt;/YOrigin&gt;&lt;XYScale&gt;36807330.96050825&lt;/XYScale&gt;&lt;ZOrigin&gt;0&lt;/ZOrigin&gt;&lt;ZScale&gt;1&lt;/ZScale&gt;&lt;MOrigin&gt;0&lt;/MOrigin&gt;&lt;MScale&gt;1&lt;/MScale&gt;&lt;XYTolerance&gt;0.0032808333333333331&lt;/XYTolerance&gt;&lt;ZTolerance&gt;2&lt;/ZTolerance&gt;&lt;MTolerance&gt;2&lt;/MTolerance&gt;&lt;HighPrecision&gt;true&lt;/HighPrecision&gt;&lt;WKID&gt;102763&lt;/WKID&gt;&lt;LatestWKID&gt;3089&lt;/LatestWKID&gt;&lt;/ProjectedCoordinateSystem&gt;</peXml>
</coordRef>
</DataProperties>
<scaleRange>
<minScale>150000000</minScale>
<maxScale>5000</maxScale>
</scaleRange>
<ArcGISProfile>FGDC</ArcGISProfile>
<Service Sync="TRUE">ImageServices/Ky_Geologic_Quadrangle_Maps</Service>
<ServiceType Sync="TRUE">image</ServiceType>
</Esri>
<idinfo>
<native>Microsoft Windows NT Version 4.0 (Build 1381) Service Pack 6; ESRI ArcCatalog 8.2.0.700</native>
<descript>
<langdata Sync="TRUE">en</langdata>
<abstract>&lt;DIV STYLE="text-align:Left;"&gt;&lt;DIV&gt;&lt;P&gt;&lt;SPAN&gt;7.5' Geologic Quadrangle map images for Kentucky. Scanned at 250dpi, 24-bit color. Most georeferenced to Kentucky State Plane Single Zone, NAD 83.&lt;/SPAN&gt;&lt;/P&gt;&lt;/DIV&gt;&lt;/DIV&gt;</abstract>
<purpose>To provide access to large-scale geology maps in digital format.</purpose>
</descript>
<citation>
<citeinfo>
<origin>Kentucky Geological Survey, U.S. Geological Survey</origin>
<pubdate>2000</pubdate>
<title>GQMAPS</title>
<ftname Sync="TRUE">kyraster.SDE.GQMAPS</ftname>
<geoform>raster digital data</geoform>
<pubtime>2000</pubtime>
<pubinfo>
<pubplace>Lexington, KY</pubplace>
<publish>Kentucky Geological Survey</publish>
</pubinfo>
</citeinfo>
</citation>
<timeperd>
<current>publication date</current>
<timeinfo>
<rngdates>
<begdate>unknown</begdate>
<enddate>unknown</enddate>
</rngdates>
</timeinfo>
</timeperd>
<status>
<progress>Complete</progress>
<update>None planned</update>
</status>
<spdom>
<bounding>
<westbc>-89.411455</westbc>
<eastbc>-81.943806</eastbc>
<northbc>39.145480</northbc>
<southbc>36.407966</southbc>
</bounding>
<lboundng>
<leftbc Sync="TRUE">3797606.666667</leftbc>
<rightbc Sync="TRUE">6018733.333334</rightbc>
<bottombc Sync="TRUE">3344533.333332</bottombc>
<topbc Sync="TRUE">4307873.333332</topbc>
</lboundng>
</spdom>
<keywords>
<theme>
<themekt>ArcIMS Metadata Theme Codes</themekt>
<themekey>geoscientificinformation</themekey>
<themekey>geology</themekey>
<themekey>economy</themekey>
<themekey>environment</themekey>
<themekey>minerals</themekey>
<themekey>gas</themekey>
<themekey>oil</themekey>
<themekey>coal</themekey>
<themekey>imageryBaseMapsEarthCover</themekey>
<themekey>quadrangle</themekey>
</theme>
<place>
<placekey>kentucky</placekey>
</place>
</keywords>
<accconst>None</accconst>
<useconst>None</useconst>
<natvform Sync="TRUE">SDE Raster Dataset</natvform>
<ptcontac>
<cntinfo>
<cntorgp>
<cntorg>Kentucky Geological Survey</cntorg>
<cntper>Dan Carey</cntper>
</cntorgp>
<cntpos>Geospatial Analysis</cntpos>
<cntaddr>
<addrtype>mailing and physical address</addrtype>
<address>Kentucky Geological Survey</address>
<city>Lexington</city>
<state>Kentucky</state>
<postal>40506-0107</postal>
<country>USA</country>
<address>228 Mining and Mineral Resources Building</address>
<address>University of Kentucky</address>
</cntaddr>
<cntvoice>859-257-5500</cntvoice>
<cntfax>859-257-1147</cntfax>
<cntemail>carey@kgs.mm.uky.edu</cntemail>
<hours>M-F 8:00AM - 4:30PM</hours>
<cntinst>Call or E-mail</cntinst>
</cntinfo>
</ptcontac>
<crossref>
<citeinfo>
<title>7.5-minute Geologic Quadrangle Map Images in MrSid Format (KY Single Zone)</title>
<origin>Kentucky Geological Survey</origin>
<pubdate>2000</pubdate>
<pubtime>2000</pubtime>
<pubinfo>
<pubplace>Lexington, KY</pubplace>
<publish>Kentucky Geological Survey</publish>
</pubinfo>
<onlink>http://kymartian.ky.gov/gqmaps1z/index.html</onlink>
</citeinfo>
</crossref>
<datacred>Kentucky Geological Survey, U.S. Geological Survey</datacred>
</idinfo>
<dataIdInfo>
<dataLang>
<languageCode Sync="TRUE" value="eng"/>
<countryCode Sync="TRUE" value="USA"/>
</dataLang>
<idCitation>
<resTitle Sync="TRUE">Ky_Geologic_Quadrangle_Maps</resTitle>
<presForm>
<PresFormCd Sync="TRUE" value="011"/>
</presForm>
</idCitation>
<spatRpType>
<SpatRepTypCd Sync="TRUE" value="002"/>
</spatRpType>
<dataExt>
<geoEle>
<GeoBndBox esriExtentType="native">
<westBL Sync="TRUE">3797606.666667</westBL>
<eastBL Sync="TRUE">6018733.333334</eastBL>
<northBL Sync="TRUE">4307873.333332</northBL>
<southBL Sync="TRUE">3344533.333332</southBL>
<exTypeCode Sync="TRUE">1</exTypeCode>
</GeoBndBox>
</geoEle>
</dataExt>
<geoBox esriExtentType="decdegrees">
<westBL Sync="TRUE">-89.709213</westBL>
<eastBL Sync="TRUE">-81.882856</eastBL>
<northBL Sync="TRUE">39.153724</northBL>
<southBL Sync="TRUE">36.445094</southBL>
<exTypeCode Sync="TRUE">1</exTypeCode>
</geoBox>
<dataExt>
<geoEle>
<GeoBndBox esriExtentType="search">
<exTypeCode Sync="TRUE">1</exTypeCode>
<westBL Sync="TRUE">-89.709213</westBL>
<eastBL Sync="TRUE">-81.882856</eastBL>
<northBL Sync="TRUE">39.153724</northBL>
<southBL Sync="TRUE">36.445094</southBL>
</GeoBndBox>
</geoEle>
</dataExt>
<idPurp>Large-scale geology maps published by the Kentucky Geological Survey (KGS). 7.5' Geologic Quadrangle map images for Kentucky. Scanned at 250dpi, 24-bit color. Most georeferenced to Kentucky State Plane Single Zone, NAD 83.</idPurp>
<idAbs>&lt;DIV STYLE="text-align:Left;"&gt;&lt;DIV&gt;&lt;P&gt;&lt;SPAN&gt;7.5' Geologic Quadrangle map images for Kentucky. Scanned at 250dpi, 24-bit color. Most georeferenced to Kentucky State Plane Single Zone, NAD 83.&lt;/SPAN&gt;&lt;/P&gt;&lt;/DIV&gt;&lt;/DIV&gt;</idAbs>
<idCredit>Kentucky Geological Survey, U.S. Geological Survey</idCredit>
<searchKeys>
<keyword>geoscientificinformation</keyword>
<keyword>geology</keyword>
<keyword>economy</keyword>
<keyword>environment</keyword>
<keyword>minerals</keyword>
<keyword>gas</keyword>
<keyword>oil</keyword>
<keyword>coal</keyword>
<keyword>imageryBaseMapsEarthCover</keyword>
<keyword>quadrangle</keyword>
</searchKeys>
<resConst>
<Consts>
<useLimit>&lt;DIV STYLE="text-align:Left;"&gt;&lt;DIV&gt;&lt;P&gt;&lt;SPAN&gt;None&lt;/SPAN&gt;&lt;/P&gt;&lt;/DIV&gt;&lt;/DIV&gt;</useLimit>
</Consts>
</resConst>
<envirDesc Sync="TRUE">Microsoft Windows Server 2008 R2 Version 6.1 (Build 7601) Service Pack 1; Esri ArcGIS 10.1.1.3143</envirDesc>
</dataIdInfo>
<metainfo>
<langmeta Sync="TRUE">en</langmeta>
<metstdn Sync="TRUE">FGDC Content Standards for Digital Geospatial Metadata</metstdn>
<metstdv Sync="TRUE">FGDC-STD-001-1998</metstdv>
<mettc Sync="TRUE">local time</mettc>
<metc>
<cntinfo>
<cntorgp>
<cntper>Dan Carey</cntper>
<cntorg>Kentucky Geological Survey</cntorg>
</cntorgp>
<cntaddr>
<addrtype>mailing and physical address</addrtype>
<city>Lexington</city>
<state>KY</state>
<postal>40506-0107</postal>
<address>Kentucky Geological Survey</address>
<address>228 Mining and Mineral Resources Building</address>
<address>University of Kentucky</address>
</cntaddr>
<cntvoice>859-257-5500</cntvoice>
<cntpos>Geospatial Analysis</cntpos>
<cntfax>859-257-1147</cntfax>
<cntemail>carey@kgs.mm.uky.edu</cntemail>
<hours>M-F 8:00AM - 4:30PM</hours>
<cntinst>Call or E-mail</cntinst>
</cntinfo>
</metc>
<metd Sync="TRUE">20100112</metd>
</metainfo>
<mdLang>
<languageCode Sync="TRUE" value="eng"/>
<countryCode Sync="TRUE" value="USA"/>
</mdLang>
<mdStanName Sync="TRUE">ISO 19115 Geographic Information - Metadata</mdStanName>
<mdStanVer Sync="TRUE">DIS_ESRI1.0</mdStanVer>
<mdChar>
<CharSetCd Sync="TRUE" value="004"/>
</mdChar>
<mdHrLv>
<ScopeCd Sync="TRUE" value="005"/>
</mdHrLv>
<mdHrLvName Sync="TRUE">dataset</mdHrLvName>
<distinfo>
<resdesc Sync="TRUE">Downloadable Data</resdesc>
<stdorder>
<digform>
<digtinfo>
<transize Sync="TRUE">6.070</transize>
<dssize Sync="TRUE">6.070</dssize>
</digtinfo>
</digform>
</stdorder>
</distinfo>
<distInfo>
<distributor>
<distorTran>
<onLineSrc>
<orDesc Sync="TRUE">002</orDesc>
<protocol Sync="TRUE">ArcSDE Connection</protocol>
</onLineSrc>
<transSize Sync="TRUE">6.070</transSize>
</distorTran>
<distorFormat>
<formatName Sync="TRUE">SDE Raster Dataset</formatName>
</distorFormat>
</distributor>
<distFormat>
<formatName Sync="TRUE">File Geodatabase Raster Dataset</formatName>
</distFormat>
</distInfo>
<spdoinfo>
<direct Sync="TRUE">Raster</direct>
<rastinfo>
<rasttype Sync="TRUE">Pixel</rasttype>
<rowcount Sync="TRUE">144501</rowcount>
<colcount Sync="TRUE">333169</colcount>
<rastxsz Sync="TRUE">6.666667</rastxsz>
<rastysz Sync="TRUE">6.666667</rastysz>
<rastbpp Sync="TRUE">8</rastbpp>
<vrtcount Sync="TRUE">1</vrtcount>
<rastorig Sync="TRUE">Upper Left</rastorig>
<rastcmap Sync="TRUE">TRUE</rastcmap>
<rastcomp Sync="TRUE">LZ77</rastcomp>
<rastband Sync="TRUE">1</rastband>
<rastdtyp Sync="TRUE">pixel codes</rastdtyp>
<rastplyr Sync="TRUE">TRUE</rastplyr>
<rastifor Sync="TRUE">FGDBR</rastifor>
</rastinfo>
</spdoinfo>
<spatRepInfo>
<GridSpatRep>
<numDims Sync="TRUE">2</numDims>
<cellGeo>
<CellGeoCd Sync="TRUE" value="002"/>
</cellGeo>
<tranParaAv Sync="TRUE">1</tranParaAv>
<axDimProps>
<Dimen>
<dimName>
<DimNameTypCd Sync="TRUE" value="002"/>
</dimName>
<dimSize Sync="TRUE">7953</dimSize>
<dimResol>
<value Sync="TRUE">8.004571</value>
<uom>
<UomLength>
<uomName Sync="TRUE">unknown</uomName>
</UomLength>
</uom>
</dimResol>
</Dimen>
<Dimen>
<dimName>
<DimNameTypCd Sync="TRUE" value="001"/>
</dimName>
<dimSize Sync="TRUE">7217</dimSize>
<dimResol>
<value Sync="TRUE">8.004571</value>
<uom>
<UomLength>
<uomName Sync="TRUE">unknown</uomName>
</UomLength>
</uom>
</dimResol>
</Dimen>
</axDimProps>
</GridSpatRep>
</spatRepInfo>
<spref>
<horizsys>
<planar>
<planci>
<plance Sync="TRUE">row and column</plance>
<coordrep>
<absres Sync="TRUE">6.666667</absres>
<ordres Sync="TRUE">6.666667</ordres>
</coordrep>
<plandu Sync="TRUE">survey feet</plandu>
</planci>
</planar>
<cordsysn>
<geogcsn Sync="TRUE">GCS_North_American_1983</geogcsn>
<projcsn Sync="TRUE">NAD_1983_StatePlane_Kentucky_FIPS_1600_Feet</projcsn>
</cordsysn>
<geodetic>
<horizdn Sync="TRUE">North American Datum of 1983</horizdn>
<ellips Sync="TRUE">Geodetic Reference System 80</ellips>
<semiaxis Sync="TRUE">6378137.000000</semiaxis>
<denflat Sync="TRUE">298.257222</denflat>
</geodetic>
</horizsys>
<vertdef>
<altsys>
<altenc Sync="TRUE">Explicit elevation coordinate included with horizontal coordinates</altenc>
<altres Sync="TRUE">1.000000</altres>
</altsys>
</vertdef>
</spref>
<eainfo>
<detailed Name="Band_1">
<enttyp>
<enttypl Sync="TRUE">Band_1</enttypl>
<enttypt Sync="TRUE">Table</enttypt>
<enttypc Sync="TRUE">256</enttypc>
</enttyp>
<attr>
<attrlabl Sync="TRUE">ObjectID</attrlabl>
<attalias Sync="TRUE">ObjectID</attalias>
<attrtype Sync="TRUE">OID</attrtype>
<attwidth Sync="TRUE">4</attwidth>
<atprecis Sync="TRUE">0</atprecis>
<attscale Sync="TRUE">0</attscale>
<attrdef Sync="TRUE">Internal feature number.</attrdef>
<attrdefs Sync="TRUE">ESRI</attrdefs>
<attrdomv>
<udom Sync="TRUE">Sequential unique whole numbers that are automatically generated.</udom>
</attrdomv>
</attr>
<attr>
<attrlabl Sync="TRUE">Value</attrlabl>
<attalias Sync="TRUE">Value</attalias>
<attrtype Sync="TRUE">Integer</attrtype>
<attwidth Sync="TRUE">0</attwidth>
<atprecis Sync="TRUE">0</atprecis>
<attscale Sync="TRUE">0</attscale>
</attr>
<attr>
<attrlabl Sync="TRUE">Count</attrlabl>
<attalias Sync="TRUE">Count</attalias>
<attrtype Sync="TRUE">Integer</attrtype>
<attwidth Sync="TRUE">0</attwidth>
<atprecis Sync="TRUE">0</atprecis>
<attscale Sync="TRUE">0</attscale>
</attr>
</detailed>
<detailed Name="Band_2">
<enttyp>
<enttypl Sync="TRUE">Band_2</enttypl>
<enttypt Sync="TRUE">Table</enttypt>
<enttypc Sync="TRUE">256</enttypc>
</enttyp>
<attr>
<attrlabl Sync="TRUE">ObjectID</attrlabl>
<attalias Sync="TRUE">ObjectID</attalias>
<attrtype Sync="TRUE">OID</attrtype>
<attwidth Sync="TRUE">4</attwidth>
<atprecis Sync="TRUE">0</atprecis>
<attscale Sync="TRUE">0</attscale>
<attrdef Sync="TRUE">Internal feature number.</attrdef>
<attrdefs Sync="TRUE">ESRI</attrdefs>
<attrdomv>
<udom Sync="TRUE">Sequential unique whole numbers that are automatically generated.</udom>
</attrdomv>
</attr>
<attr>
<attrlabl Sync="TRUE">Value</attrlabl>
<attalias Sync="TRUE">Value</attalias>
<attrtype Sync="TRUE">Integer</attrtype>
<attwidth Sync="TRUE">0</attwidth>
<atprecis Sync="TRUE">0</atprecis>
<attscale Sync="TRUE">0</attscale>
</attr>
<attr>
<attrlabl Sync="TRUE">Count</attrlabl>
<attalias Sync="TRUE">Count</attalias>
<attrtype Sync="TRUE">Integer</attrtype>
<attwidth Sync="TRUE">0</attwidth>
<atprecis Sync="TRUE">0</atprecis>
<attscale Sync="TRUE">0</attscale>
</attr>
</detailed>
<detailed Name="Band_3">
<enttyp>
<enttypl Sync="TRUE">Band_3</enttypl>
<enttypt Sync="TRUE">Table</enttypt>
<enttypc Sync="TRUE">255</enttypc>
</enttyp>
<attr>
<attrlabl Sync="TRUE">ObjectID</attrlabl>
<attalias Sync="TRUE">ObjectID</attalias>
<attrtype Sync="TRUE">OID</attrtype>
<attwidth Sync="TRUE">4</attwidth>
<atprecis Sync="TRUE">0</atprecis>
<attscale Sync="TRUE">0</attscale>
<attrdef Sync="TRUE">Internal feature number.</attrdef>
<attrdefs Sync="TRUE">ESRI</attrdefs>
<attrdomv>
<udom Sync="TRUE">Sequential unique whole numbers that are automatically generated.</udom>
</attrdomv>
</attr>
<attr>
<attrlabl Sync="TRUE">Value</attrlabl>
<attalias Sync="TRUE">Value</attalias>
<attrtype Sync="TRUE">Integer</attrtype>
<attwidth Sync="TRUE">0</attwidth>
<atprecis Sync="TRUE">0</atprecis>
<attscale Sync="TRUE">0</attscale>
</attr>
<attr>
<attrlabl Sync="TRUE">Count</attrlabl>
<attalias Sync="TRUE">Count</attalias>
<attrtype Sync="TRUE">Integer</attrtype>
<attwidth Sync="TRUE">0</attwidth>
<atprecis Sync="TRUE">0</atprecis>
<attscale Sync="TRUE">0</attscale>
</attr>
</detailed>
</eainfo>
<mdDateSt Sync="TRUE">20150727</mdDateSt>
<mdFileID Sync="TRUE">{523277B7-8197-4E58-938F-647DE50C3E2C}</mdFileID>
<dataqual>
<lineage>
<procstep>
<procdesc Sync="TRUE">Metadata imported.</procdesc>
<date Sync="TRUE">20080208</date>
<time Sync="TRUE">08293900</time>
</procstep>
<procstep>
<procdesc Sync="TRUE">Metadata imported.</procdesc>
<date Sync="TRUE">20080208</date>
<time Sync="TRUE">08365800</time>
</procstep>
</lineage>
</dataqual>
<refSysInfo>
<RefSystem>
<refSysID>
<identCode Sync="TRUE" code="3089">NAD_1983_StatePlane_Kentucky_FIPS_1600_Feet</identCode>
<idCodeSpace Sync="TRUE">EPSG</idCodeSpace>
<idVersion Sync="TRUE">7.11.2</idVersion>
</refSysID>
</RefSystem>
</refSysInfo>
</metadata>
